BEGIN:VCALENDAR
VERSION:2.0
PRODID:-//jEvents 2.0 for Joomla//EN
CALSCALE:GREGORIAN
METHOD:PUBLISH
BEGIN:VTIMEZONE
TZID:Europe/London
BEGIN:STANDARD
DTSTART:20241031T100000
RDATE:20250330T020000
TZOFFSETFROM:+0100
TZOFFSETTO:+0000
TZNAME:Europe/London GMT
END:STANDARD
BEGIN:STANDARD
DTSTART:20251026T010000
RDATE:20260329T020000
TZOFFSETFROM:+0100
TZOFFSETTO:+0000
TZNAME:Europe/London GMT
END:STANDARD
BEGIN:STANDARD
DTSTART:20261025T010000
RDATE:20270328T020000
TZOFFSETFROM:+0100
TZOFFSETTO:+0000
TZNAME:Europe/London GMT
END:STANDARD
BEGIN:STANDARD
DTSTART:20271031T010000
RDATE:20280326T020000
TZOFFSETFROM:+0100
TZOFFSETTO:+0000
TZNAME:Europe/London GMT
END:STANDARD
BEGIN:STANDARD
DTSTART:20281029T010000
RDATE:20290325T020000
TZOFFSETFROM:+0100
TZOFFSETTO:+0000
TZNAME:Europe/London GMT
END:STANDARD
BEGIN:STANDARD
DTSTART:20291028T010000
RDATE:20300331T020000
TZOFFSETFROM:+0100
TZOFFSETTO:+0000
TZNAME:Europe/London GMT
END:STANDARD
BEGIN:STANDARD
DTSTART:20301027T010000
RDATE:20310330T020000
TZOFFSETFROM:+0100
TZOFFSETTO:+0000
TZNAME:Europe/London GMT
END:STANDARD
BEGIN:DAYLIGHT
DTSTART:20250330T020000
RDATE:20251026T010000
TZOFFSETFROM:+0000
TZOFFSETTO:+0100
TZNAME:Europe/London BST
END:DAYLIGHT
BEGIN:DAYLIGHT
DTSTART:20260329T020000
RDATE:20261025T010000
TZOFFSETFROM:+0000
TZOFFSETTO:+0100
TZNAME:Europe/London BST
END:DAYLIGHT
BEGIN:DAYLIGHT
DTSTART:20270328T020000
RDATE:20271031T010000
TZOFFSETFROM:+0000
TZOFFSETTO:+0100
TZNAME:Europe/London BST
END:DAYLIGHT
BEGIN:DAYLIGHT
DTSTART:20280326T020000
RDATE:20281029T010000
TZOFFSETFROM:+0000
TZOFFSETTO:+0100
TZNAME:Europe/London BST
END:DAYLIGHT
BEGIN:DAYLIGHT
DTSTART:20290325T020000
RDATE:20291028T010000
TZOFFSETFROM:+0000
TZOFFSETTO:+0100
TZNAME:Europe/London BST
END:DAYLIGHT
BEGIN:DAYLIGHT
DTSTART:20300331T020000
RDATE:20301027T010000
TZOFFSETFROM:+0000
TZOFFSETTO:+0100
TZNAME:Europe/London BST
END:DAYLIGHT
END:VTIMEZONE
BEGIN:VEVENT
UID:1885900e3ea7dfdc4a3aefa4b5667cff
CATEGORIES:North
CREATED:20250729T143350
SUMMARY:Ringing with Coffee and Cake!
LOCATION:Balcombe; St. Mary
URL;VALUE=URI:https://scacr.org/news-events/calendar/1490/ringing-with-coffee-and-cake?tm
 pl=component
DESCRIPTION:<p>Join us from 10:00am - 12:00pm, on Saturday 1st November, at Balcombe, S
 t. Mary (8, 9-0-10cwt), for a morning of ringing with delicious coffee and 
 cake!</p><div>Ringing is tailored to suit all,&nbsp;including rounds on 8 o
 nwards, Call Changes, Grandsire, Stedman, and even Surprise Major (subject 
 to available experience)!</div><div>&nbsp;</div><div><span style="color: #f
 f0000;">To allow us to plan for expected numbers (<em>and to provide enough
  cake!!</em>), if you do plan to join us we kindly request you complete <a 
 href="https://forms.gle/QXqSA4G3gQSDuzuG9"><span style="text-decoration: un
 derline; color: #0000ff;"><strong>this short form</strong></span></a> befor
 e attending</span>. A small tower donation of £2 is kindly requested for ca
 tering and the use of the bells.&nbsp;</div><div>&nbsp;</div><div>For any q
 uestions, please don't hesitate to reach out to Tom at <a href="mailto:sec-
 north@scacr.org."><span id="cloak68b39d4660c99cffcbb6edae04f0f01d">This ema
 il address is being protected from spambots. You need JavaScript enabled to
  view it.</span><script type='text/javascript'>
				document.getElementById
 ('cloak68b39d4660c99cffcbb6edae04f0f01d').innerHTML = '';
				var prefix = 
 '&#109;a' + 'i&#108;' + '&#116;o';
				var path = 'hr' + 'ef' + '=';
				va
 r addy68b39d4660c99cffcbb6edae04f0f01d = 's&#101;c-n&#111;rth' + '&#64;';
	
 			addy68b39d4660c99cffcbb6edae04f0f01d = addy68b39d4660c99cffcbb6edae04f0f
 01d + 'sc&#97;cr' + '&#46;' + '&#111;rg';
				var addy_text68b39d4660c99cff
 cbb6edae04f0f01d = 's&#101;c-n&#111;rth' + '&#64;' + 'sc&#97;cr' + '&#46;' 
 + '&#111;rg';document.getElementById('cloak68b39d4660c99cffcbb6edae04f0f01d
 ').innerHTML += '<a ' + path + '\'' + prefix + ':' + addy68b39d4660c99cffcb
 b6edae04f0f01d + '\'>'+addy_text68b39d4660c99cffcbb6edae04f0f01d+'<\/a>';
	
 	</script>.</a> We look forward to seeing you there!&nbsp;</div> <a href="h
 ttps://scacr.org/news-events/calendar/1490/ringing-with-coffee-and-cake?tmp
 l=component">This event was imported from: https://scacr.org/news-events/ca
 lendar/1490/ringing-with-coffee-and-cake?tmpl=component</a>CONTACT:This email address is being protected from spambots. You need JavaScript enabled to view it.
				document.getElementById('cloak91ff1892fb70a9bba18d336053729722').innerHTML = '';
				var prefix = '&#109;a' + 'i&#108;' + '&#116;o';
				var path = 'hr' + 'ef' + '=';
				var addy91ff1892fb70a9bba18d336053729722 = 's&#101;c-n&#111;rth' + '&#64;';
				addy91ff1892fb70a9bba18d336053729722 = addy91ff1892fb70a9bba18d336053729722 + 'sc&#97;cr' + '&#46;' + '&#111;rg';
				var addy_text91ff1892fb70a9bba18d336053729722 = 's&#101;c-n&#111;rth' + '&#64;' + 'sc&#97;cr' + '&#46;' + '&#111;rg';document.getElementById('cloak91ff1892fb70a9bba18d336053729722').innerHTML += '<a ' + path + '\'' + prefix + ':' + addy91ff1892fb70a9bba18d336053729722 + '\'>'+addy_text91ff1892fb70a9bba18d336053729722+'';
		
DTSTAMP:20260422T203527
DTSTART;TZID=Europe/London:20251101T100000
DTEND;TZID=Europe/London:20251101T120000
SEQUENCE:0
TRANSP:OPAQUE
END:VEVENT
END:VCALENDAR