BEGIN:VCALENDAR
VERSION:2.0
PRODID:-//jEvents 2.0 for Joomla//EN
CALSCALE:GREGORIAN
METHOD:PUBLISH
BEGIN:VTIMEZONE
TZID:Europe/London
BEGIN:STANDARD
DTSTART:20241205T100000
RDATE:20250330T020000
TZOFFSETFROM:+0100
TZOFFSETTO:+0000
TZNAME:Europe/London GMT
END:STANDARD
BEGIN:STANDARD
DTSTART:20251026T010000
RDATE:20260329T020000
TZOFFSETFROM:+0100
TZOFFSETTO:+0000
TZNAME:Europe/London GMT
END:STANDARD
BEGIN:STANDARD
DTSTART:20261025T010000
RDATE:20270328T020000
TZOFFSETFROM:+0100
TZOFFSETTO:+0000
TZNAME:Europe/London GMT
END:STANDARD
BEGIN:STANDARD
DTSTART:20271031T010000
RDATE:20280326T020000
TZOFFSETFROM:+0100
TZOFFSETTO:+0000
TZNAME:Europe/London GMT
END:STANDARD
BEGIN:STANDARD
DTSTART:20281029T010000
RDATE:20290325T020000
TZOFFSETFROM:+0100
TZOFFSETTO:+0000
TZNAME:Europe/London GMT
END:STANDARD
BEGIN:STANDARD
DTSTART:20291028T010000
RDATE:20300331T020000
TZOFFSETFROM:+0100
TZOFFSETTO:+0000
TZNAME:Europe/London GMT
END:STANDARD
BEGIN:STANDARD
DTSTART:20301027T010000
RDATE:20310330T020000
TZOFFSETFROM:+0100
TZOFFSETTO:+0000
TZNAME:Europe/London GMT
END:STANDARD
BEGIN:DAYLIGHT
DTSTART:20250330T020000
RDATE:20251026T010000
TZOFFSETFROM:+0000
TZOFFSETTO:+0100
TZNAME:Europe/London BST
END:DAYLIGHT
BEGIN:DAYLIGHT
DTSTART:20260329T020000
RDATE:20261025T010000
TZOFFSETFROM:+0000
TZOFFSETTO:+0100
TZNAME:Europe/London BST
END:DAYLIGHT
BEGIN:DAYLIGHT
DTSTART:20270328T020000
RDATE:20271031T010000
TZOFFSETFROM:+0000
TZOFFSETTO:+0100
TZNAME:Europe/London BST
END:DAYLIGHT
BEGIN:DAYLIGHT
DTSTART:20280326T020000
RDATE:20281029T010000
TZOFFSETFROM:+0000
TZOFFSETTO:+0100
TZNAME:Europe/London BST
END:DAYLIGHT
BEGIN:DAYLIGHT
DTSTART:20290325T020000
RDATE:20291028T010000
TZOFFSETFROM:+0000
TZOFFSETTO:+0100
TZNAME:Europe/London BST
END:DAYLIGHT
BEGIN:DAYLIGHT
DTSTART:20300331T020000
RDATE:20301027T010000
TZOFFSETFROM:+0000
TZOFFSETTO:+0100
TZNAME:Europe/London BST
END:DAYLIGHT
END:VTIMEZONE
BEGIN:VEVENT
UID:00f9dd77e3bf253f99f26916efbcec51
CATEGORIES:North
CREATED:20250729T145314
SUMMARY:Ringing with Mince Pies and Mulled Wine!
LOCATION:Lower Beeding\, Holy Trinity
URL;VALUE=URI:https://scacr.org/news-events/calendar/1491/ringing-with-mince-pies-and-mul
 led-wine?tmpl=component
DESCRIPTION:<p>Join us on Saturday 6th December, from 10:00am - 12:00pm, at Lower Beedi
 ng, Holy Trinity (8, 10-3-2-cwt) as the Northern District hosts our festive
  Ringing with Mince Pies and Mulled Wine morning!&nbsp;</p><div>Alongside d
 elicious mince pies and warm mulled wine, is a morning of ringing to suit a
 ll; including rounds on 8 onwards, with Call Changes, Grandsire, Stedman, a
 nd even Surprise Major (subject to available experience)! A small donation 
 of £2 is kindly requested for catering and the use of the tower.</div><div>
 &nbsp;</div><div><span style="color: #ff0000;">Ringing with Mince Pies and 
 Mulled Wine is one of our most popular ND events, so if you plan to join us
  we do kindly request you please fill in <a href="https://forms.gle/LpP6XcE
 9aP2v6KDa8"><span style="text-decoration: underline; color: #0000ff;"><stro
 ng>this short form</strong></span></a>, to allow us to plan for expected nu
 mbers.&nbsp;</span></div><div>&nbsp;</div><div>For any questions, please do
 n't hesistate to reach out to Tom at <a href="mailto:sec-north@scacr.org.">
 <span id="cloak703253cc57302d6058907581dc8d1bc1">This email address is bein
 g protected from spambots. You need JavaScript enabled to view it.</span><s
 cript type='text/javascript'>
				document.getElementById('cloak703253cc573
 02d6058907581dc8d1bc1').innerHTML = '';
				var prefix = '&#109;a' + 'i&#10
 8;' + '&#116;o';
				var path = 'hr' + 'ef' + '=';
				var addy703253cc5730
 2d6058907581dc8d1bc1 = 's&#101;c-n&#111;rth' + '&#64;';
				addy703253cc573
 02d6058907581dc8d1bc1 = addy703253cc57302d6058907581dc8d1bc1 + 'sc&#97;cr' 
 + '&#46;' + '&#111;rg';
				var addy_text703253cc57302d6058907581dc8d1bc1 =
  's&#101;c-n&#111;rth' + '&#64;' + 'sc&#97;cr' + '&#46;' + '&#111;rg';docum
 ent.getElementById('cloak703253cc57302d6058907581dc8d1bc1').innerHTML += '<
 a ' + path + '\'' + prefix + ':' + addy703253cc57302d6058907581dc8d1bc1 + '
 \'>'+addy_text703253cc57302d6058907581dc8d1bc1+'<\/a>';
		</script>.</a> We
  look forward to seeing you there!&nbsp;</div> <a href="https://scacr.org/n
 ews-events/calendar/1491/ringing-with-mince-pies-and-mulled-wine?tmpl=compo
 nent">This event was imported from: https://scacr.org/news-events/calendar/
 1491/ringing-with-mince-pies-and-mulled-wine?tmpl=component</a>CONTACT:This email address is being protected from spambots. You need JavaScript enabled to view it.
				document.getElementById('cloakb4199ce6fba298d377f6045684eb014b').innerHTML = '';
				var prefix = '&#109;a' + 'i&#108;' + '&#116;o';
				var path = 'hr' + 'ef' + '=';
				var addyb4199ce6fba298d377f6045684eb014b = 's&#101;c-n&#111;rth' + '&#64;';
				addyb4199ce6fba298d377f6045684eb014b = addyb4199ce6fba298d377f6045684eb014b + 'sc&#97;cr' + '&#46;' + '&#111;rg';
				var addy_textb4199ce6fba298d377f6045684eb014b = 's&#101;c-n&#111;rth' + '&#64;' + 'sc&#97;cr' + '&#46;' + '&#111;rg';document.getElementById('cloakb4199ce6fba298d377f6045684eb014b').innerHTML += '<a ' + path + '\'' + prefix + ':' + addyb4199ce6fba298d377f6045684eb014b + '\'>'+addy_textb4199ce6fba298d377f6045684eb014b+'';
		
DTSTAMP:20260424T075620
DTSTART;TZID=Europe/London:20251206T100000
DTEND;TZID=Europe/London:20251206T120000
SEQUENCE:0
TRANSP:OPAQUE
END:VEVENT
END:VCALENDAR