BEGIN:VCALENDAR
VERSION:2.0
PRODID:-//jEvents 2.0 for Joomla//EN
CALSCALE:GREGORIAN
METHOD:PUBLISH
BEGIN:VTIMEZONE
TZID:Europe/London
BEGIN:STANDARD
DTSTART:20241027T010000
RDATE:20250330T020000
TZOFFSETFROM:+0100
TZOFFSETTO:+0000
TZNAME:Europe/London GMT
END:STANDARD
BEGIN:STANDARD
DTSTART:20251026T010000
RDATE:20260329T020000
TZOFFSETFROM:+0100
TZOFFSETTO:+0000
TZNAME:Europe/London GMT
END:STANDARD
BEGIN:STANDARD
DTSTART:20261025T010000
RDATE:20270328T020000
TZOFFSETFROM:+0100
TZOFFSETTO:+0000
TZNAME:Europe/London GMT
END:STANDARD
BEGIN:STANDARD
DTSTART:20271031T010000
RDATE:20280326T020000
TZOFFSETFROM:+0100
TZOFFSETTO:+0000
TZNAME:Europe/London GMT
END:STANDARD
BEGIN:STANDARD
DTSTART:20281029T010000
RDATE:20290325T020000
TZOFFSETFROM:+0100
TZOFFSETTO:+0000
TZNAME:Europe/London GMT
END:STANDARD
BEGIN:STANDARD
DTSTART:20291028T010000
RDATE:20300331T020000
TZOFFSETFROM:+0100
TZOFFSETTO:+0000
TZNAME:Europe/London GMT
END:STANDARD
BEGIN:STANDARD
DTSTART:20301027T010000
RDATE:20310330T020000
TZOFFSETFROM:+0100
TZOFFSETTO:+0000
TZNAME:Europe/London GMT
END:STANDARD
BEGIN:DAYLIGHT
DTSTART:20240919T100000
RDATE:20241027T010000
TZOFFSETFROM:+0000
TZOFFSETTO:+0100
TZNAME:Europe/London BST
END:DAYLIGHT
BEGIN:DAYLIGHT
DTSTART:20250330T020000
RDATE:20251026T010000
TZOFFSETFROM:+0000
TZOFFSETTO:+0100
TZNAME:Europe/London BST
END:DAYLIGHT
BEGIN:DAYLIGHT
DTSTART:20260329T020000
RDATE:20261025T010000
TZOFFSETFROM:+0000
TZOFFSETTO:+0100
TZNAME:Europe/London BST
END:DAYLIGHT
BEGIN:DAYLIGHT
DTSTART:20270328T020000
RDATE:20271031T010000
TZOFFSETFROM:+0000
TZOFFSETTO:+0100
TZNAME:Europe/London BST
END:DAYLIGHT
BEGIN:DAYLIGHT
DTSTART:20280326T020000
RDATE:20281029T010000
TZOFFSETFROM:+0000
TZOFFSETTO:+0100
TZNAME:Europe/London BST
END:DAYLIGHT
BEGIN:DAYLIGHT
DTSTART:20290325T020000
RDATE:20291028T010000
TZOFFSETFROM:+0000
TZOFFSETTO:+0100
TZNAME:Europe/London BST
END:DAYLIGHT
BEGIN:DAYLIGHT
DTSTART:20300331T020000
RDATE:20301027T010000
TZOFFSETFROM:+0000
TZOFFSETTO:+0100
TZNAME:Europe/London BST
END:DAYLIGHT
END:VTIMEZONE
BEGIN:VEVENT
UID:df1278ca16fbc6efe47dd2622220405d
CATEGORIES:South
CREATED:20250729T173124
SUMMARY:Rounds and onwards
LOCATION:St Peter and St John Wivelsfield and St John's  Burgess Hill
URL;VALUE=URI:https://scacr.org/news-events/calendar/1492/rounds-and-onwards?tmpl=compone
 nt
DESCRIPTION:<hr id="system-readmore" /><p>All welcome to general ringing at a lovely gr
 oup floor 6 in Wivelsfield then on to the beautiful 8 Bells of Burgess Hill
 . Come along and meet other ringers. If you would like to ring a specific m
 ethod please let me know and we will try to accommodate. &lt;br /&gt;</p><p
 >We will probably retire toa nearby pub for a lunchtime drink and chat</p> 
 <a href="https://scacr.org/news-events/calendar/1492/rounds-and-onwards?tmp
 l=component">This event was imported from: https://scacr.org/news-events/ca
 lendar/1492/rounds-and-onwards?tmpl=component</a>CONTACT:This email address is being protected from spambots. You need JavaScript enabled to view it.
				document.getElementById('cloakf961092244400d560c62707bf710b7cf').innerHTML = '';
				var prefix = '&#109;a' + 'i&#108;' + '&#116;o';
				var path = 'hr' + 'ef' + '=';
				var addyf961092244400d560c62707bf710b7cf = 'S&#101;c-s&#111;&#117;th' + '&#64;';
				addyf961092244400d560c62707bf710b7cf = addyf961092244400d560c62707bf710b7cf + 'sc&#97;cr' + '&#46;' + '&#111;rg';
				var addy_textf961092244400d560c62707bf710b7cf = 'S&#101;c-s&#111;&#117;th' + '&#64;' + 'sc&#97;cr' + '&#46;' + '&#111;rg';document.getElementById('cloakf961092244400d560c62707bf710b7cf').innerHTML += '<a ' + path + '\'' + prefix + ':' + addyf961092244400d560c62707bf710b7cf + '\'>'+addy_textf961092244400d560c62707bf710b7cf+'';
		
DTSTAMP:20260424T160548
DTSTART;TZID=Europe/London:20250920T100000
DTEND;TZID=Europe/London:20250920T120000
SEQUENCE:0
TRANSP:OPAQUE
END:VEVENT
END:VCALENDAR