BEGIN:VCALENDAR
VERSION:2.0
PRODID:-//jEvents 2.0 for Joomla//EN
CALSCALE:GREGORIAN
METHOD:PUBLISH
BEGIN:VTIMEZONE
TZID:Europe/London
BEGIN:STANDARD
DTSTART:20241027T010000
RDATE:20250330T020000
TZOFFSETFROM:+0100
TZOFFSETTO:+0000
TZNAME:Europe/London GMT
END:STANDARD
BEGIN:STANDARD
DTSTART:20251026T010000
RDATE:20260329T020000
TZOFFSETFROM:+0100
TZOFFSETTO:+0000
TZNAME:Europe/London GMT
END:STANDARD
BEGIN:STANDARD
DTSTART:20261025T010000
RDATE:20270328T020000
TZOFFSETFROM:+0100
TZOFFSETTO:+0000
TZNAME:Europe/London GMT
END:STANDARD
BEGIN:STANDARD
DTSTART:20271031T010000
RDATE:20280326T020000
TZOFFSETFROM:+0100
TZOFFSETTO:+0000
TZNAME:Europe/London GMT
END:STANDARD
BEGIN:STANDARD
DTSTART:20281029T010000
RDATE:20290325T020000
TZOFFSETFROM:+0100
TZOFFSETTO:+0000
TZNAME:Europe/London GMT
END:STANDARD
BEGIN:STANDARD
DTSTART:20291028T010000
RDATE:20300331T020000
TZOFFSETFROM:+0100
TZOFFSETTO:+0000
TZNAME:Europe/London GMT
END:STANDARD
BEGIN:STANDARD
DTSTART:20301027T010000
RDATE:20310330T020000
TZOFFSETFROM:+0100
TZOFFSETTO:+0000
TZNAME:Europe/London GMT
END:STANDARD
BEGIN:DAYLIGHT
DTSTART:20240828T193000
RDATE:20241027T010000
TZOFFSETFROM:+0000
TZOFFSETTO:+0100
TZNAME:Europe/London BST
END:DAYLIGHT
BEGIN:DAYLIGHT
DTSTART:20250330T020000
RDATE:20251026T010000
TZOFFSETFROM:+0000
TZOFFSETTO:+0100
TZNAME:Europe/London BST
END:DAYLIGHT
BEGIN:DAYLIGHT
DTSTART:20260329T020000
RDATE:20261025T010000
TZOFFSETFROM:+0000
TZOFFSETTO:+0100
TZNAME:Europe/London BST
END:DAYLIGHT
BEGIN:DAYLIGHT
DTSTART:20270328T020000
RDATE:20271031T010000
TZOFFSETFROM:+0000
TZOFFSETTO:+0100
TZNAME:Europe/London BST
END:DAYLIGHT
BEGIN:DAYLIGHT
DTSTART:20280326T020000
RDATE:20281029T010000
TZOFFSETFROM:+0000
TZOFFSETTO:+0100
TZNAME:Europe/London BST
END:DAYLIGHT
BEGIN:DAYLIGHT
DTSTART:20290325T020000
RDATE:20291028T010000
TZOFFSETFROM:+0000
TZOFFSETTO:+0100
TZNAME:Europe/London BST
END:DAYLIGHT
BEGIN:DAYLIGHT
DTSTART:20300331T020000
RDATE:20301027T010000
TZOFFSETFROM:+0000
TZOFFSETTO:+0100
TZNAME:Europe/London BST
END:DAYLIGHT
END:VTIMEZONE
BEGIN:VEVENT
UID:df186615e577d6c8deff2f774efeec1b
CATEGORIES:Joint Event
CREATED:20250808T192913
SUMMARY:Joint Eastern and Southern Surprise Major Practice
LOCATION:Hailsham
URL;VALUE=URI:https://scacr.org/news-events/calendar/1494/joint-eastern-and-southern-surp
 rise-major-practice?tmpl=component
DESCRIPTION:There will be a Joint Eastern and Southern District Surprise Major at Hails
 ham Friday 29th August at 19:30\nIt is hoped the session will be of benefit
  for those taking steps in learning and ringing surprise major. \nMethod to
  be concentrated on this month: Turramurra\nHailsham church is centrally lo
 cated within the town centre, there are car parks either side of the High S
 treet which are free, just note any restrictions on time, which vary.  Plea
 se enter the church by the door on the north side, down the path to the lef
 t of the big doors at the bottom of the tower.  Please be on time as the ch
 urch needs to be secured.\nPlease contact Steve Pilfold (s (mailto:mchollan
 ds2@btinternet.com)This email address is being protected from spambots. You
  need JavaScript enabled to view it.
				document.getElementById('cloakd9dd
 37703d33b29e3de01e5cd5ccca61').innerHTML = '';
				var prefix = '&#109;a' +
  'i&#108;' + '&#116;o';
				var path = 'hr' + 'ef' + '=';
				var addyd9dd3
 7703d33b29e3de01e5cd5ccca61 = '&#101;c-&#101;&#97;st' + '&#64;';
				addyd9
 dd37703d33b29e3de01e5cd5ccca61 = addyd9dd37703d33b29e3de01e5cd5ccca61 + 'sc
 &#97;cr' + '&#46;' + '&#111;rg';
				var addy_textd9dd37703d33b29e3de01e5cd
 5ccca61 = '&#101;c-&#101;&#97;st' + '&#64;' + 'sc&#97;cr' + '&#46;' + '&#11
 1;rg';document.getElementById('cloakd9dd37703d33b29e3de01e5cd5ccca61').inne
 rHTML += '<a ' + path + '\'' + prefix + ':' + addyd9dd37703d33b29e3de01e5cd
 5ccca61 + '\'>'+addy_textd9dd37703d33b29e3de01e5cd5ccca61+'';
		) Eastern D
 istrict Secretary or Debbie Evans ( (mailto:sec-south@scacr.org) (mailto:se
 c-south@scacr.org)This email address is being protected from spambots. You 
 need JavaScript enabled to view it.
				document.getElementById('cloakb139f
 cb2bb6768a10aecf13b3429de5f').innerHTML = '';
				var prefix = '&#109;a' + 
 'i&#108;' + '&#116;o';
				var path = 'hr' + 'ef' + '=';
				var addyb139fc
 b2bb6768a10aecf13b3429de5f = 's&#101;c-s&#111;&#117;th' + '&#64;';
				addy
 b139fcb2bb6768a10aecf13b3429de5f = addyb139fcb2bb6768a10aecf13b3429de5f + '
 sc&#97;cr' + '&#46;' + '&#111;rg';
				var addy_textb139fcb2bb6768a10aecf13
 b3429de5f = 's&#101;c-s&#111;&#117;th' + '&#64;' + 'sc&#97;cr' + '&#46;' + 
 '&#111;rg';document.getElementById('cloakb139fcb2bb6768a10aecf13b3429de5f')
 .innerHTML += '<a ' + path + '\'' + prefix + ':' + addyb139fcb2bb6768a10aec
 f13b3429de5f + '\'>'+addy_textb139fcb2bb6768a10aecf13b3429de5f+'';
		 ) Sou
 thern District Secretary, if you wish to attend.\n This event was imported 
 from: https://scacr.org/news-events/calendar/1494/joint-eastern-and-souther
 n-surprise-major-practice?tmpl=component (https://scacr.org/news-events/cal
 endar/1494/joint-eastern-and-southern-surprise-major-practice?tmpl=componen
 t)
X-ALT-DESC;FMTTYPE=text/html:<p><strong>There will be a Joint Eastern and Southern District Surprise Maj
 or at Hailsham Friday 29th August at 19:30</strong></p><p>It is hoped the s
 ession will be of benefit for those taking steps in learning and ringing su
 rprise major.&nbsp;</p><p>Method to be concentrated on this month: Turramur
 ra</p><p>Hailsham church is centrally located within the town centre, there
  are car parks either side of the High Street which are free, just note any
  restrictions on time, which vary.&nbsp; Please enter the church by the doo
 r on the north side, down the path to the left of the big doors at the bott
 om of the tower.&nbsp; Please be on time as the church needs to be secured.
 </p><p>Please contact Steve Pilfold (<a href="mailto:mchollands2@btinternet
 .com">s</a><span id="cloakd9dd37703d33b29e3de01e5cd5ccca61">This email addr
 ess is being protected from spambots. You need JavaScript enabled to view i
 t.</span><script type='text/javascript'>
				document.getElementById('cloak
 d9dd37703d33b29e3de01e5cd5ccca61').innerHTML = '';
				var prefix = '&#109;
 a' + 'i&#108;' + '&#116;o';
				var path = 'hr' + 'ef' + '=';
				var addyd
 9dd37703d33b29e3de01e5cd5ccca61 = '&#101;c-&#101;&#97;st' + '&#64;';
				ad
 dyd9dd37703d33b29e3de01e5cd5ccca61 = addyd9dd37703d33b29e3de01e5cd5ccca61 +
  'sc&#97;cr' + '&#46;' + '&#111;rg';
				var addy_textd9dd37703d33b29e3de01
 e5cd5ccca61 = '&#101;c-&#101;&#97;st' + '&#64;' + 'sc&#97;cr' + '&#46;' + '
 &#111;rg';document.getElementById('cloakd9dd37703d33b29e3de01e5cd5ccca61').
 innerHTML += '<a ' + path + '\'' + prefix + ':' + addyd9dd37703d33b29e3de01
 e5cd5ccca61 + '\'>'+addy_textd9dd37703d33b29e3de01e5cd5ccca61+'<\/a>';
		</
 script>) Eastern District Secretary or Debbie Evans (<a href="mailto:sec-so
 uth@scacr.org" target="_blank"></a><a href="mailto:sec-south@scacr.org" tar
 get="_blank"></a><span id="cloakb139fcb2bb6768a10aecf13b3429de5f">This emai
 l address is being protected from spambots. You need JavaScript enabled to 
 view it.</span><script type='text/javascript'>
				document.getElementById(
 'cloakb139fcb2bb6768a10aecf13b3429de5f').innerHTML = '';
				var prefix = '
 &#109;a' + 'i&#108;' + '&#116;o';
				var path = 'hr' + 'ef' + '=';
				var
  addyb139fcb2bb6768a10aecf13b3429de5f = 's&#101;c-s&#111;&#117;th' + '&#64;
 ';
				addyb139fcb2bb6768a10aecf13b3429de5f = addyb139fcb2bb6768a10aecf13b3
 429de5f + 'sc&#97;cr' + '&#46;' + '&#111;rg';
				var addy_textb139fcb2bb67
 68a10aecf13b3429de5f = 's&#101;c-s&#111;&#117;th' + '&#64;' + 'sc&#97;cr' +
  '&#46;' + '&#111;rg';document.getElementById('cloakb139fcb2bb6768a10aecf13
 b3429de5f').innerHTML += '<a ' + path + '\'' + prefix + ':' + addyb139fcb2b
 b6768a10aecf13b3429de5f + '\'>'+addy_textb139fcb2bb6768a10aecf13b3429de5f+'
 <\/a>';
		</script>&nbsp;) Southern District Secretary, if you wish to atte
 nd.</p> <a href="https://scacr.org/news-events/calendar/1494/joint-eastern-
 and-southern-surprise-major-practice?tmpl=component">This event was importe
 d from: https://scacr.org/news-events/calendar/1494/joint-eastern-and-south
 ern-surprise-major-practice?tmpl=component</a>CONTACT:This email address is being protected from spambots. You need JavaScript enabled to view it.
				document.getElementById('cloaka9619bd18c24bdf1db7ffaf7b6ea895d').innerHTML = '';
				var prefix = '&#109;a' + 'i&#108;' + '&#116;o';
				var path = 'hr' + 'ef' + '=';
				var addya9619bd18c24bdf1db7ffaf7b6ea895d = 's&#101;c-&#101;&#97;st' + '&#64;';
				addya9619bd18c24bdf1db7ffaf7b6ea895d = addya9619bd18c24bdf1db7ffaf7b6ea895d + 'sc&#97;cr' + '&#46;' + '&#111;rg';
				var addy_texta9619bd18c24bdf1db7ffaf7b6ea895d = 's&#101;c-&#101;&#97;st' + '&#64;' + 'sc&#97;cr' + '&#46;' + '&#111;rg';document.getElementById('cloaka9619bd18c24bdf1db7ffaf7b6ea895d').innerHTML += '<a ' + path + '\'' + prefix + ':' + addya9619bd18c24bdf1db7ffaf7b6ea895d + '\'>'+addy_texta9619bd18c24bdf1db7ffaf7b6ea895d+'';
		
DTSTAMP:20260421T004131
DTSTART;TZID=Europe/London:20250829T193000
DTEND;TZID=Europe/London:20250829T210000
SEQUENCE:0
TRANSP:OPAQUE
END:VEVENT
END:VCALENDAR