BEGIN:VCALENDAR
VERSION:2.0
PRODID:-//jEvents 2.0 for Joomla//EN
CALSCALE:GREGORIAN
METHOD:PUBLISH
BEGIN:VTIMEZONE
TZID:Europe/London
BEGIN:STANDARD
DTSTART:20241027T010000
RDATE:20250330T020000
TZOFFSETFROM:+0100
TZOFFSETTO:+0000
TZNAME:Europe/London GMT
END:STANDARD
BEGIN:STANDARD
DTSTART:20251026T010000
RDATE:20260329T020000
TZOFFSETFROM:+0100
TZOFFSETTO:+0000
TZNAME:Europe/London GMT
END:STANDARD
BEGIN:STANDARD
DTSTART:20261025T010000
RDATE:20270328T020000
TZOFFSETFROM:+0100
TZOFFSETTO:+0000
TZNAME:Europe/London GMT
END:STANDARD
BEGIN:STANDARD
DTSTART:20271031T010000
RDATE:20280326T020000
TZOFFSETFROM:+0100
TZOFFSETTO:+0000
TZNAME:Europe/London GMT
END:STANDARD
BEGIN:STANDARD
DTSTART:20281029T010000
RDATE:20290325T020000
TZOFFSETFROM:+0100
TZOFFSETTO:+0000
TZNAME:Europe/London GMT
END:STANDARD
BEGIN:STANDARD
DTSTART:20291028T010000
RDATE:20300331T020000
TZOFFSETFROM:+0100
TZOFFSETTO:+0000
TZNAME:Europe/London GMT
END:STANDARD
BEGIN:STANDARD
DTSTART:20301027T010000
RDATE:20310330T020000
TZOFFSETFROM:+0100
TZOFFSETTO:+0000
TZNAME:Europe/London GMT
END:STANDARD
BEGIN:DAYLIGHT
DTSTART:20240912T140000
RDATE:20241027T010000
TZOFFSETFROM:+0000
TZOFFSETTO:+0100
TZNAME:Europe/London BST
END:DAYLIGHT
BEGIN:DAYLIGHT
DTSTART:20250330T020000
RDATE:20251026T010000
TZOFFSETFROM:+0000
TZOFFSETTO:+0100
TZNAME:Europe/London BST
END:DAYLIGHT
BEGIN:DAYLIGHT
DTSTART:20260329T020000
RDATE:20261025T010000
TZOFFSETFROM:+0000
TZOFFSETTO:+0100
TZNAME:Europe/London BST
END:DAYLIGHT
BEGIN:DAYLIGHT
DTSTART:20270328T020000
RDATE:20271031T010000
TZOFFSETFROM:+0000
TZOFFSETTO:+0100
TZNAME:Europe/London BST
END:DAYLIGHT
BEGIN:DAYLIGHT
DTSTART:20280326T020000
RDATE:20281029T010000
TZOFFSETFROM:+0000
TZOFFSETTO:+0100
TZNAME:Europe/London BST
END:DAYLIGHT
BEGIN:DAYLIGHT
DTSTART:20290325T020000
RDATE:20291028T010000
TZOFFSETFROM:+0000
TZOFFSETTO:+0100
TZNAME:Europe/London BST
END:DAYLIGHT
BEGIN:DAYLIGHT
DTSTART:20300331T020000
RDATE:20301027T010000
TZOFFSETFROM:+0000
TZOFFSETTO:+0100
TZNAME:Europe/London BST
END:DAYLIGHT
END:VTIMEZONE
BEGIN:VEVENT
UID:c914eb30f00b4a80960d4657417a73bf
CATEGORIES:West
CREATED:20250811T102211
SUMMARY:Two Tower - Monthly Get Together - General Ringing
LOCATION:SS Mary &amp; Gabriel\, South Harting and St Luke Milland.
URL;VALUE=URI:https://scacr.org/news-events/calendar/1495/two-tower-monthly-get-together-
 general-ringing?tmpl=component
DESCRIPTION:<p>Welcome to our monthly event which will be ringing at two towers.</p><p>
 South Harting (6) GU31 5QF from 2 - 3 pm followed by tea and cake and then 
 onto Milland&nbsp; (6) GU31 7JL from 4 - 5.&nbsp; The distance between the 
 towers is 7.6 miles and an approimately a 20 minute journey.</p><p>To book 
 tea and cake contact <span id="cloake8d9eea3ae9cc4d99a3b736133d5c181">This 
 email address is being protected from spambots. You need JavaScript enabled
  to view it.</span><script type='text/javascript'>
				document.getElementB
 yId('cloake8d9eea3ae9cc4d99a3b736133d5c181').innerHTML = '';
				var prefix
  = '&#109;a' + 'i&#108;' + '&#116;o';
				var path = 'hr' + 'ef' + '=';
			
 	var addye8d9eea3ae9cc4d99a3b736133d5c181 = 's&#101;c-w&#101;st' + '&#64;';
 
				addye8d9eea3ae9cc4d99a3b736133d5c181 = addye8d9eea3ae9cc4d99a3b736133d
 5c181 + 'sc&#97;cr' + '&#46;' + '&#111;rg';
				var addy_texte8d9eea3ae9cc4
 d99a3b736133d5c181 = 's&#101;c-w&#101;st' + '&#64;' + 'sc&#97;cr' + '&#46;'
  + '&#111;rg';document.getElementById('cloake8d9eea3ae9cc4d99a3b736133d5c18
 1').innerHTML += '<a ' + path + '\'' + prefix + ':' + addye8d9eea3ae9cc4d99
 a3b736133d5c181 + '\'>'+addy_texte8d9eea3ae9cc4d99a3b736133d5c181+'<\/a>';

 		</script>&nbsp;or call Janice on 07890804339.&nbsp; The intention is to a
 lso hold a raffle in aid of BRF so please bring some change and any donatio
 ns of prizes would be very&nbsp; welcome!</p> <a href="https://scacr.org/ne
 ws-events/calendar/1495/two-tower-monthly-get-together-general-ringing?tmpl
 =component">This event was imported from: https://scacr.org/news-events/cal
 endar/1495/two-tower-monthly-get-together-general-ringing?tmpl=component</a
 >CONTACT:This email address is being protected from spambots. You need JavaScript enabled to view it.
				document.getElementById('cloakd51be0b0bb822312929967e9ff56c5d1').innerHTML = '';
				var prefix = '&#109;a' + 'i&#108;' + '&#116;o';
				var path = 'hr' + 'ef' + '=';
				var addyd51be0b0bb822312929967e9ff56c5d1 = 's&#101;c-w&#101;st' + '&#64;';
				addyd51be0b0bb822312929967e9ff56c5d1 = addyd51be0b0bb822312929967e9ff56c5d1 + 'sc&#97;cr' + '&#46;' + '&#111;rg';
				var addy_textd51be0b0bb822312929967e9ff56c5d1 = 's&#101;c-w&#101;st' + '&#64;' + 'sc&#97;cr' + '&#46;' + '&#111;rg';document.getElementById('cloakd51be0b0bb822312929967e9ff56c5d1').innerHTML += '<a ' + path + '\'' + prefix + ':' + addyd51be0b0bb822312929967e9ff56c5d1 + '\'>'+addy_textd51be0b0bb822312929967e9ff56c5d1+'';
		  or 07890804339
DTSTAMP:20260424T072510
DTSTART;TZID=Europe/London:20250913T140000
DTEND;TZID=Europe/London:20250811T170000
SEQUENCE:0
TRANSP:OPAQUE
END:VEVENT
END:VCALENDAR