BEGIN:VCALENDAR
VERSION:2.0
PRODID:-//jEvents 2.0 for Joomla//EN
CALSCALE:GREGORIAN
METHOD:PUBLISH
BEGIN:VTIMEZONE
TZID:Europe/London
BEGIN:STANDARD
DTSTART:20241027T010000
RDATE:20250330T020000
TZOFFSETFROM:+0100
TZOFFSETTO:+0000
TZNAME:Europe/London GMT
END:STANDARD
BEGIN:STANDARD
DTSTART:20251026T010000
RDATE:20260329T020000
TZOFFSETFROM:+0100
TZOFFSETTO:+0000
TZNAME:Europe/London GMT
END:STANDARD
BEGIN:STANDARD
DTSTART:20261025T010000
RDATE:20270328T020000
TZOFFSETFROM:+0100
TZOFFSETTO:+0000
TZNAME:Europe/London GMT
END:STANDARD
BEGIN:STANDARD
DTSTART:20271031T010000
RDATE:20280326T020000
TZOFFSETFROM:+0100
TZOFFSETTO:+0000
TZNAME:Europe/London GMT
END:STANDARD
BEGIN:STANDARD
DTSTART:20281029T010000
RDATE:20290325T020000
TZOFFSETFROM:+0100
TZOFFSETTO:+0000
TZNAME:Europe/London GMT
END:STANDARD
BEGIN:STANDARD
DTSTART:20291028T010000
RDATE:20300331T020000
TZOFFSETFROM:+0100
TZOFFSETTO:+0000
TZNAME:Europe/London GMT
END:STANDARD
BEGIN:STANDARD
DTSTART:20301027T010000
RDATE:20310330T020000
TZOFFSETFROM:+0100
TZOFFSETTO:+0000
TZNAME:Europe/London GMT
END:STANDARD
BEGIN:DAYLIGHT
DTSTART:20240907T193000
RDATE:20241027T010000
TZOFFSETFROM:+0000
TZOFFSETTO:+0100
TZNAME:Europe/London BST
END:DAYLIGHT
BEGIN:DAYLIGHT
DTSTART:20250330T020000
RDATE:20251026T010000
TZOFFSETFROM:+0000
TZOFFSETTO:+0100
TZNAME:Europe/London BST
END:DAYLIGHT
BEGIN:DAYLIGHT
DTSTART:20260329T020000
RDATE:20261025T010000
TZOFFSETFROM:+0000
TZOFFSETTO:+0100
TZNAME:Europe/London BST
END:DAYLIGHT
BEGIN:DAYLIGHT
DTSTART:20270328T020000
RDATE:20271031T010000
TZOFFSETFROM:+0000
TZOFFSETTO:+0100
TZNAME:Europe/London BST
END:DAYLIGHT
BEGIN:DAYLIGHT
DTSTART:20280326T020000
RDATE:20281029T010000
TZOFFSETFROM:+0000
TZOFFSETTO:+0100
TZNAME:Europe/London BST
END:DAYLIGHT
BEGIN:DAYLIGHT
DTSTART:20290325T020000
RDATE:20291028T010000
TZOFFSETFROM:+0000
TZOFFSETTO:+0100
TZNAME:Europe/London BST
END:DAYLIGHT
BEGIN:DAYLIGHT
DTSTART:20300331T020000
RDATE:20301027T010000
TZOFFSETFROM:+0000
TZOFFSETTO:+0100
TZNAME:Europe/London BST
END:DAYLIGHT
END:VTIMEZONE
BEGIN:VEVENT
UID:744f0736914a32c28e74809016774c3c
CATEGORIES:West
CREATED:20250811T102928
SUMMARY:Surprise Minor Simulator Practice
LOCATION:St Mary's Church\, Stoughton
URL;VALUE=URI:https://scacr.org/news-events/calendar/1497/surprise-minor-simulator-practi
 ce?tmpl=component
DESCRIPTION:This is a regular practice is held every second Monday of the month!\nCurre
 nt methods rung are: Cambridge, London, Norwich, Carlisle and Beverley!  Th
 e idea is to consolidate them and start splicing them!!  Other methods mayb
 e added as and when.\nDon't br put off if you are unable to ring all these 
 methods or can't ring spliced - there are a range of abilities and it is a 
 practice so an opportunity to have a go!!\nPlease let Joanna Woodcock know 
 if you intend to go along on This email address is being protected from spa
 mbots. You need JavaScript enabled to view it.
				document.getElementById(
 'cloak1ccc21a8dc91f1322e0bdf6313edf9f7').innerHTML = '';
				var prefix = '
 &#109;a' + 'i&#108;' + '&#116;o';
				var path = 'hr' + 'ef' + '=';
				var
  addy1ccc21a8dc91f1322e0bdf6313edf9f7 = 'd&#101;&#97;nl&#97;n&#101;&#101;nd
 ' + '&#64;';
				addy1ccc21a8dc91f1322e0bdf6313edf9f7 = addy1ccc21a8dc91f13
 22e0bdf6313edf9f7 + 'gm&#97;&#105;l' + '&#46;' + 'c&#111;m';
				var addy_t
 ext1ccc21a8dc91f1322e0bdf6313edf9f7 = 'd&#101;&#97;nl&#97;n&#101;&#101;nd' 
 + '&#64;' + 'gm&#97;&#105;l' + '&#46;' + 'c&#111;m';document.getElementById
 ('cloak1ccc21a8dc91f1322e0bdf6313edf9f7').innerHTML += '<a ' + path + '\'' 
 + prefix + ':' + addy1ccc21a8dc91f1322e0bdf6313edf9f7 + '\'>'+addy_text1ccc
 21a8dc91f1322e0bdf6313edf9f7+'';
		\nThere is ample on-street parking in th
 e village and limited, blue badge parking up at the track at the church.  T
 he farmyard car park to the left of the track is private and so please do n
 ot use!\nThere are no toilets in the church - nearest facilities are in the
  Hare and Hounds pub approx 300 m away.\nIf there is plenty of rain - it ma
 y be handy to wear wellies or at least have some in the car!!!\nContact the
  Tower Captain if you have any other questions!  Tim Wright - This email ad
 dress is being protected from spambots. You need JavaScript enabled to view
  it.
				document.getElementById('cloaka624be6259fa4fdfa15b2a19826e8a40').i
 nnerHTML = '';
				var prefix = '&#109;a' + 'i&#108;' + '&#116;o';
				var 
 path = 'hr' + 'ef' + '=';
				var addya624be6259fa4fdfa15b2a19826e8a40 = 't
 cf.wr&#105;ght' + '&#64;';
				addya624be6259fa4fdfa15b2a19826e8a40 = addya
 624be6259fa4fdfa15b2a19826e8a40 + 'bt&#105;nt&#101;rn&#101;t' + '&#46;' + '
 c&#111;m';
				var addy_texta624be6259fa4fdfa15b2a19826e8a40 = 'tcf.wr&#105
 ;ght' + '&#64;' + 'bt&#105;nt&#101;rn&#101;t' + '&#46;' + 'c&#111;m';docume
 nt.getElementById('cloaka624be6259fa4fdfa15b2a19826e8a40').innerHTML += '<a
  ' + path + '\'' + prefix + ':' + addya624be6259fa4fdfa15b2a19826e8a40 + '\
 '>'+addy_texta624be6259fa4fdfa15b2a19826e8a40+'';
		\n This event was impor
 ted from: https://scacr.org/news-events/calendar/1497/surprise-minor-simula
 tor-practice?tmpl=component (https://scacr.org/news-events/calendar/1497/su
 rprise-minor-simulator-practice?tmpl=component)
X-ALT-DESC;FMTTYPE=text/html:<p>This is a regular practice is held every second Monday of the month!</p>
 <p>Current methods rung are: Cambridge, London, Norwich, Carlisle and Bever
 ley!&nbsp; The idea is to consolidate them and start splicing them!!&nbsp; 
 Other methods maybe added as and when.</p><p>Don't br put off if you are un
 able to ring all these methods or can't ring spliced - there are a range of
  abilities and it is a practice so an opportunity to have a go!!</p><p>Plea
 se let Joanna Woodcock know if you intend to go along on <span id="cloak1cc
 c21a8dc91f1322e0bdf6313edf9f7">This email address is being protected from s
 pambots. You need JavaScript enabled to view it.</span><script type='text/j
 avascript'>
				document.getElementById('cloak1ccc21a8dc91f1322e0bdf6313edf
 9f7').innerHTML = '';
				var prefix = '&#109;a' + 'i&#108;' + '&#116;o';
	
 			var path = 'hr' + 'ef' + '=';
				var addy1ccc21a8dc91f1322e0bdf6313edf9
 f7 = 'd&#101;&#97;nl&#97;n&#101;&#101;nd' + '&#64;';
				addy1ccc21a8dc91f1
 322e0bdf6313edf9f7 = addy1ccc21a8dc91f1322e0bdf6313edf9f7 + 'gm&#97;&#105;l
 ' + '&#46;' + 'c&#111;m';
				var addy_text1ccc21a8dc91f1322e0bdf6313edf9f7
  = 'd&#101;&#97;nl&#97;n&#101;&#101;nd' + '&#64;' + 'gm&#97;&#105;l' + '&#4
 6;' + 'c&#111;m';document.getElementById('cloak1ccc21a8dc91f1322e0bdf6313ed
 f9f7').innerHTML += '<a ' + path + '\'' + prefix + ':' + addy1ccc21a8dc91f1
 322e0bdf6313edf9f7 + '\'>'+addy_text1ccc21a8dc91f1322e0bdf6313edf9f7+'<\/a>
 ';
		</script></p><p>There is ample on-street parking in the village and li
 mited, blue badge parking up at the track at the church.&nbsp; The farmyard
  car park to the left of the track is private and so please do not use!</p>
 <p>There are no toilets in the church - nearest facilities are in the Hare 
 and Hounds pub approx 300 m away.</p><p>If there is plenty of rain - it may
  be handy to wear wellies or at least have some in the car!!!</p><p>Contact
  the Tower Captain if you have any other questions!&nbsp; Tim Wright - <spa
 n id="cloaka624be6259fa4fdfa15b2a19826e8a40">This email address is being pr
 otected from spambots. You need JavaScript enabled to view it.</span><scrip
 t type='text/javascript'>
				document.getElementById('cloaka624be6259fa4fd
 fa15b2a19826e8a40').innerHTML = '';
				var prefix = '&#109;a' + 'i&#108;' 
 + '&#116;o';
				var path = 'hr' + 'ef' + '=';
				var addya624be6259fa4fdf
 a15b2a19826e8a40 = 'tcf.wr&#105;ght' + '&#64;';
				addya624be6259fa4fdfa15
 b2a19826e8a40 = addya624be6259fa4fdfa15b2a19826e8a40 + 'bt&#105;nt&#101;rn&
 #101;t' + '&#46;' + 'c&#111;m';
				var addy_texta624be6259fa4fdfa15b2a1982
 6e8a40 = 'tcf.wr&#105;ght' + '&#64;' + 'bt&#105;nt&#101;rn&#101;t' + '&#46;
 ' + 'c&#111;m';document.getElementById('cloaka624be6259fa4fdfa15b2a19826e8a
 40').innerHTML += '<a ' + path + '\'' + prefix + ':' + addya624be6259fa4fdf
 a15b2a19826e8a40 + '\'>'+addy_texta624be6259fa4fdfa15b2a19826e8a40+'<\/a>';
 
		</script></p> <a href="https://scacr.org/news-events/calendar/1497/surpr
 ise-minor-simulator-practice?tmpl=component">This event was imported from: 
 https://scacr.org/news-events/calendar/1497/surprise-minor-simulator-practi
 ce?tmpl=component</a>CONTACT:Joanna Woodcock This email address is being protected from spambots. You need JavaScript enabled to view it.
				document.getElementById('cloakc579a5d0b58c10c2a4ff581d60891f0a').innerHTML = '';
				var prefix = '&#109;a' + 'i&#108;' + '&#116;o';
				var path = 'hr' + 'ef' + '=';
				var addyc579a5d0b58c10c2a4ff581d60891f0a = 'd&#101;&#97;nl&#97;n&#101;&#101;nd' + '&#64;';
				addyc579a5d0b58c10c2a4ff581d60891f0a = addyc579a5d0b58c10c2a4ff581d60891f0a + 'gm&#97;&#105;l' + '&#46;' + 'c&#111;m';
				var addy_textc579a5d0b58c10c2a4ff581d60891f0a = 'd&#101;&#97;nl&#97;n&#101;&#101;nd' + '&#64;' + 'gm&#97;&#105;l' + '&#46;' + 'c&#111;m';document.getElementById('cloakc579a5d0b58c10c2a4ff581d60891f0a').innerHTML += '<a ' + path + '\'' + prefix + ':' + addyc579a5d0b58c10c2a4ff581d60891f0a + '\'>'+addy_textc579a5d0b58c10c2a4ff581d60891f0a+'';
		
DTSTAMP:20260420T212409
DTSTART;TZID=Europe/London:20250908T193000
DTEND;TZID=Europe/London:20250811T210000
SEQUENCE:0
TRANSP:OPAQUE
END:VEVENT
END:VCALENDAR