BEGIN:VCALENDAR
VERSION:2.0
PRODID:-//jEvents 2.0 for Joomla//EN
CALSCALE:GREGORIAN
METHOD:PUBLISH
BEGIN:VTIMEZONE
TZID:Europe/London
BEGIN:STANDARD
DTSTART:20241027T010000
RDATE:20250330T020000
TZOFFSETFROM:+0100
TZOFFSETTO:+0000
TZNAME:Europe/London GMT
END:STANDARD
BEGIN:STANDARD
DTSTART:20251026T010000
RDATE:20260329T020000
TZOFFSETFROM:+0100
TZOFFSETTO:+0000
TZNAME:Europe/London GMT
END:STANDARD
BEGIN:STANDARD
DTSTART:20261025T010000
RDATE:20270328T020000
TZOFFSETFROM:+0100
TZOFFSETTO:+0000
TZNAME:Europe/London GMT
END:STANDARD
BEGIN:STANDARD
DTSTART:20271031T010000
RDATE:20280326T020000
TZOFFSETFROM:+0100
TZOFFSETTO:+0000
TZNAME:Europe/London GMT
END:STANDARD
BEGIN:STANDARD
DTSTART:20281029T010000
RDATE:20290325T020000
TZOFFSETFROM:+0100
TZOFFSETTO:+0000
TZNAME:Europe/London GMT
END:STANDARD
BEGIN:STANDARD
DTSTART:20291028T010000
RDATE:20300331T020000
TZOFFSETFROM:+0100
TZOFFSETTO:+0000
TZNAME:Europe/London GMT
END:STANDARD
BEGIN:STANDARD
DTSTART:20301027T010000
RDATE:20310330T020000
TZOFFSETFROM:+0100
TZOFFSETTO:+0000
TZNAME:Europe/London GMT
END:STANDARD
BEGIN:DAYLIGHT
DTSTART:20240918T193000
RDATE:20241027T010000
TZOFFSETFROM:+0000
TZOFFSETTO:+0100
TZNAME:Europe/London BST
END:DAYLIGHT
BEGIN:DAYLIGHT
DTSTART:20250330T020000
RDATE:20251026T010000
TZOFFSETFROM:+0000
TZOFFSETTO:+0100
TZNAME:Europe/London BST
END:DAYLIGHT
BEGIN:DAYLIGHT
DTSTART:20260329T020000
RDATE:20261025T010000
TZOFFSETFROM:+0000
TZOFFSETTO:+0100
TZNAME:Europe/London BST
END:DAYLIGHT
BEGIN:DAYLIGHT
DTSTART:20270328T020000
RDATE:20271031T010000
TZOFFSETFROM:+0000
TZOFFSETTO:+0100
TZNAME:Europe/London BST
END:DAYLIGHT
BEGIN:DAYLIGHT
DTSTART:20280326T020000
RDATE:20281029T010000
TZOFFSETFROM:+0000
TZOFFSETTO:+0100
TZNAME:Europe/London BST
END:DAYLIGHT
BEGIN:DAYLIGHT
DTSTART:20290325T020000
RDATE:20291028T010000
TZOFFSETFROM:+0000
TZOFFSETTO:+0100
TZNAME:Europe/London BST
END:DAYLIGHT
BEGIN:DAYLIGHT
DTSTART:20300331T020000
RDATE:20301027T010000
TZOFFSETFROM:+0000
TZOFFSETTO:+0100
TZNAME:Europe/London BST
END:DAYLIGHT
END:VTIMEZONE
BEGIN:VEVENT
UID:089cf93d3b7bfe6ebcaa4e9dc5f9d001
CATEGORIES:West
CREATED:20250811T105559
SUMMARY:General 8 Bell Practice
LOCATION:St Nicholas Church\, Arundel. 
URL;VALUE=URI:https://scacr.org/news-events/calendar/1504/general-8-bell-practice?tmpl=co
 mponent
DESCRIPTION: This is the practice generally on the 1st Friday of the month!  The date i
 s changed due to an event in the castle.\nCome along and enjoy ringing on t
 his lovely ring of 8 bells in a picturesque setting!   All levels are welco
 me !!  A great opportunity if you normally ring on 6 bells, to stretch the 
 mind into counting up to 8!  Rounds, call changes, Plain Hunt, Grandsire an
 d Bob Triples can be practiced so do come and give it a try!\nAny queries c
 ontact Janice on 07890804339 or e mail This email address is being protecte
 d from spambots. You need JavaScript enabled to view it.
				document.getEl
 ementById('cloakcc4990c9739833f86b8f21bfeceb8898').innerHTML = '';
				var 
 prefix = '&#109;a' + 'i&#108;' + '&#116;o';
				var path = 'hr' + 'ef' + '=
 ';
				var addycc4990c9739833f86b8f21bfeceb8898 = 's&#101;c-w&#101;st' + '&
 #64;';
				addycc4990c9739833f86b8f21bfeceb8898 = addycc4990c9739833f86b8f2
 1bfeceb8898 + 'sc&#97;cr' + '&#46;' + '&#111;rg';
				var addy_textcc4990c9
 739833f86b8f21bfeceb8898 = 's&#101;c-w&#101;st' + '&#64;' + 'sc&#97;cr' + '
 &#46;' + '&#111;rg';document.getElementById('cloakcc4990c9739833f86b8f21bfe
 ceb8898').innerHTML += '<a ' + path + '\'' + prefix + ':' + addycc4990c9739
 833f86b8f21bfeceb8898 + '\'>'+addy_textcc4990c9739833f86b8f21bfeceb8898+'';
 
		\n This event was imported from: https://scacr.org/news-events/calendar/
 1504/general-8-bell-practice?tmpl=component (https://scacr.org/news-events/
 calendar/1504/general-8-bell-practice?tmpl=component)
X-ALT-DESC;FMTTYPE=text/html:<p>&nbsp;This is the practice generally on the 1st Friday of the month!&nbs
 p; The date is changed due to an event in the castle.</p><p>Come along and 
 enjoy ringing on this lovely ring of 8 bells in a picturesque setting!&nbsp
 ; &nbsp;All levels are welcome !!&nbsp; A great opportunity if you normally
  ring on 6 bells, to stretch the mind into counting up to 8!&nbsp; Rounds, 
 call changes, Plain Hunt, Grandsire and Bob Triples can be practiced so do 
 come and give it a try!</p><p>Any queries contact Janice on 07890804339 or 
 e mail <span id="cloakcc4990c9739833f86b8f21bfeceb8898">This email address 
 is being protected from spambots. You need JavaScript enabled to view it.</
 span><script type='text/javascript'>
				document.getElementById('cloakcc49
 90c9739833f86b8f21bfeceb8898').innerHTML = '';
				var prefix = '&#109;a' +
  'i&#108;' + '&#116;o';
				var path = 'hr' + 'ef' + '=';
				var addycc499
 0c9739833f86b8f21bfeceb8898 = 's&#101;c-w&#101;st' + '&#64;';
				addycc499
 0c9739833f86b8f21bfeceb8898 = addycc4990c9739833f86b8f21bfeceb8898 + 'sc&#9
 7;cr' + '&#46;' + '&#111;rg';
				var addy_textcc4990c9739833f86b8f21bfeceb
 8898 = 's&#101;c-w&#101;st' + '&#64;' + 'sc&#97;cr' + '&#46;' + '&#111;rg';
 document.getElementById('cloakcc4990c9739833f86b8f21bfeceb8898').innerHTML 
 += '<a ' + path + '\'' + prefix + ':' + addycc4990c9739833f86b8f21bfeceb889
 8 + '\'>'+addy_textcc4990c9739833f86b8f21bfeceb8898+'<\/a>';
		</script></p
 > <a href="https://scacr.org/news-events/calendar/1504/general-8-bell-pract
 ice?tmpl=component">This event was imported from: https://scacr.org/news-ev
 ents/calendar/1504/general-8-bell-practice?tmpl=component</a>CONTACT:This email address is being protected from spambots. You need JavaScript enabled to view it.
				document.getElementById('cloak3b75abb87041d7f3603db5f37c863bca').innerHTML = '';
				var prefix = '&#109;a' + 'i&#108;' + '&#116;o';
				var path = 'hr' + 'ef' + '=';
				var addy3b75abb87041d7f3603db5f37c863bca = 's&#101;c-w&#101;st' + '&#64;';
				addy3b75abb87041d7f3603db5f37c863bca = addy3b75abb87041d7f3603db5f37c863bca + 'sc&#97;cr' + '&#46;' + '&#111;rg';
				var addy_text3b75abb87041d7f3603db5f37c863bca = 's&#101;c-w&#101;st' + '&#64;' + 'sc&#97;cr' + '&#46;' + '&#111;rg';document.getElementById('cloak3b75abb87041d7f3603db5f37c863bca').innerHTML += '<a ' + path + '\'' + prefix + ':' + addy3b75abb87041d7f3603db5f37c863bca + '\'>'+addy_text3b75abb87041d7f3603db5f37c863bca+'';
		
DTSTAMP:20260424T173407
DTSTART;TZID=Europe/London:20250919T193000
DTEND;TZID=Europe/London:20250919T210000
SEQUENCE:0
TRANSP:OPAQUE
END:VEVENT
END:VCALENDAR