BEGIN:VCALENDAR
VERSION:2.0
PRODID:-//jEvents 2.0 for Joomla//EN
CALSCALE:GREGORIAN
METHOD:PUBLISH
BEGIN:VTIMEZONE
TZID:Europe/London
BEGIN:STANDARD
DTSTART:20241027T010000
RDATE:20250330T020000
TZOFFSETFROM:+0100
TZOFFSETTO:+0000
TZNAME:Europe/London GMT
END:STANDARD
BEGIN:STANDARD
DTSTART:20251026T010000
RDATE:20260329T020000
TZOFFSETFROM:+0100
TZOFFSETTO:+0000
TZNAME:Europe/London GMT
END:STANDARD
BEGIN:STANDARD
DTSTART:20261025T010000
RDATE:20270328T020000
TZOFFSETFROM:+0100
TZOFFSETTO:+0000
TZNAME:Europe/London GMT
END:STANDARD
BEGIN:STANDARD
DTSTART:20271031T010000
RDATE:20280326T020000
TZOFFSETFROM:+0100
TZOFFSETTO:+0000
TZNAME:Europe/London GMT
END:STANDARD
BEGIN:STANDARD
DTSTART:20281029T010000
RDATE:20290325T020000
TZOFFSETFROM:+0100
TZOFFSETTO:+0000
TZNAME:Europe/London GMT
END:STANDARD
BEGIN:STANDARD
DTSTART:20291028T010000
RDATE:20300331T020000
TZOFFSETFROM:+0100
TZOFFSETTO:+0000
TZNAME:Europe/London GMT
END:STANDARD
BEGIN:STANDARD
DTSTART:20301027T010000
RDATE:20310330T020000
TZOFFSETFROM:+0100
TZOFFSETTO:+0000
TZNAME:Europe/London GMT
END:STANDARD
BEGIN:DAYLIGHT
DTSTART:20240926T140000
RDATE:20241027T010000
TZOFFSETFROM:+0000
TZOFFSETTO:+0100
TZNAME:Europe/London BST
END:DAYLIGHT
BEGIN:DAYLIGHT
DTSTART:20250330T020000
RDATE:20251026T010000
TZOFFSETFROM:+0000
TZOFFSETTO:+0100
TZNAME:Europe/London BST
END:DAYLIGHT
BEGIN:DAYLIGHT
DTSTART:20260329T020000
RDATE:20261025T010000
TZOFFSETFROM:+0000
TZOFFSETTO:+0100
TZNAME:Europe/London BST
END:DAYLIGHT
BEGIN:DAYLIGHT
DTSTART:20270328T020000
RDATE:20271031T010000
TZOFFSETFROM:+0000
TZOFFSETTO:+0100
TZNAME:Europe/London BST
END:DAYLIGHT
BEGIN:DAYLIGHT
DTSTART:20280326T020000
RDATE:20281029T010000
TZOFFSETFROM:+0000
TZOFFSETTO:+0100
TZNAME:Europe/London BST
END:DAYLIGHT
BEGIN:DAYLIGHT
DTSTART:20290325T020000
RDATE:20291028T010000
TZOFFSETFROM:+0000
TZOFFSETTO:+0100
TZNAME:Europe/London BST
END:DAYLIGHT
BEGIN:DAYLIGHT
DTSTART:20300331T020000
RDATE:20301027T010000
TZOFFSETFROM:+0000
TZOFFSETTO:+0100
TZNAME:Europe/London BST
END:DAYLIGHT
END:VTIMEZONE
BEGIN:VEVENT
UID:71a023b5ef563cd5de65e988fba16edc
CATEGORIES:East
CREATED:20250902T115819
SUMMARY:Waldron & Heathfield General Practice
LOCATION:Heathfield &amp; Waldron
URL;VALUE=URI:https://scacr.org/news-events/calendar/1520/waldron-heathfield-general-prac
 tice?tmpl=component
DESCRIPTION:<p>General practices continue this month in the Eastern District with ringi
 ng at two 8 bell towers in the High Weald (note this is a change to the ori
 ginal plan of a walk and ring due to the unavailablilty of the bells at one
  of the churches).</p><p><strong>2:00pm - Waldron, All Saints, </strong>8 b
 ells, 12cwt in G (all 1912 John Warner &amp; Sons) - We start at this at th
 is Grade I listed 13th century village church with its 8 bells for general 
 ringing from those who can only ring rounds up to whatever the assembled ba
 nd can achieve.</p><p><strong>3:30pm - Heathfield, All Saints </strong>- 8 
 bells, 11cwt in G (all 1921 Mears &amp; Stainbank) - Ringing continues in t
 his delightful 14th century church in the old village of Heathfield, a mile
  or so from the more modern town.</p><p>All ringers are welcome, including 
 those from other districts and beyond.&nbsp;</p><p>Ringing will include rou
 nds and call changes, as well as Plaint Hunt and methods to suit the repert
 oire of those present.&nbsp;</p> <a href="https://scacr.org/news-events/cal
 endar/1520/waldron-heathfield-general-practice?tmpl=component">This event w
 as imported from: https://scacr.org/news-events/calendar/1520/waldron-heath
 field-general-practice?tmpl=component</a>CONTACT:This email address is being protected from spambots. You need JavaScript enabled to view it.
				document.getElementById('cloakdd3638eb6b7ef89700cba146ca2e7dad').innerHTML = '';
				var prefix = '&#109;a' + 'i&#108;' + '&#116;o';
				var path = 'hr' + 'ef' + '=';
				var addydd3638eb6b7ef89700cba146ca2e7dad = 's&#101;c-&#101;&#97;st' + '&#64;';
				addydd3638eb6b7ef89700cba146ca2e7dad = addydd3638eb6b7ef89700cba146ca2e7dad + 'sc&#97;cr' + '&#46;' + '&#111;rg';
				var addy_textdd3638eb6b7ef89700cba146ca2e7dad = 's&#101;c-&#101;&#97;st' + '&#64;' + 'sc&#97;cr' + '&#46;' + '&#111;rg';document.getElementById('cloakdd3638eb6b7ef89700cba146ca2e7dad').innerHTML += '<a ' + path + '\'' + prefix + ':' + addydd3638eb6b7ef89700cba146ca2e7dad + '\'>'+addy_textdd3638eb6b7ef89700cba146ca2e7dad+'';
		
DTSTAMP:20260424T123342
DTSTART;TZID=Europe/London:20250927T140000
SEQUENCE:0
TRANSP:OPAQUE
END:VEVENT
END:VCALENDAR