BEGIN:VCALENDAR
VERSION:2.0
PRODID:-//jEvents 2.0 for Joomla//EN
CALSCALE:GREGORIAN
METHOD:PUBLISH
BEGIN:VTIMEZONE
TZID:Europe/London
BEGIN:STANDARD
DTSTART:20241128T103000
RDATE:20250330T020000
TZOFFSETFROM:+0100
TZOFFSETTO:+0000
TZNAME:Europe/London GMT
END:STANDARD
BEGIN:STANDARD
DTSTART:20251026T010000
RDATE:20260329T020000
TZOFFSETFROM:+0100
TZOFFSETTO:+0000
TZNAME:Europe/London GMT
END:STANDARD
BEGIN:STANDARD
DTSTART:20261025T010000
RDATE:20270328T020000
TZOFFSETFROM:+0100
TZOFFSETTO:+0000
TZNAME:Europe/London GMT
END:STANDARD
BEGIN:STANDARD
DTSTART:20271031T010000
RDATE:20280326T020000
TZOFFSETFROM:+0100
TZOFFSETTO:+0000
TZNAME:Europe/London GMT
END:STANDARD
BEGIN:STANDARD
DTSTART:20281029T010000
RDATE:20290325T020000
TZOFFSETFROM:+0100
TZOFFSETTO:+0000
TZNAME:Europe/London GMT
END:STANDARD
BEGIN:STANDARD
DTSTART:20291028T010000
RDATE:20300331T020000
TZOFFSETFROM:+0100
TZOFFSETTO:+0000
TZNAME:Europe/London GMT
END:STANDARD
BEGIN:STANDARD
DTSTART:20301027T010000
RDATE:20310330T020000
TZOFFSETFROM:+0100
TZOFFSETTO:+0000
TZNAME:Europe/London GMT
END:STANDARD
BEGIN:DAYLIGHT
DTSTART:20250330T020000
RDATE:20251026T010000
TZOFFSETFROM:+0000
TZOFFSETTO:+0100
TZNAME:Europe/London BST
END:DAYLIGHT
BEGIN:DAYLIGHT
DTSTART:20260329T020000
RDATE:20261025T010000
TZOFFSETFROM:+0000
TZOFFSETTO:+0100
TZNAME:Europe/London BST
END:DAYLIGHT
BEGIN:DAYLIGHT
DTSTART:20270328T020000
RDATE:20271031T010000
TZOFFSETFROM:+0000
TZOFFSETTO:+0100
TZNAME:Europe/London BST
END:DAYLIGHT
BEGIN:DAYLIGHT
DTSTART:20280326T020000
RDATE:20281029T010000
TZOFFSETFROM:+0000
TZOFFSETTO:+0100
TZNAME:Europe/London BST
END:DAYLIGHT
BEGIN:DAYLIGHT
DTSTART:20290325T020000
RDATE:20291028T010000
TZOFFSETFROM:+0000
TZOFFSETTO:+0100
TZNAME:Europe/London BST
END:DAYLIGHT
BEGIN:DAYLIGHT
DTSTART:20300331T020000
RDATE:20301027T010000
TZOFFSETFROM:+0000
TZOFFSETTO:+0100
TZNAME:Europe/London BST
END:DAYLIGHT
END:VTIMEZONE
BEGIN:VEVENT
UID:1e5557bc67dacbdc33a5656f1fb16f8d
CATEGORIES:West
CREATED:20251006T183529
SUMMARY:Surprise Major Practice!
LOCATION:St Mary's Church\, Pulborough.
URL;VALUE=URI:https://scacr.org/news-events/calendar/1540/surprise-major-practice?tmpl=co
 mponent
DESCRIPTION:Let's make use of a 5th Saturday of the month by having a dfferent practice
  of Surprise Major!!  A chance for those who can or who are learning to  ri
 ng at this level but don't often have the opportunity!  Methods hoping to b
 e rung are Cambridge, Yorkshire, Superlative, Pudsey and maybe Lessness dep
 ending upon who is able tobe there!    Let This email address is being prot
 ected from spambots. You need JavaScript enabled to view it.
				document.g
 etElementById('cloake696ddec66953eafd1a31b00aa8de0fe').innerHTML = '';
				
 var prefix = '&#109;a' + 'i&#108;' + '&#116;o';
				var path = 'hr' + 'ef' 
 + '=';
				var addye696ddec66953eafd1a31b00aa8de0fe = 's&#101;c-w&#101;st' 
 + '&#64;';
				addye696ddec66953eafd1a31b00aa8de0fe = addye696ddec66953eafd
 1a31b00aa8de0fe + 'sc&#97;cr' + '&#46;' + '&#111;rg';
				var addy_texte696
 ddec66953eafd1a31b00aa8de0fe = 's&#101;c-w&#101;st' + '&#64;' + 'sc&#97;cr'
  + '&#46;' + '&#111;rg';document.getElementById('cloake696ddec66953eafd1a31
 b00aa8de0fe').innerHTML += '<a ' + path + '\'' + prefix + ':' + addye696dde
 c66953eafd1a31b00aa8de0fe + '\'>'+addy_texte696ddec66953eafd1a31b00aa8de0fe
 +'';
		 know if you would like to attend or call Janice on 07890804339.  Ca
 ke will be provided but please bring your own drink!\n This event was impor
 ted from: https://scacr.org/news-events/calendar/1540/surprise-major-practi
 ce?tmpl=component (https://scacr.org/news-events/calendar/1540/surprise-maj
 or-practice?tmpl=component)
X-ALT-DESC;FMTTYPE=text/html:<p>Let's make use of a 5th Saturday of the month by having a dfferent pract
 ice of Surprise Major!!&nbsp; A chance for those who can or who are learnin
 g to&nbsp; ring at this level but don't often have the opportunity!&nbsp; M
 ethods hoping to be rung are Cambridge, Yorkshire, Superlative, Pudsey and 
 maybe Lessness depending upon who is able tobe there!&nbsp; &nbsp; Let <spa
 n id="cloake696ddec66953eafd1a31b00aa8de0fe">This email address is being pr
 otected from spambots. You need JavaScript enabled to view it.</span><scrip
 t type='text/javascript'>
				document.getElementById('cloake696ddec66953ea
 fd1a31b00aa8de0fe').innerHTML = '';
				var prefix = '&#109;a' + 'i&#108;' 
 + '&#116;o';
				var path = 'hr' + 'ef' + '=';
				var addye696ddec66953eaf
 d1a31b00aa8de0fe = 's&#101;c-w&#101;st' + '&#64;';
				addye696ddec66953eaf
 d1a31b00aa8de0fe = addye696ddec66953eafd1a31b00aa8de0fe + 'sc&#97;cr' + '&#
 46;' + '&#111;rg';
				var addy_texte696ddec66953eafd1a31b00aa8de0fe = 's&#
 101;c-w&#101;st' + '&#64;' + 'sc&#97;cr' + '&#46;' + '&#111;rg';document.ge
 tElementById('cloake696ddec66953eafd1a31b00aa8de0fe').innerHTML += '<a ' + 
 path + '\'' + prefix + ':' + addye696ddec66953eafd1a31b00aa8de0fe + '\'>'+a
 ddy_texte696ddec66953eafd1a31b00aa8de0fe+'<\/a>';
		</script>&nbsp;know if 
 you would like to attend or call Janice on 07890804339.&nbsp; Cake will be 
 provided but please bring your own drink!</p> <a href="https://scacr.org/ne
 ws-events/calendar/1540/surprise-major-practice?tmpl=component">This event 
 was imported from: https://scacr.org/news-events/calendar/1540/surprise-maj
 or-practice?tmpl=component</a>CONTACT:This email address is being protected from spambots. You need JavaScript enabled to view it.
				document.getElementById('cloakf8d9fe82eee49d9a9ab2c8873a6032c0').innerHTML = '';
				var prefix = '&#109;a' + 'i&#108;' + '&#116;o';
				var path = 'hr' + 'ef' + '=';
				var addyf8d9fe82eee49d9a9ab2c8873a6032c0 = 's&#101;c-w&#101;st' + '&#64;';
				addyf8d9fe82eee49d9a9ab2c8873a6032c0 = addyf8d9fe82eee49d9a9ab2c8873a6032c0 + 'sc&#97;cr' + '&#46;' + '&#111;rg';
				var addy_textf8d9fe82eee49d9a9ab2c8873a6032c0 = 's&#101;c-w&#101;st' + '&#64;' + 'sc&#97;cr' + '&#46;' + '&#111;rg';document.getElementById('cloakf8d9fe82eee49d9a9ab2c8873a6032c0').innerHTML += '<a ' + path + '\'' + prefix + ':' + addyf8d9fe82eee49d9a9ab2c8873a6032c0 + '\'>'+addy_textf8d9fe82eee49d9a9ab2c8873a6032c0+'';
		  or 07890804339
DTSTAMP:20260424T173357
DTSTART;TZID=Europe/London:20251129T103000
DTEND;TZID=Europe/London:20251129T123000
SEQUENCE:0
TRANSP:OPAQUE
END:VEVENT
END:VCALENDAR