BEGIN:VCALENDAR
VERSION:2.0
PRODID:-//jEvents 2.0 for Joomla//EN
CALSCALE:GREGORIAN
METHOD:PUBLISH
BEGIN:VTIMEZONE
TZID:Europe/London
BEGIN:STANDARD
DTSTART:20251026T010000
RDATE:20260329T020000
TZOFFSETFROM:+0100
TZOFFSETTO:+0000
TZNAME:Europe/London GMT
END:STANDARD
BEGIN:STANDARD
DTSTART:20261025T010000
RDATE:20270328T020000
TZOFFSETFROM:+0100
TZOFFSETTO:+0000
TZNAME:Europe/London GMT
END:STANDARD
BEGIN:STANDARD
DTSTART:20271031T010000
RDATE:20280326T020000
TZOFFSETFROM:+0100
TZOFFSETTO:+0000
TZNAME:Europe/London GMT
END:STANDARD
BEGIN:STANDARD
DTSTART:20281029T010000
RDATE:20290325T020000
TZOFFSETFROM:+0100
TZOFFSETTO:+0000
TZNAME:Europe/London GMT
END:STANDARD
BEGIN:STANDARD
DTSTART:20291028T010000
RDATE:20300331T020000
TZOFFSETFROM:+0100
TZOFFSETTO:+0000
TZNAME:Europe/London GMT
END:STANDARD
BEGIN:STANDARD
DTSTART:20301027T010000
RDATE:20310330T020000
TZOFFSETFROM:+0100
TZOFFSETTO:+0000
TZNAME:Europe/London GMT
END:STANDARD
BEGIN:DAYLIGHT
DTSTART:20250501T123000
RDATE:20251026T010000
TZOFFSETFROM:+0000
TZOFFSETTO:+0100
TZNAME:Europe/London BST
END:DAYLIGHT
BEGIN:DAYLIGHT
DTSTART:20260329T020000
RDATE:20261025T010000
TZOFFSETFROM:+0000
TZOFFSETTO:+0100
TZNAME:Europe/London BST
END:DAYLIGHT
BEGIN:DAYLIGHT
DTSTART:20270328T020000
RDATE:20271031T010000
TZOFFSETFROM:+0000
TZOFFSETTO:+0100
TZNAME:Europe/London BST
END:DAYLIGHT
BEGIN:DAYLIGHT
DTSTART:20280326T020000
RDATE:20281029T010000
TZOFFSETFROM:+0000
TZOFFSETTO:+0100
TZNAME:Europe/London BST
END:DAYLIGHT
BEGIN:DAYLIGHT
DTSTART:20290325T020000
RDATE:20291028T010000
TZOFFSETFROM:+0000
TZOFFSETTO:+0100
TZNAME:Europe/London BST
END:DAYLIGHT
BEGIN:DAYLIGHT
DTSTART:20300331T020000
RDATE:20301027T010000
TZOFFSETFROM:+0000
TZOFFSETTO:+0100
TZNAME:Europe/London BST
END:DAYLIGHT
END:VTIMEZONE
BEGIN:VEVENT
UID:3bc64b2ff206c06b547a1649ffcca469
CATEGORIES:North
CREATED:20251219T224810
SUMMARY:Ringing with delicious Coffee and Cake! Turner’s Hill
LOCATION:Turner’s Hill\, St. Leonard 
URL;VALUE=URI:https://scacr.org/news-events/calendar/1576/ringing-with-delicious-coffee-a
 nd-cake-turner-s-hill?tmpl=component
DESCRIPTION:Join us from 12:30pm - 2:30pm, on Saturday 2nd May, at Turner’s Hill, St. L
 eonard’s, for a morning of social ringing with delicious coffee and cake!\n
 Ringing is tailored to suit all, including rounds on 8 onwards, including C
 all Changes, Grandsire, Stedman, and even Surprise Major (subject to availa
 ble experience)! To allow us to plan for expected numbers (so we don’t run 
 out of cake!), if you plan to join us we kindly request you complete this s
 hort form (https://forms.gle/kAs9Wpbh8agrMpQb7) before attending. A small t
 ower donation of £2/pp is kindly requested for the use of the bells.  For a
 ny questions, please don't hesitate to reach out to Tom at This email addre
 ss is being protected from spambots. You need JavaScript enabled to view it
 .
				document.getElementById('cloakd498673b034344d06a2dd479e90fe549').inne
 rHTML = '';
				var prefix = '&amp;#109;a' + 'i&amp;#108;' + '&amp;#116;o';
 
				var path = 'hr' + 'ef' + '=';
				var addyd498673b034344d06a2dd479e90f
 e549 = 's&amp;#101;c-n&amp;#111;rth' + '&amp;#64;';
				addyd498673b034344d
 06a2dd479e90fe549 = addyd498673b034344d06a2dd479e90fe549 + 'sc&amp;#97;cr' 
 + '&amp;#46;' + '&amp;#111;rg';
				var addy_textd498673b034344d06a2dd479e9
 0fe549 = 's&amp;#101;c-n&amp;#111;rth' + '&amp;#64;' + 'sc&amp;#97;cr' + '&
 amp;#46;' + '&amp;#111;rg';document.getElementById('cloakd498673b034344d06a
 2dd479e90fe549').innerHTML += '&lt;a ' + path + '\'' + prefix + ':' + addyd
 498673b034344d06a2dd479e90fe549 + '\'&gt;'+addy_textd498673b034344d06a2dd47
 9e90fe549+'&lt;\/a&gt;';
		. (mailto:sec-north@scacr.org.) We look forward 
 to seeing you there!  This event was imported from: https://scacr.org/news-
 events/calendar/1576/ringing-with-delicious-coffee-and-cake-turner-s-hill?t
 mpl=component (https://scacr.org/news-events/calendar/1576/ringing-with-del
 icious-coffee-and-cake-turner-s-hill?tmpl=component)
X-ALT-DESC;FMTTYPE=text/html:<p><span style="font-size: 12pt;">Join us from&nbsp;<strong><span style="te
 xt-decoration: underline;">12:30pm - 2:30pm</span></strong>, on&nbsp;<stron
 g><span style="text-decoration: underline;">Saturday 2nd May</span></strong
 >, at&nbsp;<strong><span style="text-decoration: underline;">Turner’s Hill,
  St. Leonard’s,</span></strong>&nbsp;for a morning of social ringing with d
 elicious coffee and cake!</span></p><div><span style="font-size: 12pt;">Rin
 ging is tailored to suit all,&nbsp;including rounds on 8 onwards, including
  Call Changes, Grandsire, Stedman, and even Surprise Major (subject to avai
 lable experience)! To allow us to plan for expected numbers (so we don’t ru
 n out of cake!), if you plan to join us we kindly request you <span style="
 color: #ff0000;"><a href="https://forms.gle/kAs9Wpbh8agrMpQb7" style="color
 : #ff0000;"><em><span style="text-decoration: underline;"><strong>complete 
 this short form</strong></span></em></a></span> before attending. A small t
 ower donation of £2/pp is kindly requested for the use of the bells.&nbsp;<
 /span></div><div>&nbsp;</div><div><span style="font-size: 12pt;">For any qu
 estions, please don't hesitate to reach out to Tom at <a href="mailto:sec-n
 orth@scacr.org."><span id="cloakd498673b034344d06a2dd479e90fe549">This emai
 l address is being protected from spambots. You need JavaScript enabled to 
 view it.</span><script type='text/javascript'>
				document.getElementById(
 'cloakd498673b034344d06a2dd479e90fe549').innerHTML = '';
				var prefix = '
 &#109;a' + 'i&#108;' + '&#116;o';
				var path = 'hr' + 'ef' + '=';
				var
  addyd498673b034344d06a2dd479e90fe549 = 's&#101;c-n&#111;rth' + '&#64;';
		
 		addyd498673b034344d06a2dd479e90fe549 = addyd498673b034344d06a2dd479e90fe5
 49 + 'sc&#97;cr' + '&#46;' + '&#111;rg';
				var addy_textd498673b034344d06
 a2dd479e90fe549 = 's&#101;c-n&#111;rth' + '&#64;' + 'sc&#97;cr' + '&#46;' +
  '&#111;rg';document.getElementById('cloakd498673b034344d06a2dd479e90fe549'
 ).innerHTML += '<a ' + path + '\'' + prefix + ':' + addyd498673b034344d06a2
 dd479e90fe549 + '\'>'+addy_textd498673b034344d06a2dd479e90fe549+'<\/a>';
		
 </script>.</a> We look forward to seeing you there!&nbsp;</span></div> <a h
 ref="https://scacr.org/news-events/calendar/1576/ringing-with-delicious-cof
 fee-and-cake-turner-s-hill?tmpl=component">This event was imported from: ht
 tps://scacr.org/news-events/calendar/1576/ringing-with-delicious-coffee-and
 -cake-turner-s-hill?tmpl=component</a>CONTACT:This email address is being protected from spambots. You need JavaScript enabled to view it.
				document.getElementById('cloake02e442b71caec33658be3982c8e3d31').innerHTML = '';
				var prefix = '&#109;a' + 'i&#108;' + '&#116;o';
				var path = 'hr' + 'ef' + '=';
				var addye02e442b71caec33658be3982c8e3d31 = 's&#101;c-n&#111;rth' + '&#64;';
				addye02e442b71caec33658be3982c8e3d31 = addye02e442b71caec33658be3982c8e3d31 + 'sc&#97;cr' + '&#46;' + '&#111;rg';
				var addy_texte02e442b71caec33658be3982c8e3d31 = 's&#101;c-n&#111;rth' + '&#64;' + 'sc&#97;cr' + '&#46;' + '&#111;rg';document.getElementById('cloake02e442b71caec33658be3982c8e3d31').innerHTML += '<a ' + path + '\'' + prefix + ':' + addye02e442b71caec33658be3982c8e3d31 + '\'>'+addy_texte02e442b71caec33658be3982c8e3d31+'';
		
X-EXTRAINFO:Sign up form here: https://forms.gle/kAs9Wpbh8agrMpQb7
DTSTAMP:20260420T065212
DTSTART;TZID=Europe/London:20260502T123000
DTEND;TZID=Europe/London:20260502T143000
SEQUENCE:0
TRANSP:OPAQUE
END:VEVENT
END:VCALENDAR