BEGIN:VCALENDAR
VERSION:2.0
PRODID:-//jEvents 2.0 for Joomla//EN
CALSCALE:GREGORIAN
METHOD:PUBLISH
BEGIN:VTIMEZONE
TZID:Europe/London
BEGIN:STANDARD
DTSTART:20251026T010000
RDATE:20260329T020000
TZOFFSETFROM:+0100
TZOFFSETTO:+0000
TZNAME:Europe/London GMT
END:STANDARD
BEGIN:STANDARD
DTSTART:20261025T010000
RDATE:20270328T020000
TZOFFSETFROM:+0100
TZOFFSETTO:+0000
TZNAME:Europe/London GMT
END:STANDARD
BEGIN:STANDARD
DTSTART:20271031T010000
RDATE:20280326T020000
TZOFFSETFROM:+0100
TZOFFSETTO:+0000
TZNAME:Europe/London GMT
END:STANDARD
BEGIN:STANDARD
DTSTART:20281029T010000
RDATE:20290325T020000
TZOFFSETFROM:+0100
TZOFFSETTO:+0000
TZNAME:Europe/London GMT
END:STANDARD
BEGIN:STANDARD
DTSTART:20291028T010000
RDATE:20300331T020000
TZOFFSETFROM:+0100
TZOFFSETTO:+0000
TZNAME:Europe/London GMT
END:STANDARD
BEGIN:STANDARD
DTSTART:20301027T010000
RDATE:20310330T020000
TZOFFSETFROM:+0100
TZOFFSETTO:+0000
TZNAME:Europe/London GMT
END:STANDARD
BEGIN:DAYLIGHT
DTSTART:20250430T193000
RDATE:20251026T010000
TZOFFSETFROM:+0000
TZOFFSETTO:+0100
TZNAME:Europe/London BST
END:DAYLIGHT
BEGIN:DAYLIGHT
DTSTART:20260329T020000
RDATE:20261025T010000
TZOFFSETFROM:+0000
TZOFFSETTO:+0100
TZNAME:Europe/London BST
END:DAYLIGHT
BEGIN:DAYLIGHT
DTSTART:20270328T020000
RDATE:20271031T010000
TZOFFSETFROM:+0000
TZOFFSETTO:+0100
TZNAME:Europe/London BST
END:DAYLIGHT
BEGIN:DAYLIGHT
DTSTART:20280326T020000
RDATE:20281029T010000
TZOFFSETFROM:+0000
TZOFFSETTO:+0100
TZNAME:Europe/London BST
END:DAYLIGHT
BEGIN:DAYLIGHT
DTSTART:20290325T020000
RDATE:20291028T010000
TZOFFSETFROM:+0000
TZOFFSETTO:+0100
TZNAME:Europe/London BST
END:DAYLIGHT
BEGIN:DAYLIGHT
DTSTART:20300331T020000
RDATE:20301027T010000
TZOFFSETFROM:+0000
TZOFFSETTO:+0100
TZNAME:Europe/London BST
END:DAYLIGHT
END:VTIMEZONE
BEGIN:VEVENT
UID:637e4f2dbb9df58e21dd7bddafd0d5b3
CATEGORIES:West
CREATED:20260413T161012
SUMMARY:General 8 Bell Practice
LOCATION:St Nicholas Church\, Arundel. 
URL;VALUE=URI:https://scacr.org/news-events/calendar/1625/general-8-bell-practice?tmpl=co
 mponent
DESCRIPTION:<p>&nbsp;Come along and enjoy ringing on this lovely ring of 8 bells in a p
 icturesque setting!&nbsp; &nbsp;All levels are welcome !!&nbsp; A great opp
 ortunity if you normally ring on 6 bells, to stretch the mind into counting
  up to 8!&nbsp; Rounds, call changes, Plain Hunt, Grandsire and Bob Triples
  can be practiced so do come and give it a try!</p><p>Any queries contact J
 anice on 07890804339 or e mail <span id="cloakcc87bc974c16020044c5616c222cc
 01f">This email address is being protected from spambots. You need JavaScri
 pt enabled to view it.</span><script type='text/javascript'>
				document.g
 etElementById('cloakcc87bc974c16020044c5616c222cc01f').innerHTML = '';
				
 var prefix = '&#109;a' + 'i&#108;' + '&#116;o';
				var path = 'hr' + 'ef' 
 + '=';
				var addycc87bc974c16020044c5616c222cc01f = 's&#101;c-w&#101;st' 
 + '&#64;';
				addycc87bc974c16020044c5616c222cc01f = addycc87bc974c1602004
 4c5616c222cc01f + 'sc&#97;cr' + '&#46;' + '&#111;rg';
				var addy_textcc87
 bc974c16020044c5616c222cc01f = 's&#101;c-w&#101;st' + '&#64;' + 'sc&#97;cr'
  + '&#46;' + '&#111;rg';document.getElementById('cloakcc87bc974c16020044c56
 16c222cc01f').innerHTML += '<a ' + path + '\'' + prefix + ':' + addycc87bc9
 74c16020044c5616c222cc01f + '\'>'+addy_textcc87bc974c16020044c5616c222cc01f
 +'<\/a>';
		</script></p> <a href="https://scacr.org/news-events/calendar/1
 625/general-8-bell-practice?tmpl=component">This event was imported from: h
 ttps://scacr.org/news-events/calendar/1625/general-8-bell-practice?tmpl=com
 ponent</a>CONTACT:This email address is being protected from spambots. You need JavaScript enabled to view it.
				document.getElementById('cloak18123fd75128187b832cffa104500f1a').innerHTML = '';
				var prefix = '&#109;a' + 'i&#108;' + '&#116;o';
				var path = 'hr' + 'ef' + '=';
				var addy18123fd75128187b832cffa104500f1a = 's&#101;c-w&#101;st' + '&#64;';
				addy18123fd75128187b832cffa104500f1a = addy18123fd75128187b832cffa104500f1a + 'sc&#97;cr' + '&#46;' + '&#111;rg';
				var addy_text18123fd75128187b832cffa104500f1a = 's&#101;c-w&#101;st' + '&#64;' + 'sc&#97;cr' + '&#46;' + '&#111;rg';document.getElementById('cloak18123fd75128187b832cffa104500f1a').innerHTML += '<a ' + path + '\'' + prefix + ':' + addy18123fd75128187b832cffa104500f1a + '\'>'+addy_text18123fd75128187b832cffa104500f1a+'';
		
DTSTAMP:20260423T102554
DTSTART;TZID=Europe/London:20260501T193000
DTEND;TZID=Europe/London:20260501T210000
SEQUENCE:0
TRANSP:OPAQUE
END:VEVENT
END:VCALENDAR