BEGIN:VCALENDAR
VERSION:2.0
PRODID:-//jEvents 2.0 for Joomla//EN
CALSCALE:GREGORIAN
METHOD:PUBLISH
BEGIN:VTIMEZONE
TZID:Europe/London
BEGIN:STANDARD
DTSTART:20211031T010000
RDATE:20220327T020000
TZOFFSETFROM:+0100
TZOFFSETTO:+0000
TZNAME:Europe/London GMT
END:STANDARD
BEGIN:STANDARD
DTSTART:20221030T010000
RDATE:20230326T020000
TZOFFSETFROM:+0100
TZOFFSETTO:+0000
TZNAME:Europe/London GMT
END:STANDARD
BEGIN:STANDARD
DTSTART:20231029T010000
RDATE:20240331T020000
TZOFFSETFROM:+0100
TZOFFSETTO:+0000
TZNAME:Europe/London GMT
END:STANDARD
BEGIN:STANDARD
DTSTART:20241027T010000
RDATE:20250330T020000
TZOFFSETFROM:+0100
TZOFFSETTO:+0000
TZNAME:Europe/London GMT
END:STANDARD
BEGIN:STANDARD
DTSTART:20251026T010000
RDATE:20260329T020000
TZOFFSETFROM:+0100
TZOFFSETTO:+0000
TZNAME:Europe/London GMT
END:STANDARD
BEGIN:STANDARD
DTSTART:20261025T010000
RDATE:20270328T020000
TZOFFSETFROM:+0100
TZOFFSETTO:+0000
TZNAME:Europe/London GMT
END:STANDARD
BEGIN:STANDARD
DTSTART:20271031T010000
RDATE:20280326T020000
TZOFFSETFROM:+0100
TZOFFSETTO:+0000
TZNAME:Europe/London GMT
END:STANDARD
BEGIN:STANDARD
DTSTART:20281029T010000
RDATE:20290325T020000
TZOFFSETFROM:+0100
TZOFFSETTO:+0000
TZNAME:Europe/London GMT
END:STANDARD
BEGIN:STANDARD
DTSTART:20291028T010000
RDATE:20300331T020000
TZOFFSETFROM:+0100
TZOFFSETTO:+0000
TZNAME:Europe/London GMT
END:STANDARD
BEGIN:STANDARD
DTSTART:20301027T010000
RDATE:20310330T020000
TZOFFSETFROM:+0100
TZOFFSETTO:+0000
TZNAME:Europe/London GMT
END:STANDARD
BEGIN:DAYLIGHT
DTSTART:20211028T000000
RDATE:20211031T010000
TZOFFSETFROM:+0000
TZOFFSETTO:+0100
TZNAME:Europe/London BST
END:DAYLIGHT
BEGIN:DAYLIGHT
DTSTART:20220327T020000
RDATE:20221030T010000
TZOFFSETFROM:+0000
TZOFFSETTO:+0100
TZNAME:Europe/London BST
END:DAYLIGHT
BEGIN:DAYLIGHT
DTSTART:20230326T020000
RDATE:20231029T010000
TZOFFSETFROM:+0000
TZOFFSETTO:+0100
TZNAME:Europe/London BST
END:DAYLIGHT
BEGIN:DAYLIGHT
DTSTART:20240331T020000
RDATE:20241027T010000
TZOFFSETFROM:+0000
TZOFFSETTO:+0100
TZNAME:Europe/London BST
END:DAYLIGHT
BEGIN:DAYLIGHT
DTSTART:20250330T020000
RDATE:20251026T010000
TZOFFSETFROM:+0000
TZOFFSETTO:+0100
TZNAME:Europe/London BST
END:DAYLIGHT
BEGIN:DAYLIGHT
DTSTART:20260329T020000
RDATE:20261025T010000
TZOFFSETFROM:+0000
TZOFFSETTO:+0100
TZNAME:Europe/London BST
END:DAYLIGHT
BEGIN:DAYLIGHT
DTSTART:20270328T020000
RDATE:20271031T010000
TZOFFSETFROM:+0000
TZOFFSETTO:+0100
TZNAME:Europe/London BST
END:DAYLIGHT
BEGIN:DAYLIGHT
DTSTART:20280326T020000
RDATE:20281029T010000
TZOFFSETFROM:+0000
TZOFFSETTO:+0100
TZNAME:Europe/London BST
END:DAYLIGHT
BEGIN:DAYLIGHT
DTSTART:20290325T020000
RDATE:20291028T010000
TZOFFSETFROM:+0000
TZOFFSETTO:+0100
TZNAME:Europe/London BST
END:DAYLIGHT
BEGIN:DAYLIGHT
DTSTART:20300331T020000
RDATE:20301027T010000
TZOFFSETFROM:+0000
TZOFFSETTO:+0100
TZNAME:Europe/London BST
END:DAYLIGHT
END:VTIMEZONE
BEGIN:VEVENT
UID:5589a4bbc9fa4053598fcd3f95e9f80f
CATEGORIES:East
CREATED:20220412T155728
SUMMARY:Eastern district ringing outing
LOCATION:Bracknell area
URL;VALUE=URI:https://scacr.org/news-events/calendar/943/eastern-district-ringing-outing?
 tmpl=component
DESCRIPTION:<p>Ringers outing to the Bracknell area. All abilities catered for. Come fo
 r a go on some different bells and a fun day out!</p><p>Saturday 29<span cl
 ass="x_s2">th</span>&nbsp;October 2022</p><table><tbody><tr><td><div><p>Tim
 e</p></div></td><td><div><p>Tower</p></div></td><td><div><p>Dedication</p><
 /div></td><td><div><p>Bells</p></div></td><td><div><p>Postcode</p></div></t
 d><td><div><p>Notes</p></div></td></tr><tr><td><div><p>9.45-10.30</p></div>
 </td><td><div><p>Twyford</p></div></td><td><div><p>St Mary the Virgin</p></
 div></td><td><div><p>8, 12-0-10</p></div></td><td><div><p>RG10 9NE</p></div
 ></td><td><div><p>Car Park in church grounds</p><p>Toilet available</p></di
 v></td></tr><tr><td><div><p>11.00-11.45</p></div></td><td><div><p>Waltham S
 t Lawrence</p></div></td><td><div><p>St Lawrence&nbsp;</p></div></td><td><d
 iv><p>6, 12cwt</p></div></td><td><div><p>RG10 0JJ</p></div></td><td><div><p
 >Street parking in front of church</p></div></td></tr><tr><td><div><p>12.15
  – 13.00</p></div></td><td><div><p>Binfield</p></div></td><td><div><p>All S
 aints</p></div></td><td><div><p>6, 9-0-2</p></div></td><td><div><p>RG42 5NS
 </p></div></td><td><div><p>Car park to east of church</p><p>Toilet availabl
 e</p></div></td></tr><tr><td colspan="6"><div><p><span class="x_s3">Lunch</
 span><span class="x_s3">&nbsp;– Various pubs and cafes</span></p><div><span
  class="x_s4">•&nbsp;</span><a href="https://www.tripadvisor.co.uk/Restaura
 nt_Review-g227124-d1553818-Reviews-The_Plough_Harrow-Bracknell_Berkshire_En
 gland.html" target="_blank" rel="noopener noreferrer" data-auth="NotApplica
 ble" data-linkindex="0"><span class="x_s5">Plough &amp; Harrow Forest Road 
 Warfield, Bracknell RG42 6AE&nbsp;</span></a></div><div class="x_s6"><span 
 class="x_s4">•&nbsp;</span><span class="x_s3">Victoria Arms&nbsp;</span><a 
 href="https://www.tripadvisor.co.uk/Restaurant_Review-g528797-d3940551-Revi
 ews-The_Victoria_Arms-Binfield_Berkshire_England.html" target="_blank" rel=
 "noopener noreferrer" data-auth="NotApplicable" data-linkindex="1"><span cl
 ass="x_s5">Terrace Road North Bracknell, Binfield RG42 5JA</span></a></div>
 <div class="x_s6"><span class="x_s4">•&nbsp;</span><span class="x_s3">West 
 End Farm Café,&nbsp;</span><span class="x_s5">West End Farm Stables, W End 
 Ln, Warfield, RG42</span><span class="x_s5"></span><span class="x_s5">5RH</
 span></div><div class="x_s6"><span class="x_s4">•&nbsp;</span><span class="
 x_s5">Robyn’s Nest Café,&nbsp;</span><span class="x_s3">Moss End Garden Cen
 tre, Maidenhead Road Bracknell&nbsp;</span><span class="x_s3">Bracknell</sp
 an><span class="x_s3">RG42 6</span><span class="x_s3">EJ</span></div><div c
 lass="x_s6"><span class="x_s4">•&nbsp;</span><span class="x_s3">The Foxes' 
 Den</span><span class="x_s3">&nbsp;Cafe</span><span class="x_s3">,&nbsp;</s
 pan><a href="https://www.bing.com/local?lid=YN1029x160491385511175875&amp;i
 d=YN1029x160491385511175875&amp;q=The+Foxes%27+Den%2c+Binfield&amp;name=The
 +Foxes%27+Den%2c+Binfield&amp;cp=51.43004608154297%7e-0.792972981929779&amp
 ;ppois=51.43004608154297_-0.792972981929779_The+Foxes%27+Den%2c+Binfield" t
 arget="_blank" rel="noopener noreferrer" data-auth="NotApplicable" data-lin
 kindex="2"><span class="x_s3">Benetfeld Road,&nbsp;</span><span class="x_s3
 ">Binfield</span><span class="x_s3">&nbsp;RG42 4EW</span></a></div><p class
 ="x_s9"><span class="x_s8"></span></p></div></td></tr><tr><td><div><p>14.30
 - 15.15</p></div></td><td><div><p>Warfield</p></div></td><td><div><p>St Mic
 hael the Archangel</p></div></td><td><div><p>10, 13-2-27</p></div></td><td>
 <div><p>RG42 6EE</p></div></td><td><div><p>Car park on opposite side of roa
 d to church.</p><p>Toilet available</p></div></td></tr><tr><td><div><p>15.4
 5 – 16.30</p></div></td><td><div><p>Easthamsptead</p></div></td><td><div><p
 >St Michael and St Mary Magdalene&nbsp;</p></div></td><td><div><p>8, 6-0-12
 </p></div></td><td><div><p>RG12 7ER</p></div></td><td><div><p>Car park to e
 ast of church.&nbsp;</p><p>Toilet available</p></div></td></tr><tr><td cols
 pan="6"><div><p>Tea and cake available after ringing at Easthampstead in Ch
 urch&nbsp;Annexe</p></div></td></tr></tbody></table><p>. Transport arrangem
 ents to follow.&nbsp;</p> <a href="https://scacr.org/news-events/calendar/9
 43/eastern-district-ringing-outing?tmpl=component">This event was imported 
 from: https://scacr.org/news-events/calendar/943/eastern-district-ringing-o
 uting?tmpl=component</a>CONTACT:This email address is being protected from spambots. You need JavaScript enabled to view it.
				document.getElementById('cloakfa6809b7b247d00a68465ea6c3085493').innerHTML = '';
				var prefix = '&#109;a' + 'i&#108;' + '&#116;o';
				var path = 'hr' + 'ef' + '=';
				var addyfa6809b7b247d00a68465ea6c3085493 = 's&#101;c-&#101;&#97;st' + '&#64;';
				addyfa6809b7b247d00a68465ea6c3085493 = addyfa6809b7b247d00a68465ea6c3085493 + 'sc&#97;cr' + '&#46;' + '&#111;rg';
				var addy_textfa6809b7b247d00a68465ea6c3085493 = 's&#101;c-&#101;&#97;st' + '&#64;' + 'sc&#97;cr' + '&#46;' + '&#111;rg';document.getElementById('cloakfa6809b7b247d00a68465ea6c3085493').innerHTML += '<a ' + path + '\'' + prefix + ':' + addyfa6809b7b247d00a68465ea6c3085493 + '\'>'+addy_textfa6809b7b247d00a68465ea6c3085493+'';
		
DTSTAMP:20260424T160550
DTSTART;TZID=Europe/London;VALUE=DATE:20221029
DTEND;TZID=Europe/London;VALUE=DATE:20221030
SEQUENCE:0
TRANSP:OPAQUE
END:VEVENT
END:VCALENDAR