BEGIN:VCALENDAR
VERSION:2.0
PRODID:-//jEvents 2.0 for Joomla//EN
CALSCALE:GREGORIAN
METHOD:PUBLISH
BEGIN:VTIMEZONE
TZID:Europe/London
BEGIN:STANDARD
DTSTART:20211104T103000
RDATE:20220327T020000
TZOFFSETFROM:+0100
TZOFFSETTO:+0000
TZNAME:Europe/London GMT
END:STANDARD
BEGIN:STANDARD
DTSTART:20221030T010000
RDATE:20230326T020000
TZOFFSETFROM:+0100
TZOFFSETTO:+0000
TZNAME:Europe/London GMT
END:STANDARD
BEGIN:STANDARD
DTSTART:20231029T010000
RDATE:20240331T020000
TZOFFSETFROM:+0100
TZOFFSETTO:+0000
TZNAME:Europe/London GMT
END:STANDARD
BEGIN:STANDARD
DTSTART:20241027T010000
RDATE:20250330T020000
TZOFFSETFROM:+0100
TZOFFSETTO:+0000
TZNAME:Europe/London GMT
END:STANDARD
BEGIN:STANDARD
DTSTART:20251026T010000
RDATE:20260329T020000
TZOFFSETFROM:+0100
TZOFFSETTO:+0000
TZNAME:Europe/London GMT
END:STANDARD
BEGIN:STANDARD
DTSTART:20261025T010000
RDATE:20270328T020000
TZOFFSETFROM:+0100
TZOFFSETTO:+0000
TZNAME:Europe/London GMT
END:STANDARD
BEGIN:STANDARD
DTSTART:20271031T010000
RDATE:20280326T020000
TZOFFSETFROM:+0100
TZOFFSETTO:+0000
TZNAME:Europe/London GMT
END:STANDARD
BEGIN:STANDARD
DTSTART:20281029T010000
RDATE:20290325T020000
TZOFFSETFROM:+0100
TZOFFSETTO:+0000
TZNAME:Europe/London GMT
END:STANDARD
BEGIN:STANDARD
DTSTART:20291028T010000
RDATE:20300331T020000
TZOFFSETFROM:+0100
TZOFFSETTO:+0000
TZNAME:Europe/London GMT
END:STANDARD
BEGIN:STANDARD
DTSTART:20301027T010000
RDATE:20310330T020000
TZOFFSETFROM:+0100
TZOFFSETTO:+0000
TZNAME:Europe/London GMT
END:STANDARD
BEGIN:DAYLIGHT
DTSTART:20220327T020000
RDATE:20221030T010000
TZOFFSETFROM:+0000
TZOFFSETTO:+0100
TZNAME:Europe/London BST
END:DAYLIGHT
BEGIN:DAYLIGHT
DTSTART:20230326T020000
RDATE:20231029T010000
TZOFFSETFROM:+0000
TZOFFSETTO:+0100
TZNAME:Europe/London BST
END:DAYLIGHT
BEGIN:DAYLIGHT
DTSTART:20240331T020000
RDATE:20241027T010000
TZOFFSETFROM:+0000
TZOFFSETTO:+0100
TZNAME:Europe/London BST
END:DAYLIGHT
BEGIN:DAYLIGHT
DTSTART:20250330T020000
RDATE:20251026T010000
TZOFFSETFROM:+0000
TZOFFSETTO:+0100
TZNAME:Europe/London BST
END:DAYLIGHT
BEGIN:DAYLIGHT
DTSTART:20260329T020000
RDATE:20261025T010000
TZOFFSETFROM:+0000
TZOFFSETTO:+0100
TZNAME:Europe/London BST
END:DAYLIGHT
BEGIN:DAYLIGHT
DTSTART:20270328T020000
RDATE:20271031T010000
TZOFFSETFROM:+0000
TZOFFSETTO:+0100
TZNAME:Europe/London BST
END:DAYLIGHT
BEGIN:DAYLIGHT
DTSTART:20280326T020000
RDATE:20281029T010000
TZOFFSETFROM:+0000
TZOFFSETTO:+0100
TZNAME:Europe/London BST
END:DAYLIGHT
BEGIN:DAYLIGHT
DTSTART:20290325T020000
RDATE:20291028T010000
TZOFFSETFROM:+0000
TZOFFSETTO:+0100
TZNAME:Europe/London BST
END:DAYLIGHT
BEGIN:DAYLIGHT
DTSTART:20300331T020000
RDATE:20301027T010000
TZOFFSETFROM:+0000
TZOFFSETTO:+0100
TZNAME:Europe/London BST
END:DAYLIGHT
END:VTIMEZONE
BEGIN:VEVENT
UID:e21fe7d159994e75d25e622f196204d9
CATEGORIES:North
CREATED:20220611T145321
SUMMARY:Ringing with Pub Lunch - Rudgwick
LOCATION:Rudgwick
URL;VALUE=URI:https://scacr.org/news-events/calendar/974/ringing-with-pub-lunch-rudgwick?
 tmpl=component
DESCRIPTION:Join us for open ringing on the lovely bells at Rudgwick - and boggle your 
 mind with an anti-clockwise peal of bells!  Ringing will be rounds onwards 
 - all welcome (if you're not so confident in ringing at different towers, p
 lease do bring a helper or teacher with you).  Come along to ring on some d
 ifferent bells, get some extra practise in, or ring something that you woul
 dn't get to ring in your own tower.\nRinging will be followed by pub lunch 
 in the King's Head (https://www.kingsheadrudgwick.co.uk/), next door to the
  church. Please book your own table (This email address is being protected 
 from spambots. You need JavaScript enabled to view it.
				document.getElem
 entById('cloak1cfd256060c5cd54e7ff4f695a3f59a6').innerHTML = '';
				var pr
 efix = '&#109;a' + 'i&#108;' + '&#116;o';
				var path = 'hr' + 'ef' + '=';
 
				var addy1cfd256060c5cd54e7ff4f695a3f59a6 = 'k&#105;ngsh&#101;&#97;dr&#
 117;dgw&#105;ck' + '&#64;';
				addy1cfd256060c5cd54e7ff4f695a3f59a6 = addy
 1cfd256060c5cd54e7ff4f695a3f59a6 + 'y&#97;h&#111;&#111;' + '&#46;' + 'c&#11
 1;' + '&#46;' + '&#117;k';
				var addy_text1cfd256060c5cd54e7ff4f695a3f59a
 6 = 'k&#105;ngsh&#101;&#97;dr&#117;dgw&#105;ck' + '&#64;' + 'y&#97;h&#111;&
 #111;' + '&#46;' + 'c&#111;' + '&#46;' + '&#117;k';document.getElementById(
 'cloak1cfd256060c5cd54e7ff4f695a3f59a6').innerHTML += '<a ' + path + '\'' +
  prefix + ':' + addy1cfd256060c5cd54e7ff4f695a3f59a6 + '\'>'+addy_text1cfd2
 56060c5cd54e7ff4f695a3f59a6+'';
		 or 01403 822200).  \nThere is free parki
 ng on-street in the village and in the pub car park across the road from th
 e church and pub. \nAddress: Church Street, Rudgwick, RH12 3EB. \n This eve
 nt was imported from: https://scacr.org/news-events/calendar/974/ringing-wi
 th-pub-lunch-rudgwick?tmpl=component (https://scacr.org/news-events/calenda
 r/974/ringing-with-pub-lunch-rudgwick?tmpl=component)
X-ALT-DESC;FMTTYPE=text/html:<p>Join us for open ringing on the lovely bells at Rudgwick - and boggle yo
 ur mind with an anti-clockwise peal of bells!&nbsp; Ringing will be rounds 
 onwards - all welcome (if you're not so confident in ringing at different t
 owers, please do bring a helper or teacher with you).&nbsp; Come along to r
 ing on some different bells, get some extra practise in, or ring something 
 that you wouldn't get to ring in your own tower.</p><p>Ringing will be foll
 owed by pub lunch in the <a href="https://www.kingsheadrudgwick.co.uk/">Kin
 g's Head</a>, next door to the church. Please book your own table (<span id
 ="cloak1cfd256060c5cd54e7ff4f695a3f59a6">This email address is being protec
 ted from spambots. You need JavaScript enabled to view it.</span><script ty
 pe='text/javascript'>
				document.getElementById('cloak1cfd256060c5cd54e7f
 f4f695a3f59a6').innerHTML = '';
				var prefix = '&#109;a' + 'i&#108;' + '&
 #116;o';
				var path = 'hr' + 'ef' + '=';
				var addy1cfd256060c5cd54e7ff
 4f695a3f59a6 = 'k&#105;ngsh&#101;&#97;dr&#117;dgw&#105;ck' + '&#64;';
				a
 ddy1cfd256060c5cd54e7ff4f695a3f59a6 = addy1cfd256060c5cd54e7ff4f695a3f59a6 
 + 'y&#97;h&#111;&#111;' + '&#46;' + 'c&#111;' + '&#46;' + '&#117;k';
				va
 r addy_text1cfd256060c5cd54e7ff4f695a3f59a6 = 'k&#105;ngsh&#101;&#97;dr&#11
 7;dgw&#105;ck' + '&#64;' + 'y&#97;h&#111;&#111;' + '&#46;' + 'c&#111;' + '&
 #46;' + '&#117;k';document.getElementById('cloak1cfd256060c5cd54e7ff4f695a3
 f59a6').innerHTML += '<a ' + path + '\'' + prefix + ':' + addy1cfd256060c5c
 d54e7ff4f695a3f59a6 + '\'>'+addy_text1cfd256060c5cd54e7ff4f695a3f59a6+'<\/a
 >';
		</script>&nbsp;or&nbsp;01403 822200).&nbsp;&nbsp;</p><p>There is free
  parking on-street in the village and in the pub car park across the road f
 rom the church and pub.&nbsp;</p><p>Address: Church Street, Rudgwick, RH12 
 3EB.&nbsp;</p> <a href="https://scacr.org/news-events/calendar/974/ringing-
 with-pub-lunch-rudgwick?tmpl=component">This event was imported from: https
 ://scacr.org/news-events/calendar/974/ringing-with-pub-lunch-rudgwick?tmpl=
 component</a>CONTACT:This email address is being protected from spambots. You need JavaScript enabled to view it.
				document.getElementById('cloakd22f69c709bf9c66ce7f2c084300f67f').innerHTML = '';
				var prefix = '&#109;a' + 'i&#108;' + '&#116;o';
				var path = 'hr' + 'ef' + '=';
				var addyd22f69c709bf9c66ce7f2c084300f67f = 's&#101;c-n&#111;rth' + '&#64;';
				addyd22f69c709bf9c66ce7f2c084300f67f = addyd22f69c709bf9c66ce7f2c084300f67f + 'sc&#97;cr' + '&#46;' + '&#111;rg';
				var addy_textd22f69c709bf9c66ce7f2c084300f67f = 's&#101;c-n&#111;rth' + '&#64;' + 'sc&#97;cr' + '&#46;' + '&#111;rg';document.getElementById('cloakd22f69c709bf9c66ce7f2c084300f67f').innerHTML += '<a ' + path + '\'' + prefix + ':' + addyd22f69c709bf9c66ce7f2c084300f67f + '\'>'+addy_textd22f69c709bf9c66ce7f2c084300f67f+'';
		
DTSTAMP:20260424T173411
DTSTART;TZID=Europe/London:20221105T103000
DTEND;TZID=Europe/London:20221105T120000
SEQUENCE:0
TRANSP:OPAQUE
END:VEVENT
END:VCALENDAR