BEGIN:VCALENDAR
VERSION:2.0
PRODID:-//jEvents 2.0 for Joomla//EN
CALSCALE:GREGORIAN
METHOD:PUBLISH
BEGIN:VTIMEZONE
TZID:Europe/London
BEGIN:STANDARD
DTSTART:20211118T100000
RDATE:20220327T020000
TZOFFSETFROM:+0100
TZOFFSETTO:+0000
TZNAME:Europe/London GMT
END:STANDARD
BEGIN:STANDARD
DTSTART:20221030T010000
RDATE:20230326T020000
TZOFFSETFROM:+0100
TZOFFSETTO:+0000
TZNAME:Europe/London GMT
END:STANDARD
BEGIN:STANDARD
DTSTART:20231029T010000
RDATE:20240331T020000
TZOFFSETFROM:+0100
TZOFFSETTO:+0000
TZNAME:Europe/London GMT
END:STANDARD
BEGIN:STANDARD
DTSTART:20241027T010000
RDATE:20250330T020000
TZOFFSETFROM:+0100
TZOFFSETTO:+0000
TZNAME:Europe/London GMT
END:STANDARD
BEGIN:STANDARD
DTSTART:20251026T010000
RDATE:20260329T020000
TZOFFSETFROM:+0100
TZOFFSETTO:+0000
TZNAME:Europe/London GMT
END:STANDARD
BEGIN:STANDARD
DTSTART:20261025T010000
RDATE:20270328T020000
TZOFFSETFROM:+0100
TZOFFSETTO:+0000
TZNAME:Europe/London GMT
END:STANDARD
BEGIN:STANDARD
DTSTART:20271031T010000
RDATE:20280326T020000
TZOFFSETFROM:+0100
TZOFFSETTO:+0000
TZNAME:Europe/London GMT
END:STANDARD
BEGIN:STANDARD
DTSTART:20281029T010000
RDATE:20290325T020000
TZOFFSETFROM:+0100
TZOFFSETTO:+0000
TZNAME:Europe/London GMT
END:STANDARD
BEGIN:STANDARD
DTSTART:20291028T010000
RDATE:20300331T020000
TZOFFSETFROM:+0100
TZOFFSETTO:+0000
TZNAME:Europe/London GMT
END:STANDARD
BEGIN:STANDARD
DTSTART:20301027T010000
RDATE:20310330T020000
TZOFFSETFROM:+0100
TZOFFSETTO:+0000
TZNAME:Europe/London GMT
END:STANDARD
BEGIN:DAYLIGHT
DTSTART:20220327T020000
RDATE:20221030T010000
TZOFFSETFROM:+0000
TZOFFSETTO:+0100
TZNAME:Europe/London BST
END:DAYLIGHT
BEGIN:DAYLIGHT
DTSTART:20230326T020000
RDATE:20231029T010000
TZOFFSETFROM:+0000
TZOFFSETTO:+0100
TZNAME:Europe/London BST
END:DAYLIGHT
BEGIN:DAYLIGHT
DTSTART:20240331T020000
RDATE:20241027T010000
TZOFFSETFROM:+0000
TZOFFSETTO:+0100
TZNAME:Europe/London BST
END:DAYLIGHT
BEGIN:DAYLIGHT
DTSTART:20250330T020000
RDATE:20251026T010000
TZOFFSETFROM:+0000
TZOFFSETTO:+0100
TZNAME:Europe/London BST
END:DAYLIGHT
BEGIN:DAYLIGHT
DTSTART:20260329T020000
RDATE:20261025T010000
TZOFFSETFROM:+0000
TZOFFSETTO:+0100
TZNAME:Europe/London BST
END:DAYLIGHT
BEGIN:DAYLIGHT
DTSTART:20270328T020000
RDATE:20271031T010000
TZOFFSETFROM:+0000
TZOFFSETTO:+0100
TZNAME:Europe/London BST
END:DAYLIGHT
BEGIN:DAYLIGHT
DTSTART:20280326T020000
RDATE:20281029T010000
TZOFFSETFROM:+0000
TZOFFSETTO:+0100
TZNAME:Europe/London BST
END:DAYLIGHT
BEGIN:DAYLIGHT
DTSTART:20290325T020000
RDATE:20291028T010000
TZOFFSETFROM:+0000
TZOFFSETTO:+0100
TZNAME:Europe/London BST
END:DAYLIGHT
BEGIN:DAYLIGHT
DTSTART:20300331T020000
RDATE:20301027T010000
TZOFFSETFROM:+0000
TZOFFSETTO:+0100
TZNAME:Europe/London BST
END:DAYLIGHT
END:VTIMEZONE
BEGIN:VEVENT
UID:c8d5edfac126cb82bea75231c982c4cd
CATEGORIES:South
CREATED:20220630T144532
SUMMARY:Stedman at Ringmer
LOCATION:Ringmer
URL;VALUE=URI:https://scacr.org/news-events/calendar/990/stedman-at-ringmer?tmpl=componen
 t
DESCRIPTION:Ringmer is a ring of eight bells near the village green.  Parking is normal
 ly available in the car park just outside the tower but if necessary there 
 are also local roads that can be used.\nIt would be nice to welcome ringers
  who wish to practice or help others with Stedman either doubles or triples
 .  The ringing will be run by David House.\nPlease let Richard Neal Souther
 n District Secretary (mailto:This email address is being protected from spa
 mbots. You need JavaScript enabled to view it.
				document.getElementById(
 'cloak56a5035844ff588794fc9995d7a2fc67').innerHTML = '';
				var prefix = '
 &#109;a' + 'i&#108;' + '&#116;o';
				var path = 'hr' + 'ef' + '=';
				var
  addy56a5035844ff588794fc9995d7a2fc67 = 's&#101;c-s&#111;&#117;th' + '&#64;
 ';
				addy56a5035844ff588794fc9995d7a2fc67 = addy56a5035844ff588794fc9995d
 7a2fc67 + 'sc&#97;cr' + '&#46;' + '&#111;rg';
				var addy_text56a5035844ff
 588794fc9995d7a2fc67 = 's&#101;c-s&#111;&#117;th' + '&#64;' + 'sc&#97;cr' +
  '&#46;' + '&#111;rg';document.getElementById('cloak56a5035844ff588794fc999
 5d7a2fc67').innerHTML += '<a ' + path + '\'' + prefix + ':' + addy56a503584
 4ff588794fc9995d7a2fc67 + '\'>'+addy_text56a5035844ff588794fc9995d7a2fc67+'
 ';
		) know if you will be attending.\n This event was imported from: https
 ://scacr.org/news-events/calendar/990/stedman-at-ringmer?tmpl=component (ht
 tps://scacr.org/news-events/calendar/990/stedman-at-ringmer?tmpl=component)
X-ALT-DESC;FMTTYPE=text/html:<p>Ringmer is a ring of eight bells near the village green.&nbsp; Parking i
 s normally available in the car park just outside the tower but if necessar
 y there are also local roads that can be used.</p><p>It would be nice to we
 lcome ringers who wish to practice or help others with Stedman either doubl
 es or triples.&nbsp; The ringing will be run by David House.</p><p>Please l
 et Richard Neal Southern District Secretary (mailto:<span id="cloak56a50358
 44ff588794fc9995d7a2fc67">This email address is being protected from spambo
 ts. You need JavaScript enabled to view it.</span><script type='text/javasc
 ript'>
				document.getElementById('cloak56a5035844ff588794fc9995d7a2fc67')
 .innerHTML = '';
				var prefix = '&#109;a' + 'i&#108;' + '&#116;o';
				va
 r path = 'hr' + 'ef' + '=';
				var addy56a5035844ff588794fc9995d7a2fc67 = 
 's&#101;c-s&#111;&#117;th' + '&#64;';
				addy56a5035844ff588794fc9995d7a2f
 c67 = addy56a5035844ff588794fc9995d7a2fc67 + 'sc&#97;cr' + '&#46;' + '&#111
 ;rg';
				var addy_text56a5035844ff588794fc9995d7a2fc67 = 's&#101;c-s&#111;
 &#117;th' + '&#64;' + 'sc&#97;cr' + '&#46;' + '&#111;rg';document.getElemen
 tById('cloak56a5035844ff588794fc9995d7a2fc67').innerHTML += '<a ' + path + 
 '\'' + prefix + ':' + addy56a5035844ff588794fc9995d7a2fc67 + '\'>'+addy_tex
 t56a5035844ff588794fc9995d7a2fc67+'<\/a>';
		</script>) know if you will be
  attending.</p> <a href="https://scacr.org/news-events/calendar/990/stedman
 -at-ringmer?tmpl=component">This event was imported from: https://scacr.org
 /news-events/calendar/990/stedman-at-ringmer?tmpl=component</a>CONTACT:Richard Neal (District Secretary)  This email address is being protected from spambots. You need JavaScript enabled to view it.
				document.getElementById('cloak290ca63b5134e59fd6d05fc298fbb684').innerHTML = '';
				var prefix = '&#109;a' + 'i&#108;' + '&#116;o';
				var path = 'hr' + 'ef' + '=';
				var addy290ca63b5134e59fd6d05fc298fbb684 = 's&#101;c-s&#111;&#117;th' + '&#64;';
				addy290ca63b5134e59fd6d05fc298fbb684 = addy290ca63b5134e59fd6d05fc298fbb684 + 'sc&#97;cr' + '&#46;' + '&#111;rg';
				var addy_text290ca63b5134e59fd6d05fc298fbb684 = 's&#101;c-s&#111;&#117;th' + '&#64;' + 'sc&#97;cr' + '&#46;' + '&#111;rg';document.getElementById('cloak290ca63b5134e59fd6d05fc298fbb684').innerHTML += '<a ' + path + '\'' + prefix + ':' + addy290ca63b5134e59fd6d05fc298fbb684 + '\'>'+addy_text290ca63b5134e59fd6d05fc298fbb684+'';
		
DTSTAMP:20260424T173406
DTSTART;TZID=Europe/London:20221119T100000
DTEND;TZID=Europe/London:20221119T120000
SEQUENCE:0
TRANSP:OPAQUE
END:VEVENT
END:VCALENDAR