BEGIN:VCALENDAR
VERSION:2.0
PRODID:-//jEvents 2.0 for Joomla//EN
CALSCALE:GREGORIAN
METHOD:PUBLISH
BEGIN:VTIMEZONE
TZID:Europe/London
BEGIN:STANDARD
DTSTART:20211031T010000
RDATE:20220327T020000
TZOFFSETFROM:+0100
TZOFFSETTO:+0000
TZNAME:Europe/London GMT
END:STANDARD
BEGIN:STANDARD
DTSTART:20221030T010000
RDATE:20230326T020000
TZOFFSETFROM:+0100
TZOFFSETTO:+0000
TZNAME:Europe/London GMT
END:STANDARD
BEGIN:STANDARD
DTSTART:20231029T010000
RDATE:20240331T020000
TZOFFSETFROM:+0100
TZOFFSETTO:+0000
TZNAME:Europe/London GMT
END:STANDARD
BEGIN:STANDARD
DTSTART:20241027T010000
RDATE:20250330T020000
TZOFFSETFROM:+0100
TZOFFSETTO:+0000
TZNAME:Europe/London GMT
END:STANDARD
BEGIN:STANDARD
DTSTART:20251026T010000
RDATE:20260329T020000
TZOFFSETFROM:+0100
TZOFFSETTO:+0000
TZNAME:Europe/London GMT
END:STANDARD
BEGIN:STANDARD
DTSTART:20261025T010000
RDATE:20270328T020000
TZOFFSETFROM:+0100
TZOFFSETTO:+0000
TZNAME:Europe/London GMT
END:STANDARD
BEGIN:STANDARD
DTSTART:20271031T010000
RDATE:20280326T020000
TZOFFSETFROM:+0100
TZOFFSETTO:+0000
TZNAME:Europe/London GMT
END:STANDARD
BEGIN:STANDARD
DTSTART:20281029T010000
RDATE:20290325T020000
TZOFFSETFROM:+0100
TZOFFSETTO:+0000
TZNAME:Europe/London GMT
END:STANDARD
BEGIN:STANDARD
DTSTART:20291028T010000
RDATE:20300331T020000
TZOFFSETFROM:+0100
TZOFFSETTO:+0000
TZNAME:Europe/London GMT
END:STANDARD
BEGIN:STANDARD
DTSTART:20301027T010000
RDATE:20310330T020000
TZOFFSETFROM:+0100
TZOFFSETTO:+0000
TZNAME:Europe/London GMT
END:STANDARD
BEGIN:DAYLIGHT
DTSTART:20210916T100000
RDATE:20211031T010000
TZOFFSETFROM:+0000
TZOFFSETTO:+0100
TZNAME:Europe/London BST
END:DAYLIGHT
BEGIN:DAYLIGHT
DTSTART:20220327T020000
RDATE:20221030T010000
TZOFFSETFROM:+0000
TZOFFSETTO:+0100
TZNAME:Europe/London BST
END:DAYLIGHT
BEGIN:DAYLIGHT
DTSTART:20230326T020000
RDATE:20231029T010000
TZOFFSETFROM:+0000
TZOFFSETTO:+0100
TZNAME:Europe/London BST
END:DAYLIGHT
BEGIN:DAYLIGHT
DTSTART:20240331T020000
RDATE:20241027T010000
TZOFFSETFROM:+0000
TZOFFSETTO:+0100
TZNAME:Europe/London BST
END:DAYLIGHT
BEGIN:DAYLIGHT
DTSTART:20250330T020000
RDATE:20251026T010000
TZOFFSETFROM:+0000
TZOFFSETTO:+0100
TZNAME:Europe/London BST
END:DAYLIGHT
BEGIN:DAYLIGHT
DTSTART:20260329T020000
RDATE:20261025T010000
TZOFFSETFROM:+0000
TZOFFSETTO:+0100
TZNAME:Europe/London BST
END:DAYLIGHT
BEGIN:DAYLIGHT
DTSTART:20270328T020000
RDATE:20271031T010000
TZOFFSETFROM:+0000
TZOFFSETTO:+0100
TZNAME:Europe/London BST
END:DAYLIGHT
BEGIN:DAYLIGHT
DTSTART:20280326T020000
RDATE:20281029T010000
TZOFFSETFROM:+0000
TZOFFSETTO:+0100
TZNAME:Europe/London BST
END:DAYLIGHT
BEGIN:DAYLIGHT
DTSTART:20290325T020000
RDATE:20291028T010000
TZOFFSETFROM:+0000
TZOFFSETTO:+0100
TZNAME:Europe/London BST
END:DAYLIGHT
BEGIN:DAYLIGHT
DTSTART:20300331T020000
RDATE:20301027T010000
TZOFFSETFROM:+0000
TZOFFSETTO:+0100
TZNAME:Europe/London BST
END:DAYLIGHT
END:VTIMEZONE
BEGIN:VEVENT
UID:58dcf79b0d6ad2ef696f5022961b7c57
CATEGORIES:South
CREATED:20220805T095249
SUMMARY:CANCELLED Cambridge Surprise Practice
LOCATION:Hurstpierpoint
URL;VALUE=URI:https://scacr.org/news-events/calendar/997/cancelled-cambridge-surprise-pra
 ctice?tmpl=component
DESCRIPTION: I regret to inform you that the Cambridge practice at Hurstpierpoint has b
 een cancelled (postponed).  I am considering a new date of the 22nd October
  2022.\nPerhaps you would let me know your availability for the revised dat
 e.\nPlease let Richard Neal Southern District Secretary (mailto:This email 
 address is being protected from spambots. You need JavaScript enabled to vi
 ew it.
				document.getElementById('cloakd977114b4a86d37d8fce8697ffbe06f9')
 .innerHTML = '';
				var prefix = '&#109;a' + 'i&#108;' + '&#116;o';
				va
 r path = 'hr' + 'ef' + '=';
				var addyd977114b4a86d37d8fce8697ffbe06f9 = 
 's&#101;c-s&#111;&#117;th' + '&#64;';
				addyd977114b4a86d37d8fce8697ffbe0
 6f9 = addyd977114b4a86d37d8fce8697ffbe06f9 + 'sc&#97;cr' + '&#46;' + '&#111
 ;rg';
				var addy_textd977114b4a86d37d8fce8697ffbe06f9 = 's&#101;c-s&#111;
 &#117;th' + '&#64;' + 'sc&#97;cr' + '&#46;' + '&#111;rg';document.getElemen
 tById('cloakd977114b4a86d37d8fce8697ffbe06f9').innerHTML += '<a ' + path + 
 '\'' + prefix + ':' + addyd977114b4a86d37d8fce8697ffbe06f9 + '\'>'+addy_tex
 td977114b4a86d37d8fce8697ffbe06f9+'';
		)  if you need more information.\n 
 This event was imported from: https://scacr.org/news-events/calendar/997/ca
 ncelled-cambridge-surprise-practice?tmpl=component (https://scacr.org/news-
 events/calendar/997/cancelled-cambridge-surprise-practice?tmpl=component)
X-ALT-DESC;FMTTYPE=text/html:<p>&nbsp;I regret to inform you that the Cambridge practice at Hurstpierpoi
 nt has been cancelled (postponed).&nbsp; I am considering a new date of the
 &nbsp;22nd October 2022.</p><p>Perhaps you&nbsp;would let me know your avai
 lability&nbsp;for the revised date.</p><p>Please let Richard Neal Southern 
 District Secretary (mailto:<span id="cloakd977114b4a86d37d8fce8697ffbe06f9"
 >This email address is being protected from spambots. You need JavaScript e
 nabled to view it.</span><script type='text/javascript'>
				document.getEl
 ementById('cloakd977114b4a86d37d8fce8697ffbe06f9').innerHTML = '';
				var 
 prefix = '&#109;a' + 'i&#108;' + '&#116;o';
				var path = 'hr' + 'ef' + '=
 ';
				var addyd977114b4a86d37d8fce8697ffbe06f9 = 's&#101;c-s&#111;&#117;th
 ' + '&#64;';
				addyd977114b4a86d37d8fce8697ffbe06f9 = addyd977114b4a86d37
 d8fce8697ffbe06f9 + 'sc&#97;cr' + '&#46;' + '&#111;rg';
				var addy_textd9
 77114b4a86d37d8fce8697ffbe06f9 = 's&#101;c-s&#111;&#117;th' + '&#64;' + 'sc
 &#97;cr' + '&#46;' + '&#111;rg';document.getElementById('cloakd977114b4a86d
 37d8fce8697ffbe06f9').innerHTML += '<a ' + path + '\'' + prefix + ':' + add
 yd977114b4a86d37d8fce8697ffbe06f9 + '\'>'+addy_textd977114b4a86d37d8fce8697
 ffbe06f9+'<\/a>';
		</script>)&nbsp; if you need more information.</p> <a h
 ref="https://scacr.org/news-events/calendar/997/cancelled-cambridge-surpris
 e-practice?tmpl=component">This event was imported from: https://scacr.org/
 news-events/calendar/997/cancelled-cambridge-surprise-practice?tmpl=compone
 nt</a>CONTACT:Richard Neal (District Secretary)  This email address is being protected from spambots. You need JavaScript enabled to view it.
				document.getElementById('cloak55c7303ea06b0e18c7a2597bbad03594').innerHTML = '';
				var prefix = '&#109;a' + 'i&#108;' + '&#116;o';
				var path = 'hr' + 'ef' + '=';
				var addy55c7303ea06b0e18c7a2597bbad03594 = 's&#101;c-s&#111;&#117;th' + '&#64;';
				addy55c7303ea06b0e18c7a2597bbad03594 = addy55c7303ea06b0e18c7a2597bbad03594 + 'sc&#97;cr' + '&#46;' + '&#111;rg';
				var addy_text55c7303ea06b0e18c7a2597bbad03594 = 's&#101;c-s&#111;&#117;th' + '&#64;' + 'sc&#97;cr' + '&#46;' + '&#111;rg';document.getElementById('cloak55c7303ea06b0e18c7a2597bbad03594').innerHTML += '<a ' + path + '\'' + prefix + ':' + addy55c7303ea06b0e18c7a2597bbad03594 + '\'>'+addy_text55c7303ea06b0e18c7a2597bbad03594+'';
		
DTSTAMP:20260423T200904
DTSTART;TZID=Europe/London:20220917T100000
DTEND;TZID=Europe/London:20220917T120000
SEQUENCE:0
TRANSP:OPAQUE
END:VEVENT
END:VCALENDAR