BEGIN:VCALENDAR
VERSION:2.0
PRODID:-//jEvents 2.0 for Joomla//EN
CALSCALE:GREGORIAN
METHOD:PUBLISH
BEGIN:VTIMEZONE
TZID:Europe/London
BEGIN:STANDARD
DTSTART:20161110T140000
RDATE:20170326T020000
TZOFFSETFROM:+0100
TZOFFSETTO:+0000
TZNAME:Europe/London GMT
END:STANDARD
BEGIN:STANDARD
DTSTART:20171029T010000
RDATE:20180325T020000
TZOFFSETFROM:+0100
TZOFFSETTO:+0000
TZNAME:Europe/London GMT
END:STANDARD
BEGIN:STANDARD
DTSTART:20181028T010000
RDATE:20190331T020000
TZOFFSETFROM:+0100
TZOFFSETTO:+0000
TZNAME:Europe/London GMT
END:STANDARD
BEGIN:STANDARD
DTSTART:20191027T010000
RDATE:20200329T020000
TZOFFSETFROM:+0100
TZOFFSETTO:+0000
TZNAME:Europe/London GMT
END:STANDARD
BEGIN:STANDARD
DTSTART:20201025T010000
RDATE:20210328T020000
TZOFFSETFROM:+0100
TZOFFSETTO:+0000
TZNAME:Europe/London GMT
END:STANDARD
BEGIN:STANDARD
DTSTART:20211031T010000
RDATE:20220327T020000
TZOFFSETFROM:+0100
TZOFFSETTO:+0000
TZNAME:Europe/London GMT
END:STANDARD
BEGIN:STANDARD
DTSTART:20221030T010000
RDATE:20230326T020000
TZOFFSETFROM:+0100
TZOFFSETTO:+0000
TZNAME:Europe/London GMT
END:STANDARD
BEGIN:STANDARD
DTSTART:20231029T010000
RDATE:20240331T020000
TZOFFSETFROM:+0100
TZOFFSETTO:+0000
TZNAME:Europe/London GMT
END:STANDARD
BEGIN:STANDARD
DTSTART:20241027T010000
RDATE:20250330T020000
TZOFFSETFROM:+0100
TZOFFSETTO:+0000
TZNAME:Europe/London GMT
END:STANDARD
BEGIN:STANDARD
DTSTART:20251026T010000
RDATE:20260329T020000
TZOFFSETFROM:+0100
TZOFFSETTO:+0000
TZNAME:Europe/London GMT
END:STANDARD
BEGIN:STANDARD
DTSTART:20261025T010000
RDATE:20270328T020000
TZOFFSETFROM:+0100
TZOFFSETTO:+0000
TZNAME:Europe/London GMT
END:STANDARD
BEGIN:STANDARD
DTSTART:20271031T010000
RDATE:20280326T020000
TZOFFSETFROM:+0100
TZOFFSETTO:+0000
TZNAME:Europe/London GMT
END:STANDARD
BEGIN:STANDARD
DTSTART:20281029T010000
RDATE:20290325T020000
TZOFFSETFROM:+0100
TZOFFSETTO:+0000
TZNAME:Europe/London GMT
END:STANDARD
BEGIN:STANDARD
DTSTART:20291028T010000
RDATE:20300331T020000
TZOFFSETFROM:+0100
TZOFFSETTO:+0000
TZNAME:Europe/London GMT
END:STANDARD
BEGIN:STANDARD
DTSTART:20301027T010000
RDATE:20310330T020000
TZOFFSETFROM:+0100
TZOFFSETTO:+0000
TZNAME:Europe/London GMT
END:STANDARD
BEGIN:DAYLIGHT
DTSTART:20170326T020000
RDATE:20171029T010000
TZOFFSETFROM:+0000
TZOFFSETTO:+0100
TZNAME:Europe/London BST
END:DAYLIGHT
BEGIN:DAYLIGHT
DTSTART:20180325T020000
RDATE:20181028T010000
TZOFFSETFROM:+0000
TZOFFSETTO:+0100
TZNAME:Europe/London BST
END:DAYLIGHT
BEGIN:DAYLIGHT
DTSTART:20190331T020000
RDATE:20191027T010000
TZOFFSETFROM:+0000
TZOFFSETTO:+0100
TZNAME:Europe/London BST
END:DAYLIGHT
BEGIN:DAYLIGHT
DTSTART:20200329T020000
RDATE:20201025T010000
TZOFFSETFROM:+0000
TZOFFSETTO:+0100
TZNAME:Europe/London BST
END:DAYLIGHT
BEGIN:DAYLIGHT
DTSTART:20210328T020000
RDATE:20211031T010000
TZOFFSETFROM:+0000
TZOFFSETTO:+0100
TZNAME:Europe/London BST
END:DAYLIGHT
BEGIN:DAYLIGHT
DTSTART:20220327T020000
RDATE:20221030T010000
TZOFFSETFROM:+0000
TZOFFSETTO:+0100
TZNAME:Europe/London BST
END:DAYLIGHT
BEGIN:DAYLIGHT
DTSTART:20230326T020000
RDATE:20231029T010000
TZOFFSETFROM:+0000
TZOFFSETTO:+0100
TZNAME:Europe/London BST
END:DAYLIGHT
BEGIN:DAYLIGHT
DTSTART:20240331T020000
RDATE:20241027T010000
TZOFFSETFROM:+0000
TZOFFSETTO:+0100
TZNAME:Europe/London BST
END:DAYLIGHT
BEGIN:DAYLIGHT
DTSTART:20250330T020000
RDATE:20251026T010000
TZOFFSETFROM:+0000
TZOFFSETTO:+0100
TZNAME:Europe/London BST
END:DAYLIGHT
BEGIN:DAYLIGHT
DTSTART:20260329T020000
RDATE:20261025T010000
TZOFFSETFROM:+0000
TZOFFSETTO:+0100
TZNAME:Europe/London BST
END:DAYLIGHT
BEGIN:DAYLIGHT
DTSTART:20270328T020000
RDATE:20271031T010000
TZOFFSETFROM:+0000
TZOFFSETTO:+0100
TZNAME:Europe/London BST
END:DAYLIGHT
BEGIN:DAYLIGHT
DTSTART:20280326T020000
RDATE:20281029T010000
TZOFFSETFROM:+0000
TZOFFSETTO:+0100
TZNAME:Europe/London BST
END:DAYLIGHT
BEGIN:DAYLIGHT
DTSTART:20290325T020000
RDATE:20291028T010000
TZOFFSETFROM:+0000
TZOFFSETTO:+0100
TZNAME:Europe/London BST
END:DAYLIGHT
BEGIN:DAYLIGHT
DTSTART:20300331T020000
RDATE:20301027T010000
TZOFFSETFROM:+0000
TZOFFSETTO:+0100
TZNAME:Europe/London BST
END:DAYLIGHT
END:VTIMEZONE
BEGIN:VEVENT
UID:fde1bb7736b9aa8a6e460bd5e2ed209b
CATEGORIES:West
CREATED:20171001T214820
SUMMARY:Saturday Get-Together Practice - Rogate
LOCATION:Rogate
URL;VALUE=URI:https://scacr.org/news-events/calendar/261/saturday-get-together-practice-r
 ogate?tmpl=component
DESCRIPTION:Note change of time for this event\nRinging starts at 2pm with a Service fo
 r Remembrance weekend at 3.30pm followed by usual homemade ringers' tea and
  raffle. Everyone welcome.\nNames for tea to David Hall - This email addres
 s is being protected from spambots. You need JavaScript enabled to view it.
 
				document.getElementById('cloak1e05429b10272ae081a1e03f298e017a').inner
 HTML = '';
				var prefix = '&#109;a' + 'i&#108;' + '&#116;o';
				var path
  = 'hr' + 'ef' + '=';
				var addy1e05429b10272ae081a1e03f298e017a = '&#101
 ;v&#101;nts-w&#101;st' + '&#64;';
				addy1e05429b10272ae081a1e03f298e017a 
 = addy1e05429b10272ae081a1e03f298e017a + 'sc&#97;cr' + '&#46;' + '&#111;rg'
 ;
				var addy_text1e05429b10272ae081a1e03f298e017a = '&#101;v&#101;nts-w&#
 101;st' + '&#64;' + 'sc&#97;cr' + '&#46;' + '&#111;rg';document.getElementB
 yId('cloak1e05429b10272ae081a1e03f298e017a').innerHTML += '<a ' + path + '\
 '' + prefix + ':' + addy1e05429b10272ae081a1e03f298e017a + '\'>'+addy_text1
 e05429b10272ae081a1e03f298e017a+'';
		\n This event was imported from: http
 s://scacr.org/news-events/calendar/261/saturday-get-together-practice-rogat
 e?tmpl=component (https://scacr.org/news-events/calendar/261/saturday-get-t
 ogether-practice-rogate?tmpl=component)
X-ALT-DESC;FMTTYPE=text/html:<p><strong>Note change of time for this event</strong></p><p>Ringing starts
  at 2pm with a Service for Remembrance weekend at 3.30pm followed by usual 
 homemade ringers' tea and raffle. Everyone welcome.</p><p>Names for tea to 
 David Hall -&nbsp;<span id="cloak1e05429b10272ae081a1e03f298e017a">This ema
 il address is being protected from spambots. You need JavaScript enabled to
  view it.</span><script type='text/javascript'>
				document.getElementById
 ('cloak1e05429b10272ae081a1e03f298e017a').innerHTML = '';
				var prefix = 
 '&#109;a' + 'i&#108;' + '&#116;o';
				var path = 'hr' + 'ef' + '=';
				va
 r addy1e05429b10272ae081a1e03f298e017a = '&#101;v&#101;nts-w&#101;st' + '&#
 64;';
				addy1e05429b10272ae081a1e03f298e017a = addy1e05429b10272ae081a1e0
 3f298e017a + 'sc&#97;cr' + '&#46;' + '&#111;rg';
				var addy_text1e05429b1
 0272ae081a1e03f298e017a = '&#101;v&#101;nts-w&#101;st' + '&#64;' + 'sc&#97;
 cr' + '&#46;' + '&#111;rg';document.getElementById('cloak1e05429b10272ae081
 a1e03f298e017a').innerHTML += '<a ' + path + '\'' + prefix + ':' + addy1e05
 429b10272ae081a1e03f298e017a + '\'>'+addy_text1e05429b10272ae081a1e03f298e0
 17a+'<\/a>';
		</script></p> <a href="https://scacr.org/news-events/calenda
 r/261/saturday-get-together-practice-rogate?tmpl=component">This event was 
 imported from: https://scacr.org/news-events/calendar/261/saturday-get-toge
 ther-practice-rogate?tmpl=component</a>CONTACT:This email address is being protected from spambots. You need JavaScript enabled to view it.
				document.getElementById('cloak1039a26cf0cf407da9d83a572efa4c50').innerHTML = '';
				var prefix = '&#109;a' + 'i&#108;' + '&#116;o';
				var path = 'hr' + 'ef' + '=';
				var addy1039a26cf0cf407da9d83a572efa4c50 = '&#101;v&#101;nts-w&#101;st' + '&#64;';
				addy1039a26cf0cf407da9d83a572efa4c50 = addy1039a26cf0cf407da9d83a572efa4c50 + 'sc&#97;cr' + '&#46;' + '&#111;rg';
				var addy_text1039a26cf0cf407da9d83a572efa4c50 = '&#101;v&#101;nts-w&#101;st' + '&#64;' + 'sc&#97;cr' + '&#46;' + '&#111;rg';document.getElementById('cloak1039a26cf0cf407da9d83a572efa4c50').innerHTML += '<a ' + path + '\'' + prefix + ':' + addy1039a26cf0cf407da9d83a572efa4c50 + '\'>'+addy_text1039a26cf0cf407da9d83a572efa4c50+'';
		
DTSTAMP:20260420T100819
DTSTART;TZID=Europe/London:20171111T140000
SEQUENCE:0
TRANSP:OPAQUE
END:VEVENT
END:VCALENDAR