BEGIN:VCALENDAR
VERSION:2.0
PRODID:-//jEvents 2.0 for Joomla//EN
CALSCALE:GREGORIAN
METHOD:PUBLISH
BEGIN:VTIMEZONE
TZID:Europe/London
BEGIN:STANDARD
DTSTART:20161030T010000
RDATE:20170326T020000
TZOFFSETFROM:+0100
TZOFFSETTO:+0000
TZNAME:Europe/London GMT
END:STANDARD
BEGIN:STANDARD
DTSTART:20171029T010000
RDATE:20180325T020000
TZOFFSETFROM:+0100
TZOFFSETTO:+0000
TZNAME:Europe/London GMT
END:STANDARD
BEGIN:STANDARD
DTSTART:20181028T010000
RDATE:20190331T020000
TZOFFSETFROM:+0100
TZOFFSETTO:+0000
TZNAME:Europe/London GMT
END:STANDARD
BEGIN:STANDARD
DTSTART:20191027T010000
RDATE:20200329T020000
TZOFFSETFROM:+0100
TZOFFSETTO:+0000
TZNAME:Europe/London GMT
END:STANDARD
BEGIN:STANDARD
DTSTART:20201025T010000
RDATE:20210328T020000
TZOFFSETFROM:+0100
TZOFFSETTO:+0000
TZNAME:Europe/London GMT
END:STANDARD
BEGIN:STANDARD
DTSTART:20211031T010000
RDATE:20220327T020000
TZOFFSETFROM:+0100
TZOFFSETTO:+0000
TZNAME:Europe/London GMT
END:STANDARD
BEGIN:STANDARD
DTSTART:20221030T010000
RDATE:20230326T020000
TZOFFSETFROM:+0100
TZOFFSETTO:+0000
TZNAME:Europe/London GMT
END:STANDARD
BEGIN:STANDARD
DTSTART:20231029T010000
RDATE:20240331T020000
TZOFFSETFROM:+0100
TZOFFSETTO:+0000
TZNAME:Europe/London GMT
END:STANDARD
BEGIN:STANDARD
DTSTART:20241027T010000
RDATE:20250330T020000
TZOFFSETFROM:+0100
TZOFFSETTO:+0000
TZNAME:Europe/London GMT
END:STANDARD
BEGIN:STANDARD
DTSTART:20251026T010000
RDATE:20260329T020000
TZOFFSETFROM:+0100
TZOFFSETTO:+0000
TZNAME:Europe/London GMT
END:STANDARD
BEGIN:STANDARD
DTSTART:20261025T010000
RDATE:20270328T020000
TZOFFSETFROM:+0100
TZOFFSETTO:+0000
TZNAME:Europe/London GMT
END:STANDARD
BEGIN:STANDARD
DTSTART:20271031T010000
RDATE:20280326T020000
TZOFFSETFROM:+0100
TZOFFSETTO:+0000
TZNAME:Europe/London GMT
END:STANDARD
BEGIN:STANDARD
DTSTART:20281029T010000
RDATE:20290325T020000
TZOFFSETFROM:+0100
TZOFFSETTO:+0000
TZNAME:Europe/London GMT
END:STANDARD
BEGIN:STANDARD
DTSTART:20291028T010000
RDATE:20300331T020000
TZOFFSETFROM:+0100
TZOFFSETTO:+0000
TZNAME:Europe/London GMT
END:STANDARD
BEGIN:STANDARD
DTSTART:20301027T010000
RDATE:20310330T020000
TZOFFSETFROM:+0100
TZOFFSETTO:+0000
TZNAME:Europe/London GMT
END:STANDARD
BEGIN:DAYLIGHT
DTSTART:20161026T000000
RDATE:20161030T010000
TZOFFSETFROM:+0000
TZOFFSETTO:+0100
TZNAME:Europe/London BST
END:DAYLIGHT
BEGIN:DAYLIGHT
DTSTART:20170326T020000
RDATE:20171029T010000
TZOFFSETFROM:+0000
TZOFFSETTO:+0100
TZNAME:Europe/London BST
END:DAYLIGHT
BEGIN:DAYLIGHT
DTSTART:20180325T020000
RDATE:20181028T010000
TZOFFSETFROM:+0000
TZOFFSETTO:+0100
TZNAME:Europe/London BST
END:DAYLIGHT
BEGIN:DAYLIGHT
DTSTART:20190331T020000
RDATE:20191027T010000
TZOFFSETFROM:+0000
TZOFFSETTO:+0100
TZNAME:Europe/London BST
END:DAYLIGHT
BEGIN:DAYLIGHT
DTSTART:20200329T020000
RDATE:20201025T010000
TZOFFSETFROM:+0000
TZOFFSETTO:+0100
TZNAME:Europe/London BST
END:DAYLIGHT
BEGIN:DAYLIGHT
DTSTART:20210328T020000
RDATE:20211031T010000
TZOFFSETFROM:+0000
TZOFFSETTO:+0100
TZNAME:Europe/London BST
END:DAYLIGHT
BEGIN:DAYLIGHT
DTSTART:20220327T020000
RDATE:20221030T010000
TZOFFSETFROM:+0000
TZOFFSETTO:+0100
TZNAME:Europe/London BST
END:DAYLIGHT
BEGIN:DAYLIGHT
DTSTART:20230326T020000
RDATE:20231029T010000
TZOFFSETFROM:+0000
TZOFFSETTO:+0100
TZNAME:Europe/London BST
END:DAYLIGHT
BEGIN:DAYLIGHT
DTSTART:20240331T020000
RDATE:20241027T010000
TZOFFSETFROM:+0000
TZOFFSETTO:+0100
TZNAME:Europe/London BST
END:DAYLIGHT
BEGIN:DAYLIGHT
DTSTART:20250330T020000
RDATE:20251026T010000
TZOFFSETFROM:+0000
TZOFFSETTO:+0100
TZNAME:Europe/London BST
END:DAYLIGHT
BEGIN:DAYLIGHT
DTSTART:20260329T020000
RDATE:20261025T010000
TZOFFSETFROM:+0000
TZOFFSETTO:+0100
TZNAME:Europe/London BST
END:DAYLIGHT
BEGIN:DAYLIGHT
DTSTART:20270328T020000
RDATE:20271031T010000
TZOFFSETFROM:+0000
TZOFFSETTO:+0100
TZNAME:Europe/London BST
END:DAYLIGHT
BEGIN:DAYLIGHT
DTSTART:20280326T020000
RDATE:20281029T010000
TZOFFSETFROM:+0000
TZOFFSETTO:+0100
TZNAME:Europe/London BST
END:DAYLIGHT
BEGIN:DAYLIGHT
DTSTART:20290325T020000
RDATE:20291028T010000
TZOFFSETFROM:+0000
TZOFFSETTO:+0100
TZNAME:Europe/London BST
END:DAYLIGHT
BEGIN:DAYLIGHT
DTSTART:20300331T020000
RDATE:20301027T010000
TZOFFSETFROM:+0000
TZOFFSETTO:+0100
TZNAME:Europe/London BST
END:DAYLIGHT
END:VTIMEZONE
BEGIN:VEVENT
UID:c850992b1e5a875b74d421122e216bce
CATEGORIES:Association Event
CREATED:20171001T221039
SUMMARY:SCACR 2-Day Ringing Course
LOCATION:Various towers
URL;VALUE=URI:https://scacr.org/news-events/calendar/269/scacr-2-day-ringing-course?tmpl=
 component
DESCRIPTION:Developing Method Ringing Skills - 1 place remaining\nGetting to Grips with
  Grandsire - 2 places remaining\nPlain Bob Doubles - course full\nRinging a
 nd Conducting Stedman Triples - 3 places remaining\nStarting Surprise - 3 p
 laces remaining\nContact Anne Franklin for further information and an appli
 cation form. This email address is being protected from spambots. You need 
 JavaScript enabled to view it.
				document.getElementById('cloak434414a926
 217385f9985a9b332b5807').innerHTML = '';
				var prefix = '&#109;a' + 'i&#1
 08;' + '&#116;o';
				var path = 'hr' + 'ef' + '=';
				var addy434414a9262
 17385f9985a9b332b5807 = '&#97;nn&#101;fr&#97;nkl&#105;n' + '&#64;';
				add
 y434414a926217385f9985a9b332b5807 = addy434414a926217385f9985a9b332b5807 + 
 'h&#111;tm&#97;&#105;l' + '&#46;' + 'c&#111;' + '&#46;' + '&#117;k';
				va
 r addy_text434414a926217385f9985a9b332b5807 = '&#97;nn&#101;fr&#97;nkl&#105
 ;n' + '&#64;' + 'h&#111;tm&#97;&#105;l' + '&#46;' + 'c&#111;' + '&#46;' + '
 &#117;k';document.getElementById('cloak434414a926217385f9985a9b332b5807').i
 nnerHTML += '<a ' + path + '\'' + prefix + ':' + addy434414a926217385f9985a
 9b332b5807 + '\'>'+addy_text434414a926217385f9985a9b332b5807+'';
		\nAnne w
 ould also like to hear from you if you are able to help over the two days.\
 n This event was imported from: https://scacr.org/news-events/calendar/269/
 scacr-2-day-ringing-course?tmpl=component (https://scacr.org/news-events/ca
 lendar/269/scacr-2-day-ringing-course?tmpl=component)
X-ALT-DESC;FMTTYPE=text/html:<p>Developing Method Ringing Skills - 1 place remaining</p><p>Getting to Gr
 ips with Grandsire - 2 places remaining</p><p>Plain Bob Doubles - course fu
 ll</p><p>Ringing and Conducting Stedman Triples - 3 places remaining</p><p>
 Starting Surprise - 3 places remaining</p><p>Contact Anne Franklin for furt
 her information and an application form.&nbsp;<span id="cloak434414a9262173
 85f9985a9b332b5807">This email address is being protected from spambots. Yo
 u need JavaScript enabled to view it.</span><script type='text/javascript'>
 
				document.getElementById('cloak434414a926217385f9985a9b332b5807').inner
 HTML = '';
				var prefix = '&#109;a' + 'i&#108;' + '&#116;o';
				var path
  = 'hr' + 'ef' + '=';
				var addy434414a926217385f9985a9b332b5807 = '&#97;
 nn&#101;fr&#97;nkl&#105;n' + '&#64;';
				addy434414a926217385f9985a9b332b5
 807 = addy434414a926217385f9985a9b332b5807 + 'h&#111;tm&#97;&#105;l' + '&#4
 6;' + 'c&#111;' + '&#46;' + '&#117;k';
				var addy_text434414a926217385f99
 85a9b332b5807 = '&#97;nn&#101;fr&#97;nkl&#105;n' + '&#64;' + 'h&#111;tm&#97
 ;&#105;l' + '&#46;' + 'c&#111;' + '&#46;' + '&#117;k';document.getElementBy
 Id('cloak434414a926217385f9985a9b332b5807').innerHTML += '<a ' + path + '\'
 ' + prefix + ':' + addy434414a926217385f9985a9b332b5807 + '\'>'+addy_text43
 4414a926217385f9985a9b332b5807+'<\/a>';
		</script></p><p>Anne would also l
 ike to hear from you if you are able to help over the two days.</p> <a href
 ="https://scacr.org/news-events/calendar/269/scacr-2-day-ringing-course?tmp
 l=component">This event was imported from: https://scacr.org/news-events/ca
 lendar/269/scacr-2-day-ringing-course?tmpl=component</a>CONTACT:This email address is being protected from spambots. You need JavaScript enabled to view it.
				document.getElementById('cloak000f23c53b1c876d74384bb58275bdd8').innerHTML = '';
				var prefix = '&#109;a' + 'i&#108;' + '&#116;o';
				var path = 'hr' + 'ef' + '=';
				var addy000f23c53b1c876d74384bb58275bdd8 = '&#97;nn&#101;fr&#97;nkl&#105;n' + '&#64;';
				addy000f23c53b1c876d74384bb58275bdd8 = addy000f23c53b1c876d74384bb58275bdd8 + 'h&#111;tm&#97;&#105;l' + '&#46;' + 'c&#111;' + '&#46;' + '&#117;k';
				var addy_text000f23c53b1c876d74384bb58275bdd8 = '&#97;nn&#101;fr&#97;nkl&#105;n' + '&#64;' + 'h&#111;tm&#97;&#105;l' + '&#46;' + 'c&#111;' + '&#46;' + '&#117;k';document.getElementById('cloak000f23c53b1c876d74384bb58275bdd8').innerHTML += '<a ' + path + '\'' + prefix + ':' + addy000f23c53b1c876d74384bb58275bdd8 + '\'>'+addy_text000f23c53b1c876d74384bb58275bdd8+'';
		
DTSTAMP:20260423T115858
DTSTART;TZID=Europe/London;VALUE=DATE:20171027
DTEND;TZID=Europe/London;VALUE=DATE:20171029
SEQUENCE:0
TRANSP:OPAQUE
END:VEVENT
END:VCALENDAR