BEGIN:VCALENDAR
VERSION:2.0
PRODID:-//jEvents 2.0 for Joomla//EN
CALSCALE:GREGORIAN
METHOD:PUBLISH
BEGIN:VTIMEZONE
TZID:Europe/London
BEGIN:STANDARD
DTSTART:20161117T100000
RDATE:20170326T020000
TZOFFSETFROM:+0100
TZOFFSETTO:+0000
TZNAME:Europe/London GMT
END:STANDARD
BEGIN:STANDARD
DTSTART:20171029T010000
RDATE:20180325T020000
TZOFFSETFROM:+0100
TZOFFSETTO:+0000
TZNAME:Europe/London GMT
END:STANDARD
BEGIN:STANDARD
DTSTART:20181028T010000
RDATE:20190331T020000
TZOFFSETFROM:+0100
TZOFFSETTO:+0000
TZNAME:Europe/London GMT
END:STANDARD
BEGIN:STANDARD
DTSTART:20191027T010000
RDATE:20200329T020000
TZOFFSETFROM:+0100
TZOFFSETTO:+0000
TZNAME:Europe/London GMT
END:STANDARD
BEGIN:STANDARD
DTSTART:20201025T010000
RDATE:20210328T020000
TZOFFSETFROM:+0100
TZOFFSETTO:+0000
TZNAME:Europe/London GMT
END:STANDARD
BEGIN:STANDARD
DTSTART:20211031T010000
RDATE:20220327T020000
TZOFFSETFROM:+0100
TZOFFSETTO:+0000
TZNAME:Europe/London GMT
END:STANDARD
BEGIN:STANDARD
DTSTART:20221030T010000
RDATE:20230326T020000
TZOFFSETFROM:+0100
TZOFFSETTO:+0000
TZNAME:Europe/London GMT
END:STANDARD
BEGIN:STANDARD
DTSTART:20231029T010000
RDATE:20240331T020000
TZOFFSETFROM:+0100
TZOFFSETTO:+0000
TZNAME:Europe/London GMT
END:STANDARD
BEGIN:STANDARD
DTSTART:20241027T010000
RDATE:20250330T020000
TZOFFSETFROM:+0100
TZOFFSETTO:+0000
TZNAME:Europe/London GMT
END:STANDARD
BEGIN:STANDARD
DTSTART:20251026T010000
RDATE:20260329T020000
TZOFFSETFROM:+0100
TZOFFSETTO:+0000
TZNAME:Europe/London GMT
END:STANDARD
BEGIN:STANDARD
DTSTART:20261025T010000
RDATE:20270328T020000
TZOFFSETFROM:+0100
TZOFFSETTO:+0000
TZNAME:Europe/London GMT
END:STANDARD
BEGIN:STANDARD
DTSTART:20271031T010000
RDATE:20280326T020000
TZOFFSETFROM:+0100
TZOFFSETTO:+0000
TZNAME:Europe/London GMT
END:STANDARD
BEGIN:STANDARD
DTSTART:20281029T010000
RDATE:20290325T020000
TZOFFSETFROM:+0100
TZOFFSETTO:+0000
TZNAME:Europe/London GMT
END:STANDARD
BEGIN:STANDARD
DTSTART:20291028T010000
RDATE:20300331T020000
TZOFFSETFROM:+0100
TZOFFSETTO:+0000
TZNAME:Europe/London GMT
END:STANDARD
BEGIN:STANDARD
DTSTART:20301027T010000
RDATE:20310330T020000
TZOFFSETFROM:+0100
TZOFFSETTO:+0000
TZNAME:Europe/London GMT
END:STANDARD
BEGIN:DAYLIGHT
DTSTART:20170326T020000
RDATE:20171029T010000
TZOFFSETFROM:+0000
TZOFFSETTO:+0100
TZNAME:Europe/London BST
END:DAYLIGHT
BEGIN:DAYLIGHT
DTSTART:20180325T020000
RDATE:20181028T010000
TZOFFSETFROM:+0000
TZOFFSETTO:+0100
TZNAME:Europe/London BST
END:DAYLIGHT
BEGIN:DAYLIGHT
DTSTART:20190331T020000
RDATE:20191027T010000
TZOFFSETFROM:+0000
TZOFFSETTO:+0100
TZNAME:Europe/London BST
END:DAYLIGHT
BEGIN:DAYLIGHT
DTSTART:20200329T020000
RDATE:20201025T010000
TZOFFSETFROM:+0000
TZOFFSETTO:+0100
TZNAME:Europe/London BST
END:DAYLIGHT
BEGIN:DAYLIGHT
DTSTART:20210328T020000
RDATE:20211031T010000
TZOFFSETFROM:+0000
TZOFFSETTO:+0100
TZNAME:Europe/London BST
END:DAYLIGHT
BEGIN:DAYLIGHT
DTSTART:20220327T020000
RDATE:20221030T010000
TZOFFSETFROM:+0000
TZOFFSETTO:+0100
TZNAME:Europe/London BST
END:DAYLIGHT
BEGIN:DAYLIGHT
DTSTART:20230326T020000
RDATE:20231029T010000
TZOFFSETFROM:+0000
TZOFFSETTO:+0100
TZNAME:Europe/London BST
END:DAYLIGHT
BEGIN:DAYLIGHT
DTSTART:20240331T020000
RDATE:20241027T010000
TZOFFSETFROM:+0000
TZOFFSETTO:+0100
TZNAME:Europe/London BST
END:DAYLIGHT
BEGIN:DAYLIGHT
DTSTART:20250330T020000
RDATE:20251026T010000
TZOFFSETFROM:+0000
TZOFFSETTO:+0100
TZNAME:Europe/London BST
END:DAYLIGHT
BEGIN:DAYLIGHT
DTSTART:20260329T020000
RDATE:20261025T010000
TZOFFSETFROM:+0000
TZOFFSETTO:+0100
TZNAME:Europe/London BST
END:DAYLIGHT
BEGIN:DAYLIGHT
DTSTART:20270328T020000
RDATE:20271031T010000
TZOFFSETFROM:+0000
TZOFFSETTO:+0100
TZNAME:Europe/London BST
END:DAYLIGHT
BEGIN:DAYLIGHT
DTSTART:20280326T020000
RDATE:20281029T010000
TZOFFSETFROM:+0000
TZOFFSETTO:+0100
TZNAME:Europe/London BST
END:DAYLIGHT
BEGIN:DAYLIGHT
DTSTART:20290325T020000
RDATE:20291028T010000
TZOFFSETFROM:+0000
TZOFFSETTO:+0100
TZNAME:Europe/London BST
END:DAYLIGHT
BEGIN:DAYLIGHT
DTSTART:20300331T020000
RDATE:20301027T010000
TZOFFSETFROM:+0000
TZOFFSETTO:+0100
TZNAME:Europe/London BST
END:DAYLIGHT
END:VTIMEZONE
BEGIN:VEVENT
UID:c02a6f1d64d48bad969db10654527704
CATEGORIES:South, East
CREATED:20171026T200755
SUMMARY:Joint East/South Ringing Outing
LOCATION:Kent
URL;VALUE=URI:https://scacr.org/news-events/calendar/275/joint-east-south-ringing-outing?
 tmpl=component
DESCRIPTION:<p>10.00 a.m. St Andrew, <strong>Limpsfield Chart</strong>, 6 Bells, 10.5 c
 wt. RH8 0TB</p><p>11.15 a.m. St. Mary, <strong>Oxted</strong>, 6 Bells, 12.
 0 cwt. RH8 9LJ</p><p>Midday. St Peter, <strong>Limpsfield</strong>, 6 Bells
 , 14.3cwt. RH8 0TY</p><p>2.45 p.m. St Mary, <strong>Westerham</strong>, 8 B
 ells, 23.0cwt. TN16 1BH</p><p>4.15 p.m. St Martin, <strong>Brasted</strong>
 , 8 Bells, 9.0cwt. TN16 1HZ</p><p>5.15 p.m. St Peter, <strong>Hever</strong
 >, 6 Bells, 9.0cwt. TN8 7</p><p>All welcome! Cost will be approx £5/person.
 </p><p>Please contact Marion Hollands (<span id="cloak3a83ddf89c9bba8bbd7bf
 a0e43bad0fd">This email address is being protected from spambots. You need 
 JavaScript enabled to view it.</span><script type='text/javascript'>
				do
 cument.getElementById('cloak3a83ddf89c9bba8bbd7bfa0e43bad0fd').innerHTML = 
 '';
				var prefix = '&#109;a' + 'i&#108;' + '&#116;o';
				var path = 'hr'
  + 'ef' + '=';
				var addy3a83ddf89c9bba8bbd7bfa0e43bad0fd = 'm&#97;r&#105
 ;&#111;nb&#101;lls' + '&#64;';
				addy3a83ddf89c9bba8bbd7bfa0e43bad0fd = a
 ddy3a83ddf89c9bba8bbd7bfa0e43bad0fd + 'bt&#105;nt&#101;rn&#101;t' + '&#46;'
  + 'c&#111;m';
				var addy_text3a83ddf89c9bba8bbd7bfa0e43bad0fd = 'm&#97;r
 &#105;&#111;nb&#101;lls' + '&#64;' + 'bt&#105;nt&#101;rn&#101;t' + '&#46;' 
 + 'c&#111;m';document.getElementById('cloak3a83ddf89c9bba8bbd7bfa0e43bad0fd
 ').innerHTML += '<a ' + path + '\'' + prefix + ':' + addy3a83ddf89c9bba8bbd
 7bfa0e43bad0fd + '\'>'+addy_text3a83ddf89c9bba8bbd7bfa0e43bad0fd+'<\/a>';
	
 	</script>) or Nick Cant (<span id="cloakd859991c065a836cbe9bd64e6ff79bb6">
 This email address is being protected from spambots. You need JavaScript en
 abled to view it.</span><script type='text/javascript'>
				document.getEle
 mentById('cloakd859991c065a836cbe9bd64e6ff79bb6').innerHTML = '';
				var p
 refix = '&#109;a' + 'i&#108;' + '&#116;o';
				var path = 'hr' + 'ef' + '='
 ;
				var addyd859991c065a836cbe9bd64e6ff79bb6 = 'n&#105;ckc&#97;ntb&#101;l
 ls' + '&#64;';
				addyd859991c065a836cbe9bd64e6ff79bb6 = addyd859991c065a8
 36cbe9bd64e6ff79bb6 + '&#111;&#117;tl&#111;&#111;k' + '&#46;' + 'c&#111;m';
 
				var addy_textd859991c065a836cbe9bd64e6ff79bb6 = 'n&#105;ckc&#97;ntb&#1
 01;lls' + '&#64;' + '&#111;&#117;tl&#111;&#111;k' + '&#46;' + 'c&#111;m';do
 cument.getElementById('cloakd859991c065a836cbe9bd64e6ff79bb6').innerHTML +=
  '<a ' + path + '\'' + prefix + ':' + addyd859991c065a836cbe9bd64e6ff79bb6 
 + '\'>'+addy_textd859991c065a836cbe9bd64e6ff79bb6+'<\/a>';
		</script>) for
  further details</p> <a href="https://scacr.org/news-events/calendar/275/jo
 int-east-south-ringing-outing?tmpl=component">This event was imported from:
  https://scacr.org/news-events/calendar/275/joint-east-south-ringing-outing
 ?tmpl=component</a>CONTACT:This email address is being protected from spambots. You need JavaScript enabled to view it.
				document.getElementById('cloakf40cdd607c36484319ec4fd81bffc0d0').innerHTML = '';
				var prefix = '&#109;a' + 'i&#108;' + '&#116;o';
				var path = 'hr' + 'ef' + '=';
				var addyf40cdd607c36484319ec4fd81bffc0d0 = 'm&#97;r&#105;&#111;nb&#101;lls' + '&#64;';
				addyf40cdd607c36484319ec4fd81bffc0d0 = addyf40cdd607c36484319ec4fd81bffc0d0 + 'bt&#105;nt&#101;rn&#101;t' + '&#46;' + 'c&#111;m';
				var addy_textf40cdd607c36484319ec4fd81bffc0d0 = 'm&#97;r&#105;&#111;nb&#101;lls' + '&#64;' + 'bt&#105;nt&#101;rn&#101;t' + '&#46;' + 'c&#111;m';document.getElementById('cloakf40cdd607c36484319ec4fd81bffc0d0').innerHTML += '<a ' + path + '\'' + prefix + ':' + addyf40cdd607c36484319ec4fd81bffc0d0 + '\'>'+addy_textf40cdd607c36484319ec4fd81bffc0d0+'';
		
DTSTAMP:20260420T231246
DTSTART;TZID=Europe/London:20171118T100000
DTEND;TZID=Europe/London:20171118T180000
SEQUENCE:0
TRANSP:OPAQUE
END:VEVENT
END:VCALENDAR