BEGIN:VCALENDAR
VERSION:2.0
PRODID:-//jEvents 2.0 for Joomla//EN
CALSCALE:GREGORIAN
METHOD:PUBLISH
BEGIN:VTIMEZONE
TZID:Europe/London
BEGIN:STANDARD
DTSTART:20170126T091500
RDATE:20170326T020000
TZOFFSETFROM:+0100
TZOFFSETTO:+0000
TZNAME:Europe/London GMT
END:STANDARD
BEGIN:STANDARD
DTSTART:20171029T010000
RDATE:20180325T020000
TZOFFSETFROM:+0100
TZOFFSETTO:+0000
TZNAME:Europe/London GMT
END:STANDARD
BEGIN:STANDARD
DTSTART:20181028T010000
RDATE:20190331T020000
TZOFFSETFROM:+0100
TZOFFSETTO:+0000
TZNAME:Europe/London GMT
END:STANDARD
BEGIN:STANDARD
DTSTART:20191027T010000
RDATE:20200329T020000
TZOFFSETFROM:+0100
TZOFFSETTO:+0000
TZNAME:Europe/London GMT
END:STANDARD
BEGIN:STANDARD
DTSTART:20201025T010000
RDATE:20210328T020000
TZOFFSETFROM:+0100
TZOFFSETTO:+0000
TZNAME:Europe/London GMT
END:STANDARD
BEGIN:STANDARD
DTSTART:20211031T010000
RDATE:20220327T020000
TZOFFSETFROM:+0100
TZOFFSETTO:+0000
TZNAME:Europe/London GMT
END:STANDARD
BEGIN:STANDARD
DTSTART:20221030T010000
RDATE:20230326T020000
TZOFFSETFROM:+0100
TZOFFSETTO:+0000
TZNAME:Europe/London GMT
END:STANDARD
BEGIN:STANDARD
DTSTART:20231029T010000
RDATE:20240331T020000
TZOFFSETFROM:+0100
TZOFFSETTO:+0000
TZNAME:Europe/London GMT
END:STANDARD
BEGIN:STANDARD
DTSTART:20241027T010000
RDATE:20250330T020000
TZOFFSETFROM:+0100
TZOFFSETTO:+0000
TZNAME:Europe/London GMT
END:STANDARD
BEGIN:STANDARD
DTSTART:20251026T010000
RDATE:20260329T020000
TZOFFSETFROM:+0100
TZOFFSETTO:+0000
TZNAME:Europe/London GMT
END:STANDARD
BEGIN:STANDARD
DTSTART:20261025T010000
RDATE:20270328T020000
TZOFFSETFROM:+0100
TZOFFSETTO:+0000
TZNAME:Europe/London GMT
END:STANDARD
BEGIN:STANDARD
DTSTART:20271031T010000
RDATE:20280326T020000
TZOFFSETFROM:+0100
TZOFFSETTO:+0000
TZNAME:Europe/London GMT
END:STANDARD
BEGIN:STANDARD
DTSTART:20281029T010000
RDATE:20290325T020000
TZOFFSETFROM:+0100
TZOFFSETTO:+0000
TZNAME:Europe/London GMT
END:STANDARD
BEGIN:STANDARD
DTSTART:20291028T010000
RDATE:20300331T020000
TZOFFSETFROM:+0100
TZOFFSETTO:+0000
TZNAME:Europe/London GMT
END:STANDARD
BEGIN:STANDARD
DTSTART:20301027T010000
RDATE:20310330T020000
TZOFFSETFROM:+0100
TZOFFSETTO:+0000
TZNAME:Europe/London GMT
END:STANDARD
BEGIN:DAYLIGHT
DTSTART:20170326T020000
RDATE:20171029T010000
TZOFFSETFROM:+0000
TZOFFSETTO:+0100
TZNAME:Europe/London BST
END:DAYLIGHT
BEGIN:DAYLIGHT
DTSTART:20180325T020000
RDATE:20181028T010000
TZOFFSETFROM:+0000
TZOFFSETTO:+0100
TZNAME:Europe/London BST
END:DAYLIGHT
BEGIN:DAYLIGHT
DTSTART:20190331T020000
RDATE:20191027T010000
TZOFFSETFROM:+0000
TZOFFSETTO:+0100
TZNAME:Europe/London BST
END:DAYLIGHT
BEGIN:DAYLIGHT
DTSTART:20200329T020000
RDATE:20201025T010000
TZOFFSETFROM:+0000
TZOFFSETTO:+0100
TZNAME:Europe/London BST
END:DAYLIGHT
BEGIN:DAYLIGHT
DTSTART:20210328T020000
RDATE:20211031T010000
TZOFFSETFROM:+0000
TZOFFSETTO:+0100
TZNAME:Europe/London BST
END:DAYLIGHT
BEGIN:DAYLIGHT
DTSTART:20220327T020000
RDATE:20221030T010000
TZOFFSETFROM:+0000
TZOFFSETTO:+0100
TZNAME:Europe/London BST
END:DAYLIGHT
BEGIN:DAYLIGHT
DTSTART:20230326T020000
RDATE:20231029T010000
TZOFFSETFROM:+0000
TZOFFSETTO:+0100
TZNAME:Europe/London BST
END:DAYLIGHT
BEGIN:DAYLIGHT
DTSTART:20240331T020000
RDATE:20241027T010000
TZOFFSETFROM:+0000
TZOFFSETTO:+0100
TZNAME:Europe/London BST
END:DAYLIGHT
BEGIN:DAYLIGHT
DTSTART:20250330T020000
RDATE:20251026T010000
TZOFFSETFROM:+0000
TZOFFSETTO:+0100
TZNAME:Europe/London BST
END:DAYLIGHT
BEGIN:DAYLIGHT
DTSTART:20260329T020000
RDATE:20261025T010000
TZOFFSETFROM:+0000
TZOFFSETTO:+0100
TZNAME:Europe/London BST
END:DAYLIGHT
BEGIN:DAYLIGHT
DTSTART:20270328T020000
RDATE:20271031T010000
TZOFFSETFROM:+0000
TZOFFSETTO:+0100
TZNAME:Europe/London BST
END:DAYLIGHT
BEGIN:DAYLIGHT
DTSTART:20280326T020000
RDATE:20281029T010000
TZOFFSETFROM:+0000
TZOFFSETTO:+0100
TZNAME:Europe/London BST
END:DAYLIGHT
BEGIN:DAYLIGHT
DTSTART:20290325T020000
RDATE:20291028T010000
TZOFFSETFROM:+0000
TZOFFSETTO:+0100
TZNAME:Europe/London BST
END:DAYLIGHT
BEGIN:DAYLIGHT
DTSTART:20300331T020000
RDATE:20301027T010000
TZOFFSETFROM:+0000
TZOFFSETTO:+0100
TZNAME:Europe/London BST
END:DAYLIGHT
END:VTIMEZONE
BEGIN:VEVENT
UID:64fe1da073ff3f4c541ee2a60c2000d7
CATEGORIES:Other Event
CREATED:20171115T210103
SUMMARY:Teaching from Rounds to Plain Hunt – Association of Ringing Teachers (ART) Training Scheme - Module 2F
LOCATION:Southover\, Lewes
URL;VALUE=URI:https://scacr.org/news-events/calendar/281/teaching-from-rounds-to-plain-hu
 nt-association-of-ringing-teachers-art-training-scheme-module-2f?tmpl=compo
 nent
DESCRIPTION:Cost: £20 Course Fee + £5 accommodation fee to cover costs of ART tutor sta
 ying overnight to deliver the course.\n(If anyone can offer free accommodat
 ion for the night of the 26th January, then please do let me know.)\n \nART
  Training Scheme – Module 2F (http://ringingteachers.org/participation/cour
 ses) provides you with the skills and techniques necessary to build really 
 good foundation ringing skills in your ringers. The course is designed for 
 anyone involved in teaching a new band where the teacher can personally rin
 g at least plain hunt. Theory sessions will cover:\n\n - the importance of 
 approaching teaching in easy, understandable stages\n - the critical import
 ance of using effective feedback\n - the theory of coaching\n - how to form
  a strong bandThis theory is supported by practical sessions that show how 
 to develop these skills, including how to teach call changes, an exploratio
 n of kaleidoscope ringing, and different ways to introduce ringers to cover
 ing and plain hunt.\n \nCan I attend a Module 2 Day Course before I’ve atte
 nded Module 1 (Teaching Bell Handling)?\nYes! You should attend the Module 
 that best supports the teaching that you are currently doing with your ring
 ers and/or band. All the Modules contain the same teaching and learning phi
 losophy but focus on different areas of ringing development.\n \nTo book yo
 ur place or for more information, please contact Matthew Jones on This emai
 l address is being protected from spambots. You need JavaScript enabled to 
 view it.
				document.getElementById('cloake3d13f997223cc2d0adb154632f60b17
 ').innerHTML = '';
				var prefix = '&#109;a' + 'i&#108;' + '&#116;o';
				
 var path = 'hr' + 'ef' + '=';
				var addye3d13f997223cc2d0adb154632f60b17 
 = 'mrj' + '&#64;';
				addye3d13f997223cc2d0adb154632f60b17 = addye3d13f997
 223cc2d0adb154632f60b17 + 't&#117;llyd&#101;&#97;th' + '&#46;' + 'c&#111;m'
 ;
				var addy_texte3d13f997223cc2d0adb154632f60b17 = 'mrj' + '&#64;' + 't&
 #117;llyd&#101;&#97;th' + '&#46;' + 'c&#111;m';document.getElementById('clo
 ake3d13f997223cc2d0adb154632f60b17').innerHTML += '<a ' + path + '\'' + pre
 fix + ':' + addye3d13f997223cc2d0adb154632f60b17 + '\'>'+addy_texte3d13f997
 223cc2d0adb154632f60b17+'';
		\n This event was imported from: https://scac
 r.org/news-events/calendar/281/teaching-from-rounds-to-plain-hunt-associati
 on-of-ringing-teachers-art-training-scheme-module-2f?tmpl=component (https:
 //scacr.org/news-events/calendar/281/teaching-from-rounds-to-plain-hunt-ass
 ociation-of-ringing-teachers-art-training-scheme-module-2f?tmpl=component)
X-ALT-DESC;FMTTYPE=text/html:<p><strong>Cost: £20 Course Fee + £5 accommodation fee to cover costs of AR
 T tutor staying overnight to deliver the course.</strong><br />(If anyone c
 an offer free accommodation for the night of the 26th January, then please 
 do let me know.)<br /> <br /><a href="http://ringingteachers.org/participat
 ion/courses">ART Training Scheme – Module 2F</a> provides you with the skil
 ls and techniques necessary to build really good foundation ringing skills 
 in your ringers. The course is designed for anyone involved in teaching a n
 ew band where the teacher can personally ring at least plain hunt. Theory s
 essions will cover:</p><ul><li>the importance of approaching teaching in ea
 sy, understandable stages</li><li>the critical importance of using effectiv
 e feedback</li><li>the theory of coaching</li><li>how to form a strong band
 </li></ul><p>This theory is supported by practical sessions that show how t
 o develop these skills, including how to teach call changes, an exploration
  of kaleidoscope ringing, and different ways to introduce ringers to coveri
 ng and plain hunt.<br /> <br /><strong>Can I attend a Module 2 Day Course b
 efore I’ve attended Module 1 (Teaching Bell Handling)?</strong><br />Yes! Y
 ou should attend the Module that best supports the teaching that you are cu
 rrently doing with your ringers and/or band. All the Modules contain the sa
 me teaching and learning philosophy but focus on different areas of ringing
  development.<br /> <br />To book your place or for more information, pleas
 e contact Matthew Jones on <span id="cloake3d13f997223cc2d0adb154632f60b17"
 >This email address is being protected from spambots. You need JavaScript e
 nabled to view it.</span><script type='text/javascript'>
				document.getEl
 ementById('cloake3d13f997223cc2d0adb154632f60b17').innerHTML = '';
				var 
 prefix = '&#109;a' + 'i&#108;' + '&#116;o';
				var path = 'hr' + 'ef' + '=
 ';
				var addye3d13f997223cc2d0adb154632f60b17 = 'mrj' + '&#64;';
				addy
 e3d13f997223cc2d0adb154632f60b17 = addye3d13f997223cc2d0adb154632f60b17 + '
 t&#117;llyd&#101;&#97;th' + '&#46;' + 'c&#111;m';
				var addy_texte3d13f99
 7223cc2d0adb154632f60b17 = 'mrj' + '&#64;' + 't&#117;llyd&#101;&#97;th' + '
 &#46;' + 'c&#111;m';document.getElementById('cloake3d13f997223cc2d0adb15463
 2f60b17').innerHTML += '<a ' + path + '\'' + prefix + ':' + addye3d13f99722
 3cc2d0adb154632f60b17 + '\'>'+addy_texte3d13f997223cc2d0adb154632f60b17+'<\
 /a>';
		</script></p> <a href="https://scacr.org/news-events/calendar/281/t
 eaching-from-rounds-to-plain-hunt-association-of-ringing-teachers-art-train
 ing-scheme-module-2f?tmpl=component">This event was imported from: https://
 scacr.org/news-events/calendar/281/teaching-from-rounds-to-plain-hunt-assoc
 iation-of-ringing-teachers-art-training-scheme-module-2f?tmpl=component</a>CONTACT:This email address is being protected from spambots. You need JavaScript enabled to view it.
				document.getElementById('cloakb8e0d3d63a9301eb6450df62c77665bd').innerHTML = '';
				var prefix = '&#109;a' + 'i&#108;' + '&#116;o';
				var path = 'hr' + 'ef' + '=';
				var addyb8e0d3d63a9301eb6450df62c77665bd = 'mrj' + '&#64;';
				addyb8e0d3d63a9301eb6450df62c77665bd = addyb8e0d3d63a9301eb6450df62c77665bd + 't&#117;llyd&#101;&#97;th' + '&#46;' + 'c&#111;m';
				var addy_textb8e0d3d63a9301eb6450df62c77665bd = 'mrj' + '&#64;' + 't&#117;llyd&#101;&#97;th' + '&#46;' + 'c&#111;m';document.getElementById('cloakb8e0d3d63a9301eb6450df62c77665bd').innerHTML += '<a ' + path + '\'' + prefix + ':' + addyb8e0d3d63a9301eb6450df62c77665bd + '\'>'+addy_textb8e0d3d63a9301eb6450df62c77665bd+'';
		
DTSTAMP:20260420T065207
DTSTART;TZID=Europe/London:20180127T091500
DTEND;TZID=Europe/London:20180127T170000
SEQUENCE:0
TRANSP:OPAQUE
END:VEVENT
END:VCALENDAR