BEGIN:VCALENDAR
VERSION:2.0
PRODID:-//jEvents 2.0 for Joomla//EN
CALSCALE:GREGORIAN
METHOD:PUBLISH
BEGIN:VTIMEZONE
TZID:Europe/London
BEGIN:STANDARD
DTSTART:20170316T150000
RDATE:20170326T020000
TZOFFSETFROM:+0100
TZOFFSETTO:+0000
TZNAME:Europe/London GMT
END:STANDARD
BEGIN:STANDARD
DTSTART:20171029T010000
RDATE:20180325T020000
TZOFFSETFROM:+0100
TZOFFSETTO:+0000
TZNAME:Europe/London GMT
END:STANDARD
BEGIN:STANDARD
DTSTART:20181028T010000
RDATE:20190331T020000
TZOFFSETFROM:+0100
TZOFFSETTO:+0000
TZNAME:Europe/London GMT
END:STANDARD
BEGIN:STANDARD
DTSTART:20191027T010000
RDATE:20200329T020000
TZOFFSETFROM:+0100
TZOFFSETTO:+0000
TZNAME:Europe/London GMT
END:STANDARD
BEGIN:STANDARD
DTSTART:20201025T010000
RDATE:20210328T020000
TZOFFSETFROM:+0100
TZOFFSETTO:+0000
TZNAME:Europe/London GMT
END:STANDARD
BEGIN:STANDARD
DTSTART:20211031T010000
RDATE:20220327T020000
TZOFFSETFROM:+0100
TZOFFSETTO:+0000
TZNAME:Europe/London GMT
END:STANDARD
BEGIN:STANDARD
DTSTART:20221030T010000
RDATE:20230326T020000
TZOFFSETFROM:+0100
TZOFFSETTO:+0000
TZNAME:Europe/London GMT
END:STANDARD
BEGIN:STANDARD
DTSTART:20231029T010000
RDATE:20240331T020000
TZOFFSETFROM:+0100
TZOFFSETTO:+0000
TZNAME:Europe/London GMT
END:STANDARD
BEGIN:STANDARD
DTSTART:20241027T010000
RDATE:20250330T020000
TZOFFSETFROM:+0100
TZOFFSETTO:+0000
TZNAME:Europe/London GMT
END:STANDARD
BEGIN:STANDARD
DTSTART:20251026T010000
RDATE:20260329T020000
TZOFFSETFROM:+0100
TZOFFSETTO:+0000
TZNAME:Europe/London GMT
END:STANDARD
BEGIN:STANDARD
DTSTART:20261025T010000
RDATE:20270328T020000
TZOFFSETFROM:+0100
TZOFFSETTO:+0000
TZNAME:Europe/London GMT
END:STANDARD
BEGIN:STANDARD
DTSTART:20271031T010000
RDATE:20280326T020000
TZOFFSETFROM:+0100
TZOFFSETTO:+0000
TZNAME:Europe/London GMT
END:STANDARD
BEGIN:STANDARD
DTSTART:20281029T010000
RDATE:20290325T020000
TZOFFSETFROM:+0100
TZOFFSETTO:+0000
TZNAME:Europe/London GMT
END:STANDARD
BEGIN:STANDARD
DTSTART:20291028T010000
RDATE:20300331T020000
TZOFFSETFROM:+0100
TZOFFSETTO:+0000
TZNAME:Europe/London GMT
END:STANDARD
BEGIN:STANDARD
DTSTART:20301027T010000
RDATE:20310330T020000
TZOFFSETFROM:+0100
TZOFFSETTO:+0000
TZNAME:Europe/London GMT
END:STANDARD
BEGIN:DAYLIGHT
DTSTART:20170326T020000
RDATE:20171029T010000
TZOFFSETFROM:+0000
TZOFFSETTO:+0100
TZNAME:Europe/London BST
END:DAYLIGHT
BEGIN:DAYLIGHT
DTSTART:20180325T020000
RDATE:20181028T010000
TZOFFSETFROM:+0000
TZOFFSETTO:+0100
TZNAME:Europe/London BST
END:DAYLIGHT
BEGIN:DAYLIGHT
DTSTART:20190331T020000
RDATE:20191027T010000
TZOFFSETFROM:+0000
TZOFFSETTO:+0100
TZNAME:Europe/London BST
END:DAYLIGHT
BEGIN:DAYLIGHT
DTSTART:20200329T020000
RDATE:20201025T010000
TZOFFSETFROM:+0000
TZOFFSETTO:+0100
TZNAME:Europe/London BST
END:DAYLIGHT
BEGIN:DAYLIGHT
DTSTART:20210328T020000
RDATE:20211031T010000
TZOFFSETFROM:+0000
TZOFFSETTO:+0100
TZNAME:Europe/London BST
END:DAYLIGHT
BEGIN:DAYLIGHT
DTSTART:20220327T020000
RDATE:20221030T010000
TZOFFSETFROM:+0000
TZOFFSETTO:+0100
TZNAME:Europe/London BST
END:DAYLIGHT
BEGIN:DAYLIGHT
DTSTART:20230326T020000
RDATE:20231029T010000
TZOFFSETFROM:+0000
TZOFFSETTO:+0100
TZNAME:Europe/London BST
END:DAYLIGHT
BEGIN:DAYLIGHT
DTSTART:20240331T020000
RDATE:20241027T010000
TZOFFSETFROM:+0000
TZOFFSETTO:+0100
TZNAME:Europe/London BST
END:DAYLIGHT
BEGIN:DAYLIGHT
DTSTART:20250330T020000
RDATE:20251026T010000
TZOFFSETFROM:+0000
TZOFFSETTO:+0100
TZNAME:Europe/London BST
END:DAYLIGHT
BEGIN:DAYLIGHT
DTSTART:20260329T020000
RDATE:20261025T010000
TZOFFSETFROM:+0000
TZOFFSETTO:+0100
TZNAME:Europe/London BST
END:DAYLIGHT
BEGIN:DAYLIGHT
DTSTART:20270328T020000
RDATE:20271031T010000
TZOFFSETFROM:+0000
TZOFFSETTO:+0100
TZNAME:Europe/London BST
END:DAYLIGHT
BEGIN:DAYLIGHT
DTSTART:20280326T020000
RDATE:20281029T010000
TZOFFSETFROM:+0000
TZOFFSETTO:+0100
TZNAME:Europe/London BST
END:DAYLIGHT
BEGIN:DAYLIGHT
DTSTART:20290325T020000
RDATE:20291028T010000
TZOFFSETFROM:+0000
TZOFFSETTO:+0100
TZNAME:Europe/London BST
END:DAYLIGHT
BEGIN:DAYLIGHT
DTSTART:20300331T020000
RDATE:20301027T010000
TZOFFSETFROM:+0000
TZOFFSETTO:+0100
TZNAME:Europe/London BST
END:DAYLIGHT
END:VTIMEZONE
BEGIN:VEVENT
UID:2deb3a42be0608a34faf8ebc32d47cb5
CATEGORIES:South, East, Joint Event
CREATED:20171124T101451
SUMMARY:Ringing practice - up to 10 bells
LOCATION:Southover
URL;VALUE=URI:https://scacr.org/news-events/calendar/290/ringing-practice-up-to-10-bells?
 tmpl=component
DESCRIPTION:<p>&nbsp;NOTE This is confirmed as 17th March. Ringing for all levels, so d
 o come if you can. Joint Eastern and Southern District practice on up to 10
  bells at Southover (Lewes). Ringing from 3.0 to 4.30, followed by tea.&nbs
 p;</p><p>UPDATE - Please send names for tea to&nbsp;<span id="cloak00855b4b
 9a26fe6844f06b788ab986de">This email address is being protected from spambo
 ts. You need JavaScript enabled to view it.</span><script type='text/javasc
 ript'>
				document.getElementById('cloak00855b4b9a26fe6844f06b788ab986de')
 .innerHTML = '';
				var prefix = '&#109;a' + 'i&#108;' + '&#116;o';
				va
 r path = 'hr' + 'ef' + '=';
				var addy00855b4b9a26fe6844f06b788ab986de = 
 'rcgpjn&#101;&#97;l' + '&#64;';
				addy00855b4b9a26fe6844f06b788ab986de = 
 addy00855b4b9a26fe6844f06b788ab986de + 't&#97;lkt&#97;lk' + '&#46;' + 'n&#1
 01;t';
				var addy_text00855b4b9a26fe6844f06b788ab986de = 'rcgpjn&#101;&#9
 7;l' + '&#64;' + 't&#97;lkt&#97;lk' + '&#46;' + 'n&#101;t';document.getElem
 entById('cloak00855b4b9a26fe6844f06b788ab986de').innerHTML += '<a ' + path 
 + '\'' + prefix + ':' + addy00855b4b9a26fe6844f06b788ab986de + '\'>'+addy_t
 ext00855b4b9a26fe6844f06b788ab986de+'<\/a>';
		</script></p> <a href="https
 ://scacr.org/news-events/calendar/290/ringing-practice-up-to-10-bells?tmpl=
 component">This event was imported from: https://scacr.org/news-events/cale
 ndar/290/ringing-practice-up-to-10-bells?tmpl=component</a>CONTACT:This email address is being protected from spambots. You need JavaScript enabled to view it.
				document.getElementById('cloak0aecfa8ae3320aab1de24ea02e4c3732').innerHTML = '';
				var prefix = '&#109;a' + 'i&#108;' + '&#116;o';
				var path = 'hr' + 'ef' + '=';
				var addy0aecfa8ae3320aab1de24ea02e4c3732 = 'n&#105;ckc&#97;ntb&#101;lls' + '&#64;';
				addy0aecfa8ae3320aab1de24ea02e4c3732 = addy0aecfa8ae3320aab1de24ea02e4c3732 + '&#111;&#117;tl&#111;&#111;k' + '&#46;' + 'c&#111;m';
				var addy_text0aecfa8ae3320aab1de24ea02e4c3732 = 'n&#105;ckc&#97;ntb&#101;lls' + '&#64;' + '&#111;&#117;tl&#111;&#111;k' + '&#46;' + 'c&#111;m';document.getElementById('cloak0aecfa8ae3320aab1de24ea02e4c3732').innerHTML += '<a ' + path + '\'' + prefix + ':' + addy0aecfa8ae3320aab1de24ea02e4c3732 + '\'>'+addy_text0aecfa8ae3320aab1de24ea02e4c3732+'';
		 or This email address is being protected from spambots. You need JavaScript enabled to view it.
				document.getElementById('cloak01a8e89d505bee9a31c153224ca5994b').innerHTML = '';
				var prefix = '&#109;a' + 'i&#108;' + '&#116;o';
				var path = 'hr' + 'ef' + '=';
				var addy01a8e89d505bee9a31c153224ca5994b = 'rcgpjn&#101;&#97;l' + '&#64;';
				addy01a8e89d505bee9a31c153224ca5994b = addy01a8e89d505bee9a31c153224ca5994b + 't&#97;lkt&#97;lk' + '&#46;' + 'n&#101;t';
				var addy_text01a8e89d505bee9a31c153224ca5994b = 'rcgpjn&#101;&#97;l' + '&#64;' + 't&#97;lkt&#97;lk' + '&#46;' + 'n&#101;t';document.getElementById('cloak01a8e89d505bee9a31c153224ca5994b').innerHTML += '<a ' + path + '\'' + prefix + ':' + addy01a8e89d505bee9a31c153224ca5994b + '\'>'+addy_text01a8e89d505bee9a31c153224ca5994b+'';
		
DTSTAMP:20260419T152607
DTSTART;TZID=Europe/London:20180317T150000
SEQUENCE:0
TRANSP:OPAQUE
END:VEVENT
END:VCALENDAR