BEGIN:VCALENDAR
VERSION:2.0
PRODID:-//jEvents 2.0 for Joomla//EN
CALSCALE:GREGORIAN
METHOD:PUBLISH
BEGIN:VTIMEZONE
TZID:Europe/London
BEGIN:STANDARD
DTSTART:20161215T100000
RDATE:20170326T020000
TZOFFSETFROM:+0100
TZOFFSETTO:+0000
TZNAME:Europe/London GMT
END:STANDARD
BEGIN:STANDARD
DTSTART:20171029T010000
RDATE:20180325T020000
TZOFFSETFROM:+0100
TZOFFSETTO:+0000
TZNAME:Europe/London GMT
END:STANDARD
BEGIN:STANDARD
DTSTART:20181028T010000
RDATE:20190331T020000
TZOFFSETFROM:+0100
TZOFFSETTO:+0000
TZNAME:Europe/London GMT
END:STANDARD
BEGIN:STANDARD
DTSTART:20191027T010000
RDATE:20200329T020000
TZOFFSETFROM:+0100
TZOFFSETTO:+0000
TZNAME:Europe/London GMT
END:STANDARD
BEGIN:STANDARD
DTSTART:20201025T010000
RDATE:20210328T020000
TZOFFSETFROM:+0100
TZOFFSETTO:+0000
TZNAME:Europe/London GMT
END:STANDARD
BEGIN:STANDARD
DTSTART:20211031T010000
RDATE:20220327T020000
TZOFFSETFROM:+0100
TZOFFSETTO:+0000
TZNAME:Europe/London GMT
END:STANDARD
BEGIN:STANDARD
DTSTART:20221030T010000
RDATE:20230326T020000
TZOFFSETFROM:+0100
TZOFFSETTO:+0000
TZNAME:Europe/London GMT
END:STANDARD
BEGIN:STANDARD
DTSTART:20231029T010000
RDATE:20240331T020000
TZOFFSETFROM:+0100
TZOFFSETTO:+0000
TZNAME:Europe/London GMT
END:STANDARD
BEGIN:STANDARD
DTSTART:20241027T010000
RDATE:20250330T020000
TZOFFSETFROM:+0100
TZOFFSETTO:+0000
TZNAME:Europe/London GMT
END:STANDARD
BEGIN:STANDARD
DTSTART:20251026T010000
RDATE:20260329T020000
TZOFFSETFROM:+0100
TZOFFSETTO:+0000
TZNAME:Europe/London GMT
END:STANDARD
BEGIN:STANDARD
DTSTART:20261025T010000
RDATE:20270328T020000
TZOFFSETFROM:+0100
TZOFFSETTO:+0000
TZNAME:Europe/London GMT
END:STANDARD
BEGIN:STANDARD
DTSTART:20271031T010000
RDATE:20280326T020000
TZOFFSETFROM:+0100
TZOFFSETTO:+0000
TZNAME:Europe/London GMT
END:STANDARD
BEGIN:STANDARD
DTSTART:20281029T010000
RDATE:20290325T020000
TZOFFSETFROM:+0100
TZOFFSETTO:+0000
TZNAME:Europe/London GMT
END:STANDARD
BEGIN:STANDARD
DTSTART:20291028T010000
RDATE:20300331T020000
TZOFFSETFROM:+0100
TZOFFSETTO:+0000
TZNAME:Europe/London GMT
END:STANDARD
BEGIN:STANDARD
DTSTART:20301027T010000
RDATE:20310330T020000
TZOFFSETFROM:+0100
TZOFFSETTO:+0000
TZNAME:Europe/London GMT
END:STANDARD
BEGIN:DAYLIGHT
DTSTART:20170326T020000
RDATE:20171029T010000
TZOFFSETFROM:+0000
TZOFFSETTO:+0100
TZNAME:Europe/London BST
END:DAYLIGHT
BEGIN:DAYLIGHT
DTSTART:20180325T020000
RDATE:20181028T010000
TZOFFSETFROM:+0000
TZOFFSETTO:+0100
TZNAME:Europe/London BST
END:DAYLIGHT
BEGIN:DAYLIGHT
DTSTART:20190331T020000
RDATE:20191027T010000
TZOFFSETFROM:+0000
TZOFFSETTO:+0100
TZNAME:Europe/London BST
END:DAYLIGHT
BEGIN:DAYLIGHT
DTSTART:20200329T020000
RDATE:20201025T010000
TZOFFSETFROM:+0000
TZOFFSETTO:+0100
TZNAME:Europe/London BST
END:DAYLIGHT
BEGIN:DAYLIGHT
DTSTART:20210328T020000
RDATE:20211031T010000
TZOFFSETFROM:+0000
TZOFFSETTO:+0100
TZNAME:Europe/London BST
END:DAYLIGHT
BEGIN:DAYLIGHT
DTSTART:20220327T020000
RDATE:20221030T010000
TZOFFSETFROM:+0000
TZOFFSETTO:+0100
TZNAME:Europe/London BST
END:DAYLIGHT
BEGIN:DAYLIGHT
DTSTART:20230326T020000
RDATE:20231029T010000
TZOFFSETFROM:+0000
TZOFFSETTO:+0100
TZNAME:Europe/London BST
END:DAYLIGHT
BEGIN:DAYLIGHT
DTSTART:20240331T020000
RDATE:20241027T010000
TZOFFSETFROM:+0000
TZOFFSETTO:+0100
TZNAME:Europe/London BST
END:DAYLIGHT
BEGIN:DAYLIGHT
DTSTART:20250330T020000
RDATE:20251026T010000
TZOFFSETFROM:+0000
TZOFFSETTO:+0100
TZNAME:Europe/London BST
END:DAYLIGHT
BEGIN:DAYLIGHT
DTSTART:20260329T020000
RDATE:20261025T010000
TZOFFSETFROM:+0000
TZOFFSETTO:+0100
TZNAME:Europe/London BST
END:DAYLIGHT
BEGIN:DAYLIGHT
DTSTART:20270328T020000
RDATE:20271031T010000
TZOFFSETFROM:+0000
TZOFFSETTO:+0100
TZNAME:Europe/London BST
END:DAYLIGHT
BEGIN:DAYLIGHT
DTSTART:20280326T020000
RDATE:20281029T010000
TZOFFSETFROM:+0000
TZOFFSETTO:+0100
TZNAME:Europe/London BST
END:DAYLIGHT
BEGIN:DAYLIGHT
DTSTART:20290325T020000
RDATE:20291028T010000
TZOFFSETFROM:+0000
TZOFFSETTO:+0100
TZNAME:Europe/London BST
END:DAYLIGHT
BEGIN:DAYLIGHT
DTSTART:20300331T020000
RDATE:20301027T010000
TZOFFSETFROM:+0000
TZOFFSETTO:+0100
TZNAME:Europe/London BST
END:DAYLIGHT
END:VTIMEZONE
BEGIN:VEVENT
UID:3b079110a7278753f283f249508f9616
CATEGORIES:South
CREATED:20171124T205910
SUMMARY:District Practice - Christmas Ringing with Mince Pies and Mulled Wine - Ringmer
LOCATION:Ringmer 
URL;VALUE=URI:https://scacr.org/news-events/calendar/299/district-practice-christmas-ring
 ing-with-mince-pies-and-mulled-wine-ringmer?tmpl=component
DESCRIPTION:Come along for a relaxed morning of ringing with full on festivity at Ringm
 er. Ringing will be from rounds onwards with a sizeable break for Mince Pie
 s and Mulled Wine if you would like.\n\n - Recent Saturday practices have s
 een us ringing call changes, Plain Bob, Grandsire Triples, Little Bob Major
 , Stedman, Yorkshire and Cambridge Major.Come with something you'd like to 
 ring. These practices provide a good opportunity to try something new, ring
  something you might not get at your home tower, or ring some new bells!\n(
 There is plenty of parking opposite the tower)\n This event was imported fr
 om: https://scacr.org/news-events/calendar/299/district-practice-christmas-
 ringing-with-mince-pies-and-mulled-wine-ringmer?tmpl=component (https://sca
 cr.org/news-events/calendar/299/district-practice-christmas-ringing-with-mi
 nce-pies-and-mulled-wine-ringmer?tmpl=component)
X-ALT-DESC;FMTTYPE=text/html:<p>Come along for a relaxed morning of ringing with full on festivity at <s
 trong>Ringmer</strong>. Ringing will be from rounds onwards with a sizeable
  break for Mince Pies and Mulled Wine if you would like.</p><ul><li>Recent 
 Saturday practices have seen us ringing call changes, Plain Bob, Grandsire 
 Triples, Little Bob Major, Stedman, Yorkshire and Cambridge Major.</li></ul
 ><p><em>Come with something you'd like to ring. These practices provide a g
 ood opportunity to try something new, ring something you might not get at y
 our home tower, or ring some new bells!<em></em></em></p><p>(There is plent
 y of parking opposite the tower)</p> <a href="https://scacr.org/news-events
 /calendar/299/district-practice-christmas-ringing-with-mince-pies-and-mulle
 d-wine-ringmer?tmpl=component">This event was imported from: https://scacr.
 org/news-events/calendar/299/district-practice-christmas-ringing-with-mince
 -pies-and-mulled-wine-ringmer?tmpl=component</a>CONTACT:Mary Burr - This email address is being protected from spambots. You need JavaScript enabled to view it.
				document.getElementById('cloakd1a3bcb5c15f23dc7b084925ba7c5bbb').innerHTML = '';
				var prefix = '&#109;a' + 'i&#108;' + '&#116;o';
				var path = 'hr' + 'ef' + '=';
				var addyd1a3bcb5c15f23dc7b084925ba7c5bbb = 'm&#97;ryb&#117;rr18' + '&#64;';
				addyd1a3bcb5c15f23dc7b084925ba7c5bbb = addyd1a3bcb5c15f23dc7b084925ba7c5bbb + 'y&#97;h&#111;&#111;' + '&#46;' + 'c&#111;' + '&#46;' + '&#117;k';
				var addy_textd1a3bcb5c15f23dc7b084925ba7c5bbb = 'm&#97;ryb&#117;rr18' + '&#64;' + 'y&#97;h&#111;&#111;' + '&#46;' + 'c&#111;' + '&#46;' + '&#117;k';document.getElementById('cloakd1a3bcb5c15f23dc7b084925ba7c5bbb').innerHTML += '<a ' + path + '\'' + prefix + ':' + addyd1a3bcb5c15f23dc7b084925ba7c5bbb + '\'>'+addy_textd1a3bcb5c15f23dc7b084925ba7c5bbb+'';
		
DTSTAMP:20260420T183352
DTSTART;TZID=Europe/London:20171216T100000
DTEND;TZID=Europe/London:20171216T120000
SEQUENCE:0
TRANSP:OPAQUE
END:VEVENT
END:VCALENDAR