BEGIN:VCALENDAR
VERSION:2.0
PRODID:-//jEvents 2.0 for Joomla//EN
CALSCALE:GREGORIAN
METHOD:PUBLISH
BEGIN:VTIMEZONE
TZID:Europe/London
BEGIN:STANDARD
DTSTART:20170102T110000
RDATE:20170326T020000
TZOFFSETFROM:+0100
TZOFFSETTO:+0000
TZNAME:Europe/London GMT
END:STANDARD
BEGIN:STANDARD
DTSTART:20171029T010000
RDATE:20180325T020000
TZOFFSETFROM:+0100
TZOFFSETTO:+0000
TZNAME:Europe/London GMT
END:STANDARD
BEGIN:STANDARD
DTSTART:20181028T010000
RDATE:20190331T020000
TZOFFSETFROM:+0100
TZOFFSETTO:+0000
TZNAME:Europe/London GMT
END:STANDARD
BEGIN:STANDARD
DTSTART:20191027T010000
RDATE:20200329T020000
TZOFFSETFROM:+0100
TZOFFSETTO:+0000
TZNAME:Europe/London GMT
END:STANDARD
BEGIN:STANDARD
DTSTART:20201025T010000
RDATE:20210328T020000
TZOFFSETFROM:+0100
TZOFFSETTO:+0000
TZNAME:Europe/London GMT
END:STANDARD
BEGIN:STANDARD
DTSTART:20211031T010000
RDATE:20220327T020000
TZOFFSETFROM:+0100
TZOFFSETTO:+0000
TZNAME:Europe/London GMT
END:STANDARD
BEGIN:STANDARD
DTSTART:20221030T010000
RDATE:20230326T020000
TZOFFSETFROM:+0100
TZOFFSETTO:+0000
TZNAME:Europe/London GMT
END:STANDARD
BEGIN:STANDARD
DTSTART:20231029T010000
RDATE:20240331T020000
TZOFFSETFROM:+0100
TZOFFSETTO:+0000
TZNAME:Europe/London GMT
END:STANDARD
BEGIN:STANDARD
DTSTART:20241027T010000
RDATE:20250330T020000
TZOFFSETFROM:+0100
TZOFFSETTO:+0000
TZNAME:Europe/London GMT
END:STANDARD
BEGIN:STANDARD
DTSTART:20251026T010000
RDATE:20260329T020000
TZOFFSETFROM:+0100
TZOFFSETTO:+0000
TZNAME:Europe/London GMT
END:STANDARD
BEGIN:STANDARD
DTSTART:20261025T010000
RDATE:20270328T020000
TZOFFSETFROM:+0100
TZOFFSETTO:+0000
TZNAME:Europe/London GMT
END:STANDARD
BEGIN:STANDARD
DTSTART:20271031T010000
RDATE:20280326T020000
TZOFFSETFROM:+0100
TZOFFSETTO:+0000
TZNAME:Europe/London GMT
END:STANDARD
BEGIN:STANDARD
DTSTART:20281029T010000
RDATE:20290325T020000
TZOFFSETFROM:+0100
TZOFFSETTO:+0000
TZNAME:Europe/London GMT
END:STANDARD
BEGIN:STANDARD
DTSTART:20291028T010000
RDATE:20300331T020000
TZOFFSETFROM:+0100
TZOFFSETTO:+0000
TZNAME:Europe/London GMT
END:STANDARD
BEGIN:STANDARD
DTSTART:20301027T010000
RDATE:20310330T020000
TZOFFSETFROM:+0100
TZOFFSETTO:+0000
TZNAME:Europe/London GMT
END:STANDARD
BEGIN:DAYLIGHT
DTSTART:20170326T020000
RDATE:20171029T010000
TZOFFSETFROM:+0000
TZOFFSETTO:+0100
TZNAME:Europe/London BST
END:DAYLIGHT
BEGIN:DAYLIGHT
DTSTART:20180325T020000
RDATE:20181028T010000
TZOFFSETFROM:+0000
TZOFFSETTO:+0100
TZNAME:Europe/London BST
END:DAYLIGHT
BEGIN:DAYLIGHT
DTSTART:20190331T020000
RDATE:20191027T010000
TZOFFSETFROM:+0000
TZOFFSETTO:+0100
TZNAME:Europe/London BST
END:DAYLIGHT
BEGIN:DAYLIGHT
DTSTART:20200329T020000
RDATE:20201025T010000
TZOFFSETFROM:+0000
TZOFFSETTO:+0100
TZNAME:Europe/London BST
END:DAYLIGHT
BEGIN:DAYLIGHT
DTSTART:20210328T020000
RDATE:20211031T010000
TZOFFSETFROM:+0000
TZOFFSETTO:+0100
TZNAME:Europe/London BST
END:DAYLIGHT
BEGIN:DAYLIGHT
DTSTART:20220327T020000
RDATE:20221030T010000
TZOFFSETFROM:+0000
TZOFFSETTO:+0100
TZNAME:Europe/London BST
END:DAYLIGHT
BEGIN:DAYLIGHT
DTSTART:20230326T020000
RDATE:20231029T010000
TZOFFSETFROM:+0000
TZOFFSETTO:+0100
TZNAME:Europe/London BST
END:DAYLIGHT
BEGIN:DAYLIGHT
DTSTART:20240331T020000
RDATE:20241027T010000
TZOFFSETFROM:+0000
TZOFFSETTO:+0100
TZNAME:Europe/London BST
END:DAYLIGHT
BEGIN:DAYLIGHT
DTSTART:20250330T020000
RDATE:20251026T010000
TZOFFSETFROM:+0000
TZOFFSETTO:+0100
TZNAME:Europe/London BST
END:DAYLIGHT
BEGIN:DAYLIGHT
DTSTART:20260329T020000
RDATE:20261025T010000
TZOFFSETFROM:+0000
TZOFFSETTO:+0100
TZNAME:Europe/London BST
END:DAYLIGHT
BEGIN:DAYLIGHT
DTSTART:20270328T020000
RDATE:20271031T010000
TZOFFSETFROM:+0000
TZOFFSETTO:+0100
TZNAME:Europe/London BST
END:DAYLIGHT
BEGIN:DAYLIGHT
DTSTART:20280326T020000
RDATE:20281029T010000
TZOFFSETFROM:+0000
TZOFFSETTO:+0100
TZNAME:Europe/London BST
END:DAYLIGHT
BEGIN:DAYLIGHT
DTSTART:20290325T020000
RDATE:20291028T010000
TZOFFSETFROM:+0000
TZOFFSETTO:+0100
TZNAME:Europe/London BST
END:DAYLIGHT
BEGIN:DAYLIGHT
DTSTART:20300331T020000
RDATE:20301027T010000
TZOFFSETFROM:+0000
TZOFFSETTO:+0100
TZNAME:Europe/London BST
END:DAYLIGHT
END:VTIMEZONE
BEGIN:VEVENT
UID:bb21a9bab0da912e7429e57b8450ec55
CATEGORIES:Other Event
CREATED:20171220T100310
SUMMARY:Codgers
LOCATION:Ringmer/Laughton
URL;VALUE=URI:https://scacr.org/news-events/calendar/349/codgers?tmpl=component
DESCRIPTION:<p>Please note the 8 bell tower is now in the morning during 2018 and the t
 imings have been adjusted accordingly.</p><table style="width: 90%;"><tbody
 ><tr><td style="width: 13%;"><p><a href="http://dove.cccbr.org.uk/detail.ph
 p?searchString=ringm&amp;numPerPage=10&amp;Submit=Go&amp;searchAmount=%3D&a
 mp;searchMetric=cwt&amp;sortBy=Place&amp;sortDir=Asc&amp;DoveID=RINGMER">Ri
 ngmer</a></p></td><td style="width: 47%;"><p>S Mary V (S;T), 8, 13-3-0 (699
 kg) in F</p></td><td style="width: 24%;"><p>11.00am – 12.30pm</p></td></tr>
 <tr><td style="width: 13%;"><p><a href="http://dove.cccbr.org.uk/detail.php
 ?searchString=laugh&amp;numPerPage=10&amp;Submit=Go&amp;searchAmount=%3D&am
 p;searchMetric=cwt&amp;sortBy=Place&amp;sortDir=Asc&amp;DoveID=LAUGHTON+S">
 Laughton</a></p></td><td style="width: 47%;"><p>All Saints, 6, 9-2-6 (485kg
 ) in G</p></td><td style="width: 24%;"><p>2.15pm – 3.30pm</p></td></tr></tb
 ody></table><p>Pub:</p><p><a href="https://www.theanchorinnringmer.co.uk/">
 The Anchor Inn<br /></a><span style="color: #000000;">Lewes Road<a href="ht
 tps://www.theanchorinnringmer.co.uk/"><br /></a></span>Ringmer. BN8 5QE<spa
 n style="color: #000000;"><a href="https://www.theanchorinnringmer.co.uk/">
 <br /></a></span></p><p>01273 812370</p><p><span id="cloak30477b9e5bd2f707f
 7ff58335ece1518">This email address is being protected from spambots. You n
 eed JavaScript enabled to view it.</span><script type='text/javascript'>
		
 		document.getElementById('cloak30477b9e5bd2f707f7ff58335ece1518').innerHTM
 L = '';
				var prefix = '&#109;a' + 'i&#108;' + '&#116;o';
				var path = 
 'hr' + 'ef' + '=';
				var addy30477b9e5bd2f707f7ff58335ece1518 = '&#105;nf
 &#111;' + '&#64;';
				addy30477b9e5bd2f707f7ff58335ece1518 = addy30477b9e5
 bd2f707f7ff58335ece1518 + 'th&#101;&#97;nch&#111;r&#105;nnr&#105;ngm&#101;r
 ' + '&#46;' + 'c&#111;' + '&#46;' + '&#117;k';
				var addy_text30477b9e5bd
 2f707f7ff58335ece1518 = '&#105;nf&#111;' + '&#64;' + 'th&#101;&#97;nch&#111
 ;r&#105;nnr&#105;ngm&#101;r' + '&#46;' + 'c&#111;' + '&#46;' + '&#117;k';do
 cument.getElementById('cloak30477b9e5bd2f707f7ff58335ece1518').innerHTML +=
  '<a ' + path + '\'' + prefix + ':' + addy30477b9e5bd2f707f7ff58335ece1518 
 + '\'>'+addy_text30477b9e5bd2f707f7ff58335ece1518+'<\/a>';
		</script></p> 
 <a href="https://scacr.org/news-events/calendar/349/codgers?tmpl=component"
 >This event was imported from: https://scacr.org/news-events/calendar/349/c
 odgers?tmpl=component</a>CONTACT:Mike Foster at This email address is being protected from spambots. You need JavaScript enabled to view it.
				document.getElementById('cloak8c97230925eba646b905b95b3440384a').innerHTML = '';
				var prefix = '&#109;a' + 'i&#108;' + '&#116;o';
				var path = 'hr' + 'ef' + '=';
				var addy8c97230925eba646b905b95b3440384a = 'c&#111;dg&#101;rs' + '&#64;';
				addy8c97230925eba646b905b95b3440384a = addy8c97230925eba646b905b95b3440384a + 'sc&#97;cr' + '&#46;' + '&#111;rg';
				var addy_text8c97230925eba646b905b95b3440384a = 'c&#111;dg&#101;rs' + '&#64;' + 'sc&#97;cr' + '&#46;' + '&#111;rg';document.getElementById('cloak8c97230925eba646b905b95b3440384a').innerHTML += '<a ' + path + '\'' + prefix + ':' + addy8c97230925eba646b905b95b3440384a + '\'>'+addy_text8c97230925eba646b905b95b3440384a+'';
		
DTSTAMP:20260419T121229
DTSTART;TZID=Europe/London:20180103T110000
DTEND;TZID=Europe/London:20180103T153000
SEQUENCE:0
TRANSP:OPAQUE
END:VEVENT
END:VCALENDAR