BEGIN:VCALENDAR
VERSION:2.0
PRODID:-//jEvents 2.0 for Joomla//EN
CALSCALE:GREGORIAN
METHOD:PUBLISH
BEGIN:VTIMEZONE
TZID:Europe/London
BEGIN:STANDARD
DTSTART:20170119T160000
RDATE:20170326T020000
TZOFFSETFROM:+0100
TZOFFSETTO:+0000
TZNAME:Europe/London GMT
END:STANDARD
BEGIN:STANDARD
DTSTART:20171029T010000
RDATE:20180325T020000
TZOFFSETFROM:+0100
TZOFFSETTO:+0000
TZNAME:Europe/London GMT
END:STANDARD
BEGIN:STANDARD
DTSTART:20181028T010000
RDATE:20190331T020000
TZOFFSETFROM:+0100
TZOFFSETTO:+0000
TZNAME:Europe/London GMT
END:STANDARD
BEGIN:STANDARD
DTSTART:20191027T010000
RDATE:20200329T020000
TZOFFSETFROM:+0100
TZOFFSETTO:+0000
TZNAME:Europe/London GMT
END:STANDARD
BEGIN:STANDARD
DTSTART:20201025T010000
RDATE:20210328T020000
TZOFFSETFROM:+0100
TZOFFSETTO:+0000
TZNAME:Europe/London GMT
END:STANDARD
BEGIN:STANDARD
DTSTART:20211031T010000
RDATE:20220327T020000
TZOFFSETFROM:+0100
TZOFFSETTO:+0000
TZNAME:Europe/London GMT
END:STANDARD
BEGIN:STANDARD
DTSTART:20221030T010000
RDATE:20230326T020000
TZOFFSETFROM:+0100
TZOFFSETTO:+0000
TZNAME:Europe/London GMT
END:STANDARD
BEGIN:STANDARD
DTSTART:20231029T010000
RDATE:20240331T020000
TZOFFSETFROM:+0100
TZOFFSETTO:+0000
TZNAME:Europe/London GMT
END:STANDARD
BEGIN:STANDARD
DTSTART:20241027T010000
RDATE:20250330T020000
TZOFFSETFROM:+0100
TZOFFSETTO:+0000
TZNAME:Europe/London GMT
END:STANDARD
BEGIN:STANDARD
DTSTART:20251026T010000
RDATE:20260329T020000
TZOFFSETFROM:+0100
TZOFFSETTO:+0000
TZNAME:Europe/London GMT
END:STANDARD
BEGIN:STANDARD
DTSTART:20261025T010000
RDATE:20270328T020000
TZOFFSETFROM:+0100
TZOFFSETTO:+0000
TZNAME:Europe/London GMT
END:STANDARD
BEGIN:STANDARD
DTSTART:20271031T010000
RDATE:20280326T020000
TZOFFSETFROM:+0100
TZOFFSETTO:+0000
TZNAME:Europe/London GMT
END:STANDARD
BEGIN:STANDARD
DTSTART:20281029T010000
RDATE:20290325T020000
TZOFFSETFROM:+0100
TZOFFSETTO:+0000
TZNAME:Europe/London GMT
END:STANDARD
BEGIN:STANDARD
DTSTART:20291028T010000
RDATE:20300331T020000
TZOFFSETFROM:+0100
TZOFFSETTO:+0000
TZNAME:Europe/London GMT
END:STANDARD
BEGIN:STANDARD
DTSTART:20301027T010000
RDATE:20310330T020000
TZOFFSETFROM:+0100
TZOFFSETTO:+0000
TZNAME:Europe/London GMT
END:STANDARD
BEGIN:DAYLIGHT
DTSTART:20170326T020000
RDATE:20171029T010000
TZOFFSETFROM:+0000
TZOFFSETTO:+0100
TZNAME:Europe/London BST
END:DAYLIGHT
BEGIN:DAYLIGHT
DTSTART:20180325T020000
RDATE:20181028T010000
TZOFFSETFROM:+0000
TZOFFSETTO:+0100
TZNAME:Europe/London BST
END:DAYLIGHT
BEGIN:DAYLIGHT
DTSTART:20190331T020000
RDATE:20191027T010000
TZOFFSETFROM:+0000
TZOFFSETTO:+0100
TZNAME:Europe/London BST
END:DAYLIGHT
BEGIN:DAYLIGHT
DTSTART:20200329T020000
RDATE:20201025T010000
TZOFFSETFROM:+0000
TZOFFSETTO:+0100
TZNAME:Europe/London BST
END:DAYLIGHT
BEGIN:DAYLIGHT
DTSTART:20210328T020000
RDATE:20211031T010000
TZOFFSETFROM:+0000
TZOFFSETTO:+0100
TZNAME:Europe/London BST
END:DAYLIGHT
BEGIN:DAYLIGHT
DTSTART:20220327T020000
RDATE:20221030T010000
TZOFFSETFROM:+0000
TZOFFSETTO:+0100
TZNAME:Europe/London BST
END:DAYLIGHT
BEGIN:DAYLIGHT
DTSTART:20230326T020000
RDATE:20231029T010000
TZOFFSETFROM:+0000
TZOFFSETTO:+0100
TZNAME:Europe/London BST
END:DAYLIGHT
BEGIN:DAYLIGHT
DTSTART:20240331T020000
RDATE:20241027T010000
TZOFFSETFROM:+0000
TZOFFSETTO:+0100
TZNAME:Europe/London BST
END:DAYLIGHT
BEGIN:DAYLIGHT
DTSTART:20250330T020000
RDATE:20251026T010000
TZOFFSETFROM:+0000
TZOFFSETTO:+0100
TZNAME:Europe/London BST
END:DAYLIGHT
BEGIN:DAYLIGHT
DTSTART:20260329T020000
RDATE:20261025T010000
TZOFFSETFROM:+0000
TZOFFSETTO:+0100
TZNAME:Europe/London BST
END:DAYLIGHT
BEGIN:DAYLIGHT
DTSTART:20270328T020000
RDATE:20271031T010000
TZOFFSETFROM:+0000
TZOFFSETTO:+0100
TZNAME:Europe/London BST
END:DAYLIGHT
BEGIN:DAYLIGHT
DTSTART:20280326T020000
RDATE:20281029T010000
TZOFFSETFROM:+0000
TZOFFSETTO:+0100
TZNAME:Europe/London BST
END:DAYLIGHT
BEGIN:DAYLIGHT
DTSTART:20290325T020000
RDATE:20291028T010000
TZOFFSETFROM:+0000
TZOFFSETTO:+0100
TZNAME:Europe/London BST
END:DAYLIGHT
BEGIN:DAYLIGHT
DTSTART:20300331T020000
RDATE:20301027T010000
TZOFFSETFROM:+0000
TZOFFSETTO:+0100
TZNAME:Europe/London BST
END:DAYLIGHT
END:VTIMEZONE
BEGIN:VEVENT
UID:dc6b456b26c075d1a201d94d1879b304
CATEGORIES:South
CREATED:20171226T212913
SUMMARY:District Quiz - *Full Menu Now Available*
LOCATION:Southover (Lewes)
URL;VALUE=URI:https://scacr.org/news-events/calendar/350/district-quiz-full-menu-now-avai
 lable?tmpl=component
DESCRIPTION:<p>&nbsp;</p><p style="text-align: center;"><strong style="font-size: 18px;
 ">The Southern District Quiz 2018 at Southover (Lewes) - Saturday 20th Janu
 ary 2018</strong></p><p style="text-align: center;"><em>Back again by popul
 ar demand. This year's Southern District Quiz is being held at Southover (L
 ewes). Come along for an evening of ringing, quiz rounds, fish and chips an
 d competition.&nbsp;</em></p><p style="font-size: 18px; text-align: center;
 ">To sign yourself or your team up, Contact Mary Burr at&nbsp;<strong><span
  id="cloakd165530fa344951098199ec40a887293">This email address is being pro
 tected from spambots. You need JavaScript enabled to view it.</span><script
  type='text/javascript'>
				document.getElementById('cloakd165530fa3449510
 98199ec40a887293').innerHTML = '';
				var prefix = '&#109;a' + 'i&#108;' +
  '&#116;o';
				var path = 'hr' + 'ef' + '=';
				var addyd165530fa34495109
 8199ec40a887293 = 'm&#97;ryb&#117;rr18' + '&#64;';
				addyd165530fa3449510
 98199ec40a887293 = addyd165530fa344951098199ec40a887293 + 'y&#97;h&#111;&#1
 11;' + '&#46;' + 'c&#111;' + '&#46;' + '&#117;k';
				var addy_textd165530f
 a344951098199ec40a887293 = 'm&#97;ryb&#117;rr18' + '&#64;' + 'y&#97;h&#111;
 &#111;' + '&#46;' + 'c&#111;' + '&#46;' + '&#117;k';document.getElementById
 ('cloakd165530fa344951098199ec40a887293').innerHTML += '<a ' + path + '\'' 
 + prefix + ':' + addyd165530fa344951098199ec40a887293 + '\'>'+addy_textd165
 530fa344951098199ec40a887293+'<\/a>';
		</script></strong><strong><br /></s
 trong></p><p style="font-size: 16px; text-align: center;"><em>Location: Tri
 nity Church Southover (Lewes)&nbsp;Southover High St, Lewes. BN7 1JH</em></
 p><p>Timings</p><ul><li>16:00 - 17:00 - <strong>Ringing</strong> on the 10 
 at Southover. Please do come ringing. Never rung at Southover? Don't worry!
  They are very easy bells and ringing will be rounds onwards.&nbsp;</li><li
  style="color: #000000; font-size: 16px;">17:30 In Trinity Church Hall - <s
 trong>Fish and Chip supper</strong>. Please&nbsp;order in advance to the ab
 ove contact.</li></ul><p style="color: #000000; font-size: 16px;"><strong><
 em><strong style="font-size: 20px;">FISH AND CHIPS:&nbsp;£6,&nbsp;&nbsp; </
 strong></em></strong></p><p style="color: #000000; font-size: 16px;"><stron
 g><em><strong style="font-size: 20px;">Sausage and chips: £2.85,&nbsp;&nbsp
 ; </strong></em></strong></p><p style="color: #000000; font-size: 16px;"><s
 trong><em><strong style="font-size: 20px;">2 sausage and chips: £3.95,&nbsp
 ;&nbsp; </strong></em></strong></p><p style="color: #000000; font-size: 16p
 x;"><strong><em><strong style="font-size: 20px;">Vegetable spring roll and 
 chips: £3.25, </strong></em></strong></p><p style="color: #000000; font-siz
 e: 16px;"><strong><em><strong style="font-size: 20px;">Chips: £1.75.</stron
 g></em></strong></p><ul><li>18:00 onwards - <strong>Quiz!&nbsp;</strong>Be 
 ready for an evening of several Quiz rounds and styles. From Geography to G
 eometry, there will be questions for all ages.</li></ul><p>Details&nbsp;</p
 ><ul><li>Don't have a team? No problem. Sign yourself up, teams can be asse
 mbled on the night.&nbsp;</li><li>Bring your own drinks, glasses, cups, cut
 lery, deserts and pens.&nbsp;</li><li>There is restricted parking infront o
 f the church on the high street. More parking can be found down Cockshut Ro
 ad, opposite Southdown Sports club.&nbsp;</li><li><strong style="font-size:
  16px;">Also&nbsp;£1 a head for hall hire cost.</strong></li></ul><p><stron
 g><em>Places at the hall are limited to 70. So get your team signed up as s
 oon as you can.</em></strong></p><p>&nbsp;</p> <a href="https://scacr.org/n
 ews-events/calendar/350/district-quiz-full-menu-now-available?tmpl=componen
 t">This event was imported from: https://scacr.org/news-events/calendar/350
 /district-quiz-full-menu-now-available?tmpl=component</a>CONTACT:This email address is being protected from spambots. You need JavaScript enabled to view it.
				document.getElementById('cloak7363a102923a94a4a2e5a04fb77d401b').innerHTML = '';
				var prefix = '&#109;a' + 'i&#108;' + '&#116;o';
				var path = 'hr' + 'ef' + '=';
				var addy7363a102923a94a4a2e5a04fb77d401b = 'm&#97;ryb&#117;rr18' + '&#64;';
				addy7363a102923a94a4a2e5a04fb77d401b = addy7363a102923a94a4a2e5a04fb77d401b + 'y&#97;h&#111;&#111;' + '&#46;' + 'c&#111;' + '&#46;' + '&#117;k';
				var addy_text7363a102923a94a4a2e5a04fb77d401b = 'm&#97;ryb&#117;rr18' + '&#64;' + 'y&#97;h&#111;&#111;' + '&#46;' + 'c&#111;' + '&#46;' + '&#117;k';document.getElementById('cloak7363a102923a94a4a2e5a04fb77d401b').innerHTML += '<a ' + path + '\'' + prefix + ':' + addy7363a102923a94a4a2e5a04fb77d401b + '\'>'+addy_text7363a102923a94a4a2e5a04fb77d401b+'';
		
DTSTAMP:20260419T121338
DTSTART;TZID=Europe/London:20180120T160000
SEQUENCE:0
TRANSP:OPAQUE
END:VEVENT
END:VCALENDAR