BEGIN:VCALENDAR
VERSION:2.0
PRODID:-//jEvents 2.0 for Joomla//EN
CALSCALE:GREGORIAN
METHOD:PUBLISH
BEGIN:VTIMEZONE
TZID:Europe/London
BEGIN:STANDARD
DTSTART:20171029T010000
RDATE:20180325T020000
TZOFFSETFROM:+0100
TZOFFSETTO:+0000
TZNAME:Europe/London GMT
END:STANDARD
BEGIN:STANDARD
DTSTART:20181028T010000
RDATE:20190331T020000
TZOFFSETFROM:+0100
TZOFFSETTO:+0000
TZNAME:Europe/London GMT
END:STANDARD
BEGIN:STANDARD
DTSTART:20191027T010000
RDATE:20200329T020000
TZOFFSETFROM:+0100
TZOFFSETTO:+0000
TZNAME:Europe/London GMT
END:STANDARD
BEGIN:STANDARD
DTSTART:20201025T010000
RDATE:20210328T020000
TZOFFSETFROM:+0100
TZOFFSETTO:+0000
TZNAME:Europe/London GMT
END:STANDARD
BEGIN:STANDARD
DTSTART:20211031T010000
RDATE:20220327T020000
TZOFFSETFROM:+0100
TZOFFSETTO:+0000
TZNAME:Europe/London GMT
END:STANDARD
BEGIN:STANDARD
DTSTART:20221030T010000
RDATE:20230326T020000
TZOFFSETFROM:+0100
TZOFFSETTO:+0000
TZNAME:Europe/London GMT
END:STANDARD
BEGIN:STANDARD
DTSTART:20231029T010000
RDATE:20240331T020000
TZOFFSETFROM:+0100
TZOFFSETTO:+0000
TZNAME:Europe/London GMT
END:STANDARD
BEGIN:STANDARD
DTSTART:20241027T010000
RDATE:20250330T020000
TZOFFSETFROM:+0100
TZOFFSETTO:+0000
TZNAME:Europe/London GMT
END:STANDARD
BEGIN:STANDARD
DTSTART:20251026T010000
RDATE:20260329T020000
TZOFFSETFROM:+0100
TZOFFSETTO:+0000
TZNAME:Europe/London GMT
END:STANDARD
BEGIN:STANDARD
DTSTART:20261025T010000
RDATE:20270328T020000
TZOFFSETFROM:+0100
TZOFFSETTO:+0000
TZNAME:Europe/London GMT
END:STANDARD
BEGIN:STANDARD
DTSTART:20271031T010000
RDATE:20280326T020000
TZOFFSETFROM:+0100
TZOFFSETTO:+0000
TZNAME:Europe/London GMT
END:STANDARD
BEGIN:STANDARD
DTSTART:20281029T010000
RDATE:20290325T020000
TZOFFSETFROM:+0100
TZOFFSETTO:+0000
TZNAME:Europe/London GMT
END:STANDARD
BEGIN:STANDARD
DTSTART:20291028T010000
RDATE:20300331T020000
TZOFFSETFROM:+0100
TZOFFSETTO:+0000
TZNAME:Europe/London GMT
END:STANDARD
BEGIN:STANDARD
DTSTART:20301027T010000
RDATE:20310330T020000
TZOFFSETFROM:+0100
TZOFFSETTO:+0000
TZNAME:Europe/London GMT
END:STANDARD
BEGIN:DAYLIGHT
DTSTART:20170606T090000
RDATE:20171029T010000
TZOFFSETFROM:+0000
TZOFFSETTO:+0100
TZNAME:Europe/London BST
END:DAYLIGHT
BEGIN:DAYLIGHT
DTSTART:20180325T020000
RDATE:20181028T010000
TZOFFSETFROM:+0000
TZOFFSETTO:+0100
TZNAME:Europe/London BST
END:DAYLIGHT
BEGIN:DAYLIGHT
DTSTART:20190331T020000
RDATE:20191027T010000
TZOFFSETFROM:+0000
TZOFFSETTO:+0100
TZNAME:Europe/London BST
END:DAYLIGHT
BEGIN:DAYLIGHT
DTSTART:20200329T020000
RDATE:20201025T010000
TZOFFSETFROM:+0000
TZOFFSETTO:+0100
TZNAME:Europe/London BST
END:DAYLIGHT
BEGIN:DAYLIGHT
DTSTART:20210328T020000
RDATE:20211031T010000
TZOFFSETFROM:+0000
TZOFFSETTO:+0100
TZNAME:Europe/London BST
END:DAYLIGHT
BEGIN:DAYLIGHT
DTSTART:20220327T020000
RDATE:20221030T010000
TZOFFSETFROM:+0000
TZOFFSETTO:+0100
TZNAME:Europe/London BST
END:DAYLIGHT
BEGIN:DAYLIGHT
DTSTART:20230326T020000
RDATE:20231029T010000
TZOFFSETFROM:+0000
TZOFFSETTO:+0100
TZNAME:Europe/London BST
END:DAYLIGHT
BEGIN:DAYLIGHT
DTSTART:20240331T020000
RDATE:20241027T010000
TZOFFSETFROM:+0000
TZOFFSETTO:+0100
TZNAME:Europe/London BST
END:DAYLIGHT
BEGIN:DAYLIGHT
DTSTART:20250330T020000
RDATE:20251026T010000
TZOFFSETFROM:+0000
TZOFFSETTO:+0100
TZNAME:Europe/London BST
END:DAYLIGHT
BEGIN:DAYLIGHT
DTSTART:20260329T020000
RDATE:20261025T010000
TZOFFSETFROM:+0000
TZOFFSETTO:+0100
TZNAME:Europe/London BST
END:DAYLIGHT
BEGIN:DAYLIGHT
DTSTART:20270328T020000
RDATE:20271031T010000
TZOFFSETFROM:+0000
TZOFFSETTO:+0100
TZNAME:Europe/London BST
END:DAYLIGHT
BEGIN:DAYLIGHT
DTSTART:20280326T020000
RDATE:20281029T010000
TZOFFSETFROM:+0000
TZOFFSETTO:+0100
TZNAME:Europe/London BST
END:DAYLIGHT
BEGIN:DAYLIGHT
DTSTART:20290325T020000
RDATE:20291028T010000
TZOFFSETFROM:+0000
TZOFFSETTO:+0100
TZNAME:Europe/London BST
END:DAYLIGHT
BEGIN:DAYLIGHT
DTSTART:20300331T020000
RDATE:20301027T010000
TZOFFSETFROM:+0000
TZOFFSETTO:+0100
TZNAME:Europe/London BST
END:DAYLIGHT
END:VTIMEZONE
BEGIN:VEVENT
UID:d9928d7486c96e21991ecfe90f487433
CATEGORIES:Association Event
CREATED:20180123T225455
SUMMARY:South of England Show, Ardingly: 7-9 June
LOCATION:Ardingly Showground
URL;VALUE=URI:https://scacr.org/news-events/calendar/361/south-of-england-show-ardingly-7
 -9-june?tmpl=component
DESCRIPTION:<p>Come and ring the bells at the South of England Show 2018!</p><p><a href
 ="images/news/2018/SOES_Poster_2018.pdf">POSTER </a>for tower noticeboards.
  <span style="color: #ff0000;"><strong>[UPDATE 27 May 2018]&nbsp;</strong><
 /span> <a href="index.php?option=com_content&amp;view=article&amp;id=293:so
 uth-of-england-show-7-9-june-2018&amp;catid=15">See the news article for mo
 re details</a>.</p><p>Spaces are still available for ringers of all abiliti
 es to ring and talk about ringing at Dewbys Bells mini-ring as part of the 
 SCACR representation alongside the Diocese of Chichester this year.</p><p>N
 o prior experience necessary – just an enthusiasm for bell ringing and abil
 ity to chat!</p><p>Free admission is available to anyone who can help – a f
 ew of hours ringing (10-1 and 1-4) and the rest of the time available to vi
 sit the show. Under 16s gain free admission with an accompanying adult so w
 e are pleased to provide admission for families able to bring their young r
 ingers on the Saturday.</p><p>Find out more from Marisa via <span id="cloak
 33854d80225e053d4ae1052f6ff8f2c5">This email address is being protected fro
 m spambots. You need JavaScript enabled to view it.</span><script type='tex
 t/javascript'>
				document.getElementById('cloak33854d80225e053d4ae1052f6f
 f8f2c5').innerHTML = '';
				var prefix = '&#109;a' + 'i&#108;' + '&#116;o'
 ;
				var path = 'hr' + 'ef' + '=';
				var addy33854d80225e053d4ae1052f6ff
 8f2c5 = 'p&#117;bl&#105;c&#105;ty' + '&#64;';
				addy33854d80225e053d4ae10
 52f6ff8f2c5 = addy33854d80225e053d4ae1052f6ff8f2c5 + 'sc&#97;cr' + '&#46;' 
 + '&#111;rg';
				var addy_text33854d80225e053d4ae1052f6ff8f2c5 = 'p&#117;b
 l&#105;c&#105;ty' + '&#64;' + 'sc&#97;cr' + '&#46;' + '&#111;rg';document.g
 etElementById('cloak33854d80225e053d4ae1052f6ff8f2c5').innerHTML += '<a ' +
  path + '\'' + prefix + ':' + addy33854d80225e053d4ae1052f6ff8f2c5 + '\'>'+
 addy_text33854d80225e053d4ae1052f6ff8f2c5+'<\/a>';
		</script> (please stat
 e that you are happy to be contacted via email / telephone regarding the Sh
 ow (Tel: 07796 145464).</p><p>@sussexbells @chichesterDio and @seas_org - u
 se hashtags #southofenglandshow or #bellringing</p><p>&nbsp;</p> <a href="h
 ttps://scacr.org/news-events/calendar/361/south-of-england-show-ardingly-7-
 9-june?tmpl=component">This event was imported from: https://scacr.org/news
 -events/calendar/361/south-of-england-show-ardingly-7-9-june?tmpl=component
 </a>
X-ALT-DESC;FMTTYPE=text/html:<p>Come and ring the bells at the South of England Show 2018!</p><p><a href
 ="https://scacr.org/images/news/2018/SOES_Poster_2018.pdf">POSTER </a>for t
 ower noticeboards. <span style="color: #ff0000;"><strong>[UPDATE 27 May 201
 8]&nbsp;</strong></span> <a href="https://scacr.org/index.php?option=com_co
 ntent&amp;view=article&amp;id=293:south-of-england-show-7-9-june-2018&amp;c
 atid=15">See the news article for more details</a>.</p><p>Spaces are still 
 available for ringers of all abilities to ring and talk about ringing at De
 wbys Bells mini-ring as part of the SCACR representation alongside the Dioc
 ese of Chichester this year.</p><p>No prior experience necessary – just an 
 enthusiasm for bell ringing and ability to chat!</p><p>Free admission is av
 ailable to anyone who can help – a few of hours ringing (10-1 and 1-4) and 
 the rest of the time available to visit the show. Under 16s gain free admis
 sion with an accompanying adult so we are pleased to provide admission for 
 families able to bring their young ringers on the Saturday.</p><p>Find out 
 more from Marisa via <span id="cloak33854d80225e053d4ae1052f6ff8f2c5">This 
 email address is being protected from spambots. You need JavaScript enabled
  to view it.</span><script type='text/javascript'>
				document.getElementB
 yId('cloak33854d80225e053d4ae1052f6ff8f2c5').innerHTML = '';
				var prefix
  = '&#109;a' + 'i&#108;' + '&#116;o';
				var path = 'hr' + 'ef' + '=';
			
 	var addy33854d80225e053d4ae1052f6ff8f2c5 = 'p&#117;bl&#105;c&#105;ty' + '&
 #64;';
				addy33854d80225e053d4ae1052f6ff8f2c5 = addy33854d80225e053d4ae10
 52f6ff8f2c5 + 'sc&#97;cr' + '&#46;' + '&#111;rg';
				var addy_text33854d80
 225e053d4ae1052f6ff8f2c5 = 'p&#117;bl&#105;c&#105;ty' + '&#64;' + 'sc&#97;c
 r' + '&#46;' + '&#111;rg';document.getElementById('cloak33854d80225e053d4ae
 1052f6ff8f2c5').innerHTML += '<a ' + path + '\'' + prefix + ':' + addy33854
 d80225e053d4ae1052f6ff8f2c5 + '\'>'+addy_text33854d80225e053d4ae1052f6ff8f2
 c5+'<\/a>';
		</script> (please state that you are happy to be contacted vi
 a email / telephone regarding the Show (Tel: 07796 145464).</p><p>@sussexbe
 lls @chichesterDio and @seas_org - use hashtags #southofenglandshow or #bel
 lringing</p><p>&nbsp;</p> <a href="https://scacr.org/news-events/calendar/3
 61/south-of-england-show-ardingly-7-9-june?tmpl=component">This event was i
 mported from: https://scacr.org/news-events/calendar/361/south-of-england-s
 how-ardingly-7-9-june?tmpl=component</a>CONTACT:This email address is being protected from spambots. You need JavaScript enabled to view it.
				document.getElementById('cloakd2122c71834efab77bcc8ab880ee9558').innerHTML = '';
				var prefix = '&#109;a' + 'i&#108;' + '&#116;o';
				var path = 'hr' + 'ef' + '=';
				var addyd2122c71834efab77bcc8ab880ee9558 = 'p&#117;bl&#105;c&#105;ty' + '&#64;';
				addyd2122c71834efab77bcc8ab880ee9558 = addyd2122c71834efab77bcc8ab880ee9558 + 'sc&#97;cr' + '&#46;' + '&#111;rg';
				var addy_textd2122c71834efab77bcc8ab880ee9558 = 'p&#117;bl&#105;c&#105;ty' + '&#64;' + 'sc&#97;cr' + '&#46;' + '&#111;rg';document.getElementById('cloakd2122c71834efab77bcc8ab880ee9558').innerHTML += '<a ' + path + '\'' + prefix + ':' + addyd2122c71834efab77bcc8ab880ee9558 + '\'>'+addy_textd2122c71834efab77bcc8ab880ee9558+'';
		 or This email address is being protected from spambots. You need JavaScript enabled to view it.
				document.getElementById('cloak62a8636dc790cb8785dcd4ba5b342655').innerHTML = '';
				var prefix = '&#109;a' + 'i&#108;' + '&#116;o';
				var path = 'hr' + 'ef' + '=';
				var addy62a8636dc790cb8785dcd4ba5b342655 = 'm&#97;r&#105;s&#97;' + '&#64;';
				addy62a8636dc790cb8785dcd4ba5b342655 = addy62a8636dc790cb8785dcd4ba5b342655 + 'h&#97;ppym&#111;&#117;fl&#111;n' + '&#46;' + 'c&#111;m';
				var addy_text62a8636dc790cb8785dcd4ba5b342655 = 'm&#97;r&#105;s&#97;' + '&#64;' + 'h&#97;ppym&#111;&#117;fl&#111;n' + '&#46;' + 'c&#111;m';document.getElementById('cloak62a8636dc790cb8785dcd4ba5b342655').innerHTML += '<a ' + path + '\'' + prefix + ':' + addy62a8636dc790cb8785dcd4ba5b342655 + '\'>'+addy_text62a8636dc790cb8785dcd4ba5b342655+'';
		 
DTSTAMP:20260419T232447
DTSTART;TZID=Europe/London:20180607T090000
DTEND;TZID=Europe/London:20180609T170000
SEQUENCE:0
TRANSP:OPAQUE
END:VEVENT
END:VCALENDAR