BEGIN:VCALENDAR
VERSION:2.0
PRODID:-//jEvents 2.0 for Joomla//EN
CALSCALE:GREGORIAN
METHOD:PUBLISH
BEGIN:VTIMEZONE
TZID:Europe/London
BEGIN:STANDARD
DTSTART:20170206T110000
RDATE:20170326T020000
TZOFFSETFROM:+0100
TZOFFSETTO:+0000
TZNAME:Europe/London GMT
END:STANDARD
BEGIN:STANDARD
DTSTART:20171029T010000
RDATE:20180325T020000
TZOFFSETFROM:+0100
TZOFFSETTO:+0000
TZNAME:Europe/London GMT
END:STANDARD
BEGIN:STANDARD
DTSTART:20181028T010000
RDATE:20190331T020000
TZOFFSETFROM:+0100
TZOFFSETTO:+0000
TZNAME:Europe/London GMT
END:STANDARD
BEGIN:STANDARD
DTSTART:20191027T010000
RDATE:20200329T020000
TZOFFSETFROM:+0100
TZOFFSETTO:+0000
TZNAME:Europe/London GMT
END:STANDARD
BEGIN:STANDARD
DTSTART:20201025T010000
RDATE:20210328T020000
TZOFFSETFROM:+0100
TZOFFSETTO:+0000
TZNAME:Europe/London GMT
END:STANDARD
BEGIN:STANDARD
DTSTART:20211031T010000
RDATE:20220327T020000
TZOFFSETFROM:+0100
TZOFFSETTO:+0000
TZNAME:Europe/London GMT
END:STANDARD
BEGIN:STANDARD
DTSTART:20221030T010000
RDATE:20230326T020000
TZOFFSETFROM:+0100
TZOFFSETTO:+0000
TZNAME:Europe/London GMT
END:STANDARD
BEGIN:STANDARD
DTSTART:20231029T010000
RDATE:20240331T020000
TZOFFSETFROM:+0100
TZOFFSETTO:+0000
TZNAME:Europe/London GMT
END:STANDARD
BEGIN:STANDARD
DTSTART:20241027T010000
RDATE:20250330T020000
TZOFFSETFROM:+0100
TZOFFSETTO:+0000
TZNAME:Europe/London GMT
END:STANDARD
BEGIN:STANDARD
DTSTART:20251026T010000
RDATE:20260329T020000
TZOFFSETFROM:+0100
TZOFFSETTO:+0000
TZNAME:Europe/London GMT
END:STANDARD
BEGIN:STANDARD
DTSTART:20261025T010000
RDATE:20270328T020000
TZOFFSETFROM:+0100
TZOFFSETTO:+0000
TZNAME:Europe/London GMT
END:STANDARD
BEGIN:STANDARD
DTSTART:20271031T010000
RDATE:20280326T020000
TZOFFSETFROM:+0100
TZOFFSETTO:+0000
TZNAME:Europe/London GMT
END:STANDARD
BEGIN:STANDARD
DTSTART:20281029T010000
RDATE:20290325T020000
TZOFFSETFROM:+0100
TZOFFSETTO:+0000
TZNAME:Europe/London GMT
END:STANDARD
BEGIN:STANDARD
DTSTART:20291028T010000
RDATE:20300331T020000
TZOFFSETFROM:+0100
TZOFFSETTO:+0000
TZNAME:Europe/London GMT
END:STANDARD
BEGIN:STANDARD
DTSTART:20301027T010000
RDATE:20310330T020000
TZOFFSETFROM:+0100
TZOFFSETTO:+0000
TZNAME:Europe/London GMT
END:STANDARD
BEGIN:DAYLIGHT
DTSTART:20170326T020000
RDATE:20171029T010000
TZOFFSETFROM:+0000
TZOFFSETTO:+0100
TZNAME:Europe/London BST
END:DAYLIGHT
BEGIN:DAYLIGHT
DTSTART:20180325T020000
RDATE:20181028T010000
TZOFFSETFROM:+0000
TZOFFSETTO:+0100
TZNAME:Europe/London BST
END:DAYLIGHT
BEGIN:DAYLIGHT
DTSTART:20190331T020000
RDATE:20191027T010000
TZOFFSETFROM:+0000
TZOFFSETTO:+0100
TZNAME:Europe/London BST
END:DAYLIGHT
BEGIN:DAYLIGHT
DTSTART:20200329T020000
RDATE:20201025T010000
TZOFFSETFROM:+0000
TZOFFSETTO:+0100
TZNAME:Europe/London BST
END:DAYLIGHT
BEGIN:DAYLIGHT
DTSTART:20210328T020000
RDATE:20211031T010000
TZOFFSETFROM:+0000
TZOFFSETTO:+0100
TZNAME:Europe/London BST
END:DAYLIGHT
BEGIN:DAYLIGHT
DTSTART:20220327T020000
RDATE:20221030T010000
TZOFFSETFROM:+0000
TZOFFSETTO:+0100
TZNAME:Europe/London BST
END:DAYLIGHT
BEGIN:DAYLIGHT
DTSTART:20230326T020000
RDATE:20231029T010000
TZOFFSETFROM:+0000
TZOFFSETTO:+0100
TZNAME:Europe/London BST
END:DAYLIGHT
BEGIN:DAYLIGHT
DTSTART:20240331T020000
RDATE:20241027T010000
TZOFFSETFROM:+0000
TZOFFSETTO:+0100
TZNAME:Europe/London BST
END:DAYLIGHT
BEGIN:DAYLIGHT
DTSTART:20250330T020000
RDATE:20251026T010000
TZOFFSETFROM:+0000
TZOFFSETTO:+0100
TZNAME:Europe/London BST
END:DAYLIGHT
BEGIN:DAYLIGHT
DTSTART:20260329T020000
RDATE:20261025T010000
TZOFFSETFROM:+0000
TZOFFSETTO:+0100
TZNAME:Europe/London BST
END:DAYLIGHT
BEGIN:DAYLIGHT
DTSTART:20270328T020000
RDATE:20271031T010000
TZOFFSETFROM:+0000
TZOFFSETTO:+0100
TZNAME:Europe/London BST
END:DAYLIGHT
BEGIN:DAYLIGHT
DTSTART:20280326T020000
RDATE:20281029T010000
TZOFFSETFROM:+0000
TZOFFSETTO:+0100
TZNAME:Europe/London BST
END:DAYLIGHT
BEGIN:DAYLIGHT
DTSTART:20290325T020000
RDATE:20291028T010000
TZOFFSETFROM:+0000
TZOFFSETTO:+0100
TZNAME:Europe/London BST
END:DAYLIGHT
BEGIN:DAYLIGHT
DTSTART:20300331T020000
RDATE:20301027T010000
TZOFFSETFROM:+0000
TZOFFSETTO:+0100
TZNAME:Europe/London BST
END:DAYLIGHT
END:VTIMEZONE
BEGIN:VEVENT
UID:6f9fad9000798542a90a298ec08991cd
CATEGORIES:Other Event
CREATED:20180204T182712
SUMMARY:Codgers
LOCATION:Heene/West Tarring
URL;VALUE=URI:https://scacr.org/news-events/calendar/364/codgers?tmpl=component
DESCRIPTION:<table style="height: 107px; width: 709px;"><tbody><tr><td style="width: 13
 %;"><p><a href="http://dove.cccbr.org.uk/detail.php?searchString=heene&amp;
 numPerPage=10&amp;Submit=Go&amp;searchAmount=%3D&amp;searchMetric=cwt&amp;s
 ortBy=Place&amp;sortDir=Asc&amp;DoveID=WORTHING">Heene</a></p></td><td styl
 e="width: 47%;"><p>S Botolph, Heene (T), 8, 10¼cwt (~520kg) in G.</p></td><
 td style="width: 24%;"><p>11.00am – 12.30pm</p></td></tr><tr><td style="wid
 th: 14%;">W<a href="http://dove.cccbr.org.uk/detail.php?DoveID=WEST%20TARRI
 ">est Tarring</a></td><td style="width: 13%;">S Andrew, 6, 8-3-26 (456kg) i
 n G#.<p>&nbsp;</p></td><td style="width: 47%;"><p>2.15pm – 3.30pm</p></td><
 td style="width: 24%;">&nbsp;</td></tr></tbody></table><p>The pub is:<br />
 <a href="http://www.george-n-dragon.co.uk/">George and Dragon<br /></a><spa
 n style="color: #000000;"><a href="http://www.george-n-dragon.co.uk/">1 Hig
 h Street,<br /></a></span>Tarring,<br />Worthing,<br />West Sussex, BN14 7N
 N</p><p>Tel: 01903 202497</p><p>E-mail: <span id="cloaka5a8b2cdb5027108fbbb
 9e208888337d">This email address is being protected from spambots. You need
  JavaScript enabled to view it.</span><script type='text/javascript'>
				d
 ocument.getElementById('cloaka5a8b2cdb5027108fbbb9e208888337d').innerHTML =
  '';
				var prefix = '&#109;a' + 'i&#108;' + '&#116;o';
				var path = 'hr
 ' + 'ef' + '=';
				var addya5a8b2cdb5027108fbbb9e208888337d = 'p&#117;b' +
  '&#64;';
				addya5a8b2cdb5027108fbbb9e208888337d = addya5a8b2cdb5027108fb
 bb9e208888337d + 'g&#101;&#111;rg&#101;-n-dr&#97;g&#111;n' + '&#46;' + 'c&#
 111;&#117;k';
				var addy_texta5a8b2cdb5027108fbbb9e208888337d = 'p&#117;b
 ' + '&#64;' + 'g&#101;&#111;rg&#101;-n-dr&#97;g&#111;n' + '&#46;' + 'c&#111
 ;' + '&#46;' + '&#117;k';document.getElementById('cloaka5a8b2cdb5027108fbbb
 9e208888337d').innerHTML += '<a ' + path + '\'' + prefix + ':' + addya5a8b2
 cdb5027108fbbb9e208888337d + '\'>'+addy_texta5a8b2cdb5027108fbbb9e208888337
 d+'<\/a>';
		</script></p> <a href="https://scacr.org/news-events/calendar/
 364/codgers?tmpl=component">This event was imported from: https://scacr.org
 /news-events/calendar/364/codgers?tmpl=component</a>CONTACT:Mike Foster at This email address is being protected from spambots. You need JavaScript enabled to view it.
				document.getElementById('cloak9cb6ddd329fc08de467be7a9daa55cb7').innerHTML = '';
				var prefix = '&#109;a' + 'i&#108;' + '&#116;o';
				var path = 'hr' + 'ef' + '=';
				var addy9cb6ddd329fc08de467be7a9daa55cb7 = 'c&#111;dg&#101;rs' + '&#64;';
				addy9cb6ddd329fc08de467be7a9daa55cb7 = addy9cb6ddd329fc08de467be7a9daa55cb7 + 'sc&#97;cr' + '&#46;' + '&#111;rg';
				var addy_text9cb6ddd329fc08de467be7a9daa55cb7 = 'c&#111;dg&#101;rs' + '&#64;' + 'sc&#97;cr' + '&#46;' + '&#111;rg';document.getElementById('cloak9cb6ddd329fc08de467be7a9daa55cb7').innerHTML += '<a ' + path + '\'' + prefix + ':' + addy9cb6ddd329fc08de467be7a9daa55cb7 + '\'>'+addy_text9cb6ddd329fc08de467be7a9daa55cb7+'';
		
DTSTAMP:20260420T121453
DTSTART;TZID=Europe/London:20180207T110000
DTEND;TZID=Europe/London:20180207T153000
SEQUENCE:0
TRANSP:OPAQUE
END:VEVENT
END:VCALENDAR